Workbook
Name access_road: [1]Roads!$A$3:$E$507
Name Access_tpy: [1]Allocation!$B$74:$I$76
Name EI: [2]EI!$A$4:$AI$46
Name Fug_emis: [3]Allocation!$B$187:$I$269
Name Insig: [2]Insig.!$A$4:$AF$10
Name Insig_pph: [1]Insig.!$B$28:$M$38
Name Insig_tpy: [1]Insig.!$B$12:$M$22
Name MDL_CTL: #REF!
Name Mod_Ctrl: [5]ModelControl!$A$24:$AA$235
Name N_haul: [3]Allocation!$C$280:$L$2767
Name N_Insig_pph: '[3]N. Insig'!$S$12:$AD$42
Name N_Insig_tpy: '[3]N. Insig'!$B$12:$M$42
Name N_proc_pph_1: '[3]N. Process'!$AJ$11:$AU$41
Name N_proc_pph_2: '[3]N. Process'!$BA$11:$BL$40
Name N_proc_tpy_1: '[3]N. Process'!$B$11:$M$41
Name N_proc_tpy_2: '[3]N. Process'!$S$11:$AD$40
Name proc_pph: [1]Process!$S$10:$AD$62
Name proc_tpy: [1]Process!$B$10:$M$62
Name Road_emis: [5]Allocation!$B$160:$I$703
Name road_tpy: [1]Allocation!$B$93:$I$378
Name Roads: '[1]Road Allocation'!$B$10:$N$594
Name S_haul: [3]Allocation!$O$280:$X$915
Name S_Insig_pph: '[3]S. Insig'!$B$39:$M$60
Name S_Insig_tpy: '[3]S. Insig'!$B$12:$M$33
Name S_proc_pph: '[3]S. Process'!$S$12:$AD$45
Name S_proc_tpy: '[3]S. Process'!$B$12:$M$45
Name UG_PPH: '[5]UG Equip'!$B$32:$K$51
Name UG_TPY: '[5]UG Equip'!$B$11:$K$30

Sheet Table
F3: Steady State | G3: Steady State | H3: Start-up
E4: Metal | F4: Emissions | G4: Emissions | H4: Emissions | K4: Chronic Residential Target Organ Fraction for Steady State Operations
C5: CAS | D5: Pollutant | F5: (lb/yr) | G5: (lb/day) | H5: (lb/day) | K5: CAS | L5: Pollutant | M5: E (lb/yr) | N5: RBC | O5: E/RBC | P5: ='Target Organ'!C2 -> Kidney | Q5: ='Target Organ'!D2 -> Liver | R5: ='Target Organ'!E2 -> Blood | S5: ='Target Organ'!F2 -> Endo | T5: ='Target Organ'!G2 -> Musc | U5: ='Target Organ'!H2 -> Eyes | V5: ='Target Organ'!I2 -> Skin | W5: ='Target Organ'!J2 -> Nerv | ... AB5: ='Target Organ'!O2 -> Develop
A6: 1 | B6: 1 | C6: 75-07-0 | D6: Acetaldehyde | E6: - | F6: 1011.23 | G6: 2.77049 | H6: 1.02577 | J6: =MATCH(K6,'Target Organ'!A$3:A$186,0) -> 1 | K6: =C6 -> 75-07-0 | L6: =D6 -> Acetaldehyde | M6: =F6 -> 1011.23 | N6: 140 | O6: =IF(LEN(N6)>0,M6/N6,0) -> 7.2230714 | P6: {=IF(ISNA($J6),0,IF(INDEX('Target Organ'!C$3:C$186,$J6)="X",1,0))} -> 0 | Q6: {=IF(ISNA($J6),0,IF(INDEX('Target Organ'!D$3:D$186,$J6)="X",1,0))} -> 0 | R6: {=IF(ISNA($J6),0,IF(INDEX('Target Organ'!E$3:E$186,$J6)="X",1,0))} -> 0 | S6: {=IF(ISNA($J6),0,IF(INDEX('Target Organ'!F$3:F$186,$J6)="X",1,0))} -> 0 | T6: {=IF(ISNA($J6),0,IF(INDEX('Target Organ'!G$3:G$186,$J6)="X",1,0))} -> 0 | U6: {=IF(ISNA($J6),0,IF(INDEX('Target Organ'!H$3:H$186,$J6)="X",1,0))} -> 0 | V6: {=IF(ISNA($J6),0,IF(INDEX('Target Organ'!I$3:I$186,$J6)="X",1,0))} -> 0 | W6: {=IF(ISNA($J6),0,IF(INDEX('Target Organ'!J$3:J$186,$J6)="X",1,0))} -> 0 | ... AB6: {=IF(ISNA($J6),0,IF(INDEX('Target Organ'!O$3:O$186,$J6)="X",1,0))} -> 0 | AF6: Steady State Operation | AH6: Start-up
A7: =A6+1 -> 2 | B7: 3 | C7: 67-64-1 | D7: Acetone | E7: - | F7: 3677.73 | G7: 10.076 | H7: 3.7306 | J7: =MATCH(K7,'Target Organ'!A$3:A$186,0) -> 2 | K7: =C7 -> 67-64-1 | L7: =D7 -> Acetone | M7: =F7 -> 3677.73 | N7: 31000 | O7: =IF(LEN(N7)>0,M7/N7,0) -> 0.11863645 | P7: {=IF(ISNA($J7),0,IF(INDEX('Target Organ'!C$3:C$186,$J7)="X",1,0))} -> 0 | Q7: {=IF(ISNA($J7),0,IF(INDEX('Target Organ'!D$3:D$186,$J7)="X",1,0))} -> 0 | R7: {=IF(ISNA($J7),0,IF(INDEX('Target Organ'!E$3:E$186,$J7)="X",1,0))} -> 0 | S7: {=IF(ISNA($J7),0,IF(INDEX('Target Organ'!F$3:F$186,$J7)="X",1,0))} -> 0 | T7: {=IF(ISNA($J7),0,IF(INDEX('Target Organ'!G$3:G$186,$J7)="X",1,0))} -> 0 | U7: {=IF(ISNA($J7),0,IF(INDEX('Target Organ'!H$3:H$186,$J7)="X",1,0))} -> 0 | V7: {=IF(ISNA($J7),0,IF(INDEX('Target Organ'!I$3:I$186,$J7)="X",1,0))} -> 0 | W7: {=IF(ISNA($J7),0,IF(INDEX('Target Organ'!J$3:J$186,$J7)="X",1,0))} -> 1 | ... AB7: {=IF(ISNA($J7),0,IF(INDEX('Target Organ'!O$3:O$186,$J7)="X",1,0))} -> 0 | AE7: Exposure Scenario | AF7: Factor | AG7: Target Organ | AH7: Factor | AI7: Target Organ
A8: =A7+1 -> 3 | B8: 5 | C8: 107-02-8 | D8: Acrolein | E8: - | F8: 323.418 | G8: 0.886078 | H8: 0.328068 | J8: =MATCH(K8,'Target Organ'!A$3:A$186,0) -> 4 | K8: =C8 -> 107-02-8 | L8: =D8 -> Acrolein | M8: =F8 -> 323.418 | N8: 0.35 | O8: =IF(LEN(N8)>0,M8/N8,0) -> 924.05143 | P8: {=IF(ISNA($J8),0,IF(INDEX('Target Organ'!C$3:C$186,$J8)="X",1,0))} -> 0 | Q8: {=IF(ISNA($J8),0,IF(INDEX('Target Organ'!D$3:D$186,$J8)="X",1,0))} -> 0 | R8: {=IF(ISNA($J8),0,IF(INDEX('Target Organ'!E$3:E$186,$J8)="X",1,0))} -> 0 | S8: {=IF(ISNA($J8),0,IF(INDEX('Target Organ'!F$3:F$186,$J8)="X",1,0))} -> 0 | T8: {=IF(ISNA($J8),0,IF(INDEX('Target Organ'!G$3:G$186,$J8)="X",1,0))} -> 0 | U8: {=IF(ISNA($J8),0,IF(INDEX('Target Organ'!H$3:H$186,$J8)="X",1,0))} -> 0 | V8: {=IF(ISNA($J8),0,IF(INDEX('Target Organ'!I$3:I$186,$J8)="X",1,0))} -> 0 | W8: {=IF(ISNA($J8),0,IF(INDEX('Target Organ'!J$3:J$186,$J8)="X",1,0))} -> 0 | ... AB8: {=IF(ISNA($J8),0,IF(INDEX('Target Organ'!O$3:O$186,$J8)="X",1,0))} -> 0 | AE8: Chronic Residential | AF8: =MAX(P89:AB89) -> 0.66267338 | AG8: =INDEX(P$5:AB$5,MATCH(AF8,P89:AB89,0)) -> Nerv | AH8: NA
A9: =A8+1 -> 4 | B9: 12 | C9: 7664-41-7 | D9: Ammonia | E9: - | F9: 21355.5 | G9: 58.5084 | H9: 21.6625 | J9: =MATCH(K9,'Target Organ'!A$3:A$186,0) -> 10 | K9: =C9 -> 7664-41-7 | L9: =D9 -> Ammonia | M9: =F9 -> 21355.5 | N9: 500 | O9: =IF(LEN(N9)>0,M9/N9,0) -> 42.711 | P9: {=IF(ISNA($J9),0,IF(INDEX('Target Organ'!C$3:C$186,$J9)="X",1,0))} -> 0 | Q9: {=IF(ISNA($J9),0,IF(INDEX('Target Organ'!D$3:D$186,$J9)="X",1,0))} -> 0 | R9: {=IF(ISNA($J9),0,IF(INDEX('Target Organ'!E$3:E$186,$J9)="X",1,0))} -> 0 | S9: {=IF(ISNA($J9),0,IF(INDEX('Target Organ'!F$3:F$186,$J9)="X",1,0))} -> 0 | T9: {=IF(ISNA($J9),0,IF(INDEX('Target Organ'!G$3:G$186,$J9)="X",1,0))} -> 0 | U9: {=IF(ISNA($J9),0,IF(INDEX('Target Organ'!H$3:H$186,$J9)="X",1,0))} -> 0 | V9: {=IF(ISNA($J9),0,IF(INDEX('Target Organ'!I$3:I$186,$J9)="X",1,0))} -> 0 | W9: {=IF(ISNA($J9),0,IF(INDEX('Target Organ'!J$3:J$186,$J9)="X",1,0))} -> 0 | ... AB9: {=IF(ISNA($J9),0,IF(INDEX('Target Organ'!O$3:O$186,$J9)="X",1,0))} -> 0 | AE9: Chronic Child | AF9: =MAX(P175:AB175) -> 0.52827372 | AG9: =INDEX(P$5:AB$5,MATCH(AF9,P175:AB175,0)) -> Resp | AH9: NA
A10: =A9+1 -> 5 | B10: 14 | C10: 7440-36-0 | D10: Antimony and compounds | E10: Yes | F10: 0.933339 | G10: 0.00255709 | H10: 0.00237625 | J10: =MATCH(K10,'Target Organ'!A$3:A$186,0) -> 12 | K10: =C10 -> 7440-36-0 | L10: =D10 -> Antimony and compounds | M10: =F10 -> 0.933339 | N10: 0.3 | O10: =IF(LEN(N10)>0,M10/N10,0) -> 3.11113 | P10: {=IF(ISNA($J10),0,IF(INDEX('Target Organ'!C$3:C$186,$J10)="X",1,0))} -> 0 | Q10: {=IF(ISNA($J10),0,IF(INDEX('Target Organ'!D$3:D$186,$J10)="X",1,0))} -> 0 | R10: {=IF(ISNA($J10),0,IF(INDEX('Target Organ'!E$3:E$186,$J10)="X",1,0))} -> 0 | S10: {=IF(ISNA($J10),0,IF(INDEX('Target Organ'!F$3:F$186,$J10)="X",1,0))} -> 0 | T10: {=IF(ISNA($J10),0,IF(INDEX('Target Organ'!G$3:G$186,$J10)="X",1,0))} -> 0 | U10: {=IF(ISNA($J10),0,IF(INDEX('Target Organ'!H$3:H$186,$J10)="X",1,0))} -> 0 | V10: {=IF(ISNA($J10),0,IF(INDEX('Target Organ'!I$3:I$186,$J10)="X",1,0))} -> 0 | W10: {=IF(ISNA($J10),0,IF(INDEX('Target Organ'!J$3:J$186,$J10)="X",1,0))} -> 0 | ... AB10: {=IF(ISNA($J10),0,IF(INDEX('Target Organ'!O$3:O$186,$J10)="X",1,0))} -> 0 | AE10: Chronic Worker | AF10: =AF9 -> 0.52827372 | AG10: =AG9 -> Resp | AH10: NA
A11: =A10+1 -> 6 | B11: 16 | C11: 7440-38-2 | D11: Arsenic and compounds | E11: Yes | F11: 5.81019 | G11: 0.0159183 | H11: 0.00860201 | J11: =MATCH(K11,'Target Organ'!A$3:A$186,0) -> 13 | K11: =C11 -> 7440-38-2 | L11: =D11 -> Arsenic and compounds | M11: =F11 -> 5.81019 | N11: 0.00017 | O11: =IF(LEN(N11)>0,M11/N11,0) -> 34177.588 | P11: {=IF(ISNA($J11),0,IF(INDEX('Target Organ'!C$3:C$186,$J11)="X",1,0))} -> 0 | Q11: {=IF(ISNA($J11),0,IF(INDEX('Target Organ'!D$3:D$186,$J11)="X",1,0))} -> 0 | R11: {=IF(ISNA($J11),0,IF(INDEX('Target Organ'!E$3:E$186,$J11)="X",1,0))} -> 0 | S11: {=IF(ISNA($J11),0,IF(INDEX('Target Organ'!F$3:F$186,$J11)="X",1,0))} -> 0 | T11: {=IF(ISNA($J11),0,IF(INDEX('Target Organ'!G$3:G$186,$J11)="X",1,0))} -> 0 | U11: {=IF(ISNA($J11),0,IF(INDEX('Target Organ'!H$3:H$186,$J11)="X",1,0))} -> 0 | V11: {=IF(ISNA($J11),0,IF(INDEX('Target Organ'!I$3:I$186,$J11)="X",1,0))} -> 0 | W11: {=IF(ISNA($J11),0,IF(INDEX('Target Organ'!J$3:J$186,$J11)="X",1,0))} -> 1 | ... AB11: {=IF(ISNA($J11),0,IF(INDEX('Target Organ'!O$3:O$186,$J11)="X",1,0))} -> 0 | AE11: Acute | AF11: =MAX($P261:$AB261) -> 0.64276497 | AG11: =INDEX($P$5:$AB$5,MATCH(AF11,$P261:$AB261,0)) -> Nerv | AH11: =MAX($P347:$AB347) -> 0.87837455 | AI11: =INDEX($P$5:$AB$5,MATCH(AH11,$P347:$AB347,0)) -> Nerv
A12: =A11+1 -> 7 | B12: 20 | C12: 71-43-2 | D12: Benzene | E12: - | F12: 3028.72 | G12: 8.29786 | H12: 3.07226 | J12: =MATCH(K12,'Target Organ'!A$3:A$186,0) -> 15 | K12: =C12 -> 71-43-2 | L12: =D12 -> Benzene | M12: =F12 -> 3028.72 | N12: 3 | O12: =IF(LEN(N12)>0,M12/N12,0) -> 1009.5733 | P12: {=IF(ISNA($J12),0,IF(INDEX('Target Organ'!C$3:C$186,$J12)="X",1,0))} -> 0 | Q12: {=IF(ISNA($J12),0,IF(INDEX('Target Organ'!D$3:D$186,$J12)="X",1,0))} -> 0 | R12: {=IF(ISNA($J12),0,IF(INDEX('Target Organ'!E$3:E$186,$J12)="X",1,0))} -> 1 | S12: {=IF(ISNA($J12),0,IF(INDEX('Target Organ'!F$3:F$186,$J12)="X",1,0))} -> 0 | T12: {=IF(ISNA($J12),0,IF(INDEX('Target Organ'!G$3:G$186,$J12)="X",1,0))} -> 0 | U12: {=IF(ISNA($J12),0,IF(INDEX('Target Organ'!H$3:H$186,$J12)="X",1,0))} -> 0 | V12: {=IF(ISNA($J12),0,IF(INDEX('Target Organ'!I$3:I$186,$J12)="X",1,0))} -> 0 | W12: {=IF(ISNA($J12),0,IF(INDEX('Target Organ'!J$3:J$186,$J12)="X",1,0))} -> 0 | ... AB12: {=IF(ISNA($J12),0,IF(INDEX('Target Organ'!O$3:O$186,$J12)="X",1,0))} -> 0
A13: =A12+1 -> 8 | B13: 23 | C13: 7440-41-7 | D13: Beryllium and compounds | E13: Yes | F13: 0.0930249 | G13: 0.000254863 | H13: 0.000147255 | J13: =MATCH(K13,'Target Organ'!A$3:A$186,0) -> 17 | K13: =C13 -> 7440-41-7 | L13: =D13 -> Beryllium and compounds | M13: =F13 -> 0.0930249 | N13: 0.007 | O13: =IF(LEN(N13)>0,M13/N13,0) -> 13.289271 | P13: {=IF(ISNA($J13),0,IF(INDEX('Target Organ'!C$3:C$186,$J13)="X",1,0))} -> 0 | Q13: {=IF(ISNA($J13),0,IF(INDEX('Target Organ'!D$3:D$186,$J13)="X",1,0))} -> 0 | R13: {=IF(ISNA($J13),0,IF(INDEX('Target Organ'!E$3:E$186,$J13)="X",1,0))} -> 0 | S13: {=IF(ISNA($J13),0,IF(INDEX('Target Organ'!F$3:F$186,$J13)="X",1,0))} -> 0 | T13: {=IF(ISNA($J13),0,IF(INDEX('Target Organ'!G$3:G$186,$J13)="X",1,0))} -> 0 | U13: {=IF(ISNA($J13),0,IF(INDEX('Target Organ'!H$3:H$186,$J13)="X",1,0))} -> 0 | V13: {=IF(ISNA($J13),0,IF(INDEX('Target Organ'!I$3:I$186,$J13)="X",1,0))} -> 0 | W13: {=IF(ISNA($J13),0,IF(INDEX('Target Organ'!J$3:J$186,$J13)="X",1,0))} -> 0 | ... AB13: {=IF(ISNA($J13),0,IF(INDEX('Target Organ'!O$3:O$186,$J13)="X",1,0))} -> 0
A14: =A13+1 -> 9 | B14: 26 | C14: 117-81-7 | D14: Bis(2-ethylhexyl) phthalate (DEHP) | E14: - | F14: 0.14371 | G14: 0.000393725 | H14: 0.000145775 | J14: =MATCH(K14,'Target Organ'!A$3:A$186,0) -> #N/A | K14: =C14 -> 117-81-7 | L14: =D14 -> Bis(2-ethylhexyl) phthalate (DEHP) | M14: =F14 -> 0.14371 | O14: =IF(LEN(N14)>0,M14/N14,0) -> 0 | P14: {=IF(ISNA($J14),0,IF(INDEX('Target Organ'!C$3:C$186,$J14)="X",1,0))} -> 0 | Q14: {=IF(ISNA($J14),0,IF(INDEX('Target Organ'!D$3:D$186,$J14)="X",1,0))} -> 0 | R14: {=IF(ISNA($J14),0,IF(INDEX('Target Organ'!E$3:E$186,$J14)="X",1,0))} -> 0 | S14: {=IF(ISNA($J14),0,IF(INDEX('Target Organ'!F$3:F$186,$J14)="X",1,0))} -> 0 | T14: {=IF(ISNA($J14),0,IF(INDEX('Target Organ'!G$3:G$186,$J14)="X",1,0))} -> 0 | U14: {=IF(ISNA($J14),0,IF(INDEX('Target Organ'!H$3:H$186,$J14)="X",1,0))} -> 0 | V14: {=IF(ISNA($J14),0,IF(INDEX('Target Organ'!I$3:I$186,$J14)="X",1,0))} -> 0 | W14: {=IF(ISNA($J14),0,IF(INDEX('Target Organ'!J$3:J$186,$J14)="X",1,0))} -> 0 | ... AB14: {=IF(ISNA($J14),0,IF(INDEX('Target Organ'!O$3:O$186,$J14)="X",1,0))} -> 0
A15: =A14+1 -> 10 | B15: 28 | C15: 74-83-9 | D15: Bromomethane (Methyl bromide) | E15: - | F15: 35.0775 | G15: 0.0961027 | H15: 0.0355817 | J15: =MATCH(K15,'Target Organ'!A$3:A$186,0) -> 20 | K15: =C15 -> 74-83-9 | L15: =D15 -> Bromomethane (Methyl bromide) | M15: =F15 -> 35.0775 | N15: 5 | O15: =IF(LEN(N15)>0,M15/N15,0) -> 7.0155 | P15: {=IF(ISNA($J15),0,IF(INDEX('Target Organ'!C$3:C$186,$J15)="X",1,0))} -> 0 | Q15: {=IF(ISNA($J15),0,IF(INDEX('Target Organ'!D$3:D$186,$J15)="X",1,0))} -> 0 | R15: {=IF(ISNA($J15),0,IF(INDEX('Target Organ'!E$3:E$186,$J15)="X",1,0))} -> 0 | S15: {=IF(ISNA($J15),0,IF(INDEX('Target Organ'!F$3:F$186,$J15)="X",1,0))} -> 0 | T15: {=IF(ISNA($J15),0,IF(INDEX('Target Organ'!G$3:G$186,$J15)="X",1,0))} -> 0 | U15: {=IF(ISNA($J15),0,IF(INDEX('Target Organ'!H$3:H$186,$J15)="X",1,0))} -> 0 | V15: {=IF(ISNA($J15),0,IF(INDEX('Target Organ'!I$3:I$186,$J15)="X",1,0))} -> 0 | W15: {=IF(ISNA($J15),0,IF(INDEX('Target Organ'!J$3:J$186,$J15)="X",1,0))} -> 0 | ... AB15: {=IF(ISNA($J15),0,IF(INDEX('Target Organ'!O$3:O$186,$J15)="X",1,0))} -> 0
A16: =A15+1 -> 11 | B16: 31 | C16: 78-93-3 | D16: 2-Butanone (Methyl ethyl ketone) | E16: - | F16: 48.2122 | G16: 0.132088 | H16: 0.0489053 | J16: =MATCH(K16,'Target Organ'!A$3:A$186,0) -> 23 | K16: =C16 -> 78-93-3 | L16: =D16 -> 2-Butanone (Methyl ethyl ketone) | M16: =F16 -> 48.2122 | N16: 5000 | O16: =IF(LEN(N16)>0,M16/N16,0) -> 0.00964244 | P16: {=IF(ISNA($J16),0,IF(INDEX('Target Organ'!C$3:C$186,$J16)="X",1,0))} -> 0 | Q16: {=IF(ISNA($J16),0,IF(INDEX('Target Organ'!D$3:D$186,$J16)="X",1,0))} -> 0 | R16: {=IF(ISNA($J16),0,IF(INDEX('Target Organ'!E$3:E$186,$J16)="X",1,0))} -> 0 | S16: {=IF(ISNA($J16),0,IF(INDEX('Target Organ'!F$3:F$186,$J16)="X",1,0))} -> 0 | T16: {=IF(ISNA($J16),0,IF(INDEX('Target Organ'!G$3:G$186,$J16)="X",1,0))} -> 0 | U16: {=IF(ISNA($J16),0,IF(INDEX('Target Organ'!H$3:H$186,$J16)="X",1,0))} -> 0 | V16: {=IF(ISNA($J16),0,IF(INDEX('Target Organ'!I$3:I$186,$J16)="X",1,0))} -> 0 | W16: {=IF(ISNA($J16),0,IF(INDEX('Target Organ'!J$3:J$186,$J16)="X",1,0))} -> 0 | ... AB16: {=IF(ISNA($J16),0,IF(INDEX('Target Organ'!O$3:O$186,$J16)="X",1,0))} -> 1
A17: =A16+1 -> 12 | B17: 33 | C17: 7440-43-9 | D17: Cadmium and compounds | E17: Yes | F17: 1.13091 | G17: 0.00309838 | H17: 0.00350137 | J17: =MATCH(K17,'Target Organ'!A$3:A$186,0) -> 25 | K17: =C17 -> 7440-43-9 | L17: =D17 -> Cadmium and compounds | M17: =F17 -> 1.13091 | N17: 0.005 | O17: =IF(LEN(N17)>0,M17/N17,0) -> 226.182 | P17: {=IF(ISNA($J17),0,IF(INDEX('Target Organ'!C$3:C$186,$J17)="X",1,0))} -> 1 | Q17: {=IF(ISNA($J17),0,IF(INDEX('Target Organ'!D$3:D$186,$J17)="X",1,0))} -> 0 | R17: {=IF(ISNA($J17),0,IF(INDEX('Target Organ'!E$3:E$186,$J17)="X",1,0))} -> 0 | S17: {=IF(ISNA($J17),0,IF(INDEX('Target Organ'!F$3:F$186,$J17)="X",1,0))} -> 0 | T17: {=IF(ISNA($J17),0,IF(INDEX('Target Organ'!G$3:G$186,$J17)="X",1,0))} -> 0 | U17: {=IF(ISNA($J17),0,IF(INDEX('Target Organ'!H$3:H$186,$J17)="X",1,0))} -> 0 | V17: {=IF(ISNA($J17),0,IF(INDEX('Target Organ'!I$3:I$186,$J17)="X",1,0))} -> 0 | W17: {=IF(ISNA($J17),0,IF(INDEX('Target Organ'!J$3:J$186,$J17)="X",1,0))} -> 0 | ... AB17: {=IF(ISNA($J17),0,IF(INDEX('Target Organ'!O$3:O$186,$J17)="X",1,0))} -> 0
A18: =A17+1 -> 13 | B18: 35 | C18: 75-15-0 | D18: Carbon disulfide | E18: - | F18: 386.929 | G18: 1.06008 | H18: 0.392491 | J18: =MATCH(K18,'Target Organ'!A$3:A$186,0) -> 27 | K18: =C18 -> 75-15-0 | L18: =D18 -> Carbon disulfide | M18: =F18 -> 386.929 | N18: 800 | O18: =IF(LEN(N18)>0,M18/N18,0) -> 0.48366125 | P18: {=IF(ISNA($J18),0,IF(INDEX('Target Organ'!C$3:C$186,$J18)="X",1,0))} -> 0 | Q18: {=IF(ISNA($J18),0,IF(INDEX('Target Organ'!D$3:D$186,$J18)="X",1,0))} -> 0 | R18: {=IF(ISNA($J18),0,IF(INDEX('Target Organ'!E$3:E$186,$J18)="X",1,0))} -> 0 | S18: {=IF(ISNA($J18),0,IF(INDEX('Target Organ'!F$3:F$186,$J18)="X",1,0))} -> 0 | T18: {=IF(ISNA($J18),0,IF(INDEX('Target Organ'!G$3:G$186,$J18)="X",1,0))} -> 0 | U18: {=IF(ISNA($J18),0,IF(INDEX('Target Organ'!H$3:H$186,$J18)="X",1,0))} -> 0 | V18: {=IF(ISNA($J18),0,IF(INDEX('Target Organ'!I$3:I$186,$J18)="X",1,0))} -> 0 | W18: {=IF(ISNA($J18),0,IF(INDEX('Target Organ'!J$3:J$186,$J18)="X",1,0))} -> 1 | ... AB18: {=IF(ISNA($J18),0,IF(INDEX('Target Organ'!O$3:O$186,$J18)="X",1,0))} -> 0
A19: =A18+1 -> 14 | B19: 36 | C19: 56-23-5 | D19: Carbon tetrachloride | E19: - | F19: 62.1196 | G19: 0.170191 | H19: 0.0630126 | J19: =MATCH(K19,'Target Organ'!A$3:A$186,0) -> 28 | K19: =C19 -> 56-23-5 | L19: =D19 -> Carbon tetrachloride | M19: =F19 -> 62.1196 | N19: 100 | O19: =IF(LEN(N19)>0,M19/N19,0) -> 0.621196 | P19: {=IF(ISNA($J19),0,IF(INDEX('Target Organ'!C$3:C$186,$J19)="X",1,0))} -> 0 | Q19: {=IF(ISNA($J19),0,IF(INDEX('Target Organ'!D$3:D$186,$J19)="X",1,0))} -> 1 | R19: {=IF(ISNA($J19),0,IF(INDEX('Target Organ'!E$3:E$186,$J19)="X",1,0))} -> 0 | S19: {=IF(ISNA($J19),0,IF(INDEX('Target Organ'!F$3:F$186,$J19)="X",1,0))} -> 0 | T19: {=IF(ISNA($J19),0,IF(INDEX('Target Organ'!G$3:G$186,$J19)="X",1,0))} -> 0 | U19: {=IF(ISNA($J19),0,IF(INDEX('Target Organ'!H$3:H$186,$J19)="X",1,0))} -> 0 | V19: {=IF(ISNA($J19),0,IF(INDEX('Target Organ'!I$3:I$186,$J19)="X",1,0))} -> 0 | W19: {=IF(ISNA($J19),0,IF(INDEX('Target Organ'!J$3:J$186,$J19)="X",1,0))} -> 0 | ... AB19: {=IF(ISNA($J19),0,IF(INDEX('Target Organ'!O$3:O$186,$J19)="X",1,0))} -> 0
A20: =A19+1 -> 15 | B20: 40 | C20: 7782-50-5 | D20: Chlorine | E20: - | F20: 2261.26 | G20: 6.19522 | H20: 2.29376 | J20: =MATCH(K20,'Target Organ'!A$3:A$186,0) -> 31 | K20: =C20 -> 7782-50-5 | L20: =D20 -> Chlorine | M20: =F20 -> 2261.26 | N20: 0.15 | O20: =IF(LEN(N20)>0,M20/N20,0) -> 15075.067 | P20: {=IF(ISNA($J20),0,IF(INDEX('Target Organ'!C$3:C$186,$J20)="X",1,0))} -> 0 | Q20: {=IF(ISNA($J20),0,IF(INDEX('Target Organ'!D$3:D$186,$J20)="X",1,0))} -> 0 | R20: {=IF(ISNA($J20),0,IF(INDEX('Target Organ'!E$3:E$186,$J20)="X",1,0))} -> 0 | S20: {=IF(ISNA($J20),0,IF(INDEX('Target Organ'!F$3:F$186,$J20)="X",1,0))} -> 0 | T20: {=IF(ISNA($J20),0,IF(INDEX('Target Organ'!G$3:G$186,$J20)="X",1,0))} -> 0 | U20: {=IF(ISNA($J20),0,IF(INDEX('Target Organ'!H$3:H$186,$J20)="X",1,0))} -> 0 | V20: {=IF(ISNA($J20),0,IF(INDEX('Target Organ'!I$3:I$186,$J20)="X",1,0))} -> 0 | W20: {=IF(ISNA($J20),0,IF(INDEX('Target Organ'!J$3:J$186,$J20)="X",1,0))} -> 0 | ... AB20: {=IF(ISNA($J20),0,IF(INDEX('Target Organ'!O$3:O$186,$J20)="X",1,0))} -> 0
A21: =A20+1 -> 16 | B21: 43 | C21: 108-90-7 | D21: Chlorobenzene | E21: - | F21: 51.3036 | G21: 0.140558 | H21: 0.0520411 | J21: =MATCH(K21,'Target Organ'!A$3:A$186,0) -> 34 | K21: =C21 -> 108-90-7 | L21: =D21 -> Chlorobenzene | M21: =F21 -> 51.3036 | N21: 50 | O21: =IF(LEN(N21)>0,M21/N21,0) -> 1.026072 | P21: {=IF(ISNA($J21),0,IF(INDEX('Target Organ'!C$3:C$186,$J21)="X",1,0))} -> 1 | Q21: {=IF(ISNA($J21),0,IF(INDEX('Target Organ'!D$3:D$186,$J21)="X",1,0))} -> 0 | R21: {=IF(ISNA($J21),0,IF(INDEX('Target Organ'!E$3:E$186,$J21)="X",1,0))} -> 0 | S21: {=IF(ISNA($J21),0,IF(INDEX('Target Organ'!F$3:F$186,$J21)="X",1,0))} -> 0 | T21: {=IF(ISNA($J21),0,IF(INDEX('Target Organ'!G$3:G$186,$J21)="X",1,0))} -> 0 | U21: {=IF(ISNA($J21),0,IF(INDEX('Target Organ'!H$3:H$186,$J21)="X",1,0))} -> 0 | V21: {=IF(ISNA($J21),0,IF(INDEX('Target Organ'!I$3:I$186,$J21)="X",1,0))} -> 0 | W21: {=IF(ISNA($J21),0,IF(INDEX('Target Organ'!J$3:J$186,$J21)="X",1,0))} -> 0 | ... AB21: {=IF(ISNA($J21),0,IF(INDEX('Target Organ'!O$3:O$186,$J21)="X",1,0))} -> 0
A22: =A21+1 -> 17 | B22: 47 | C22: 67-66-3 | D22: Chloroform | E22: - | F22: 62.1196 | G22: 0.170191 | H22: 0.0630126 | J22: =MATCH(K22,'Target Organ'!A$3:A$186,0) -> 38 | K22: =C22 -> 67-66-3 | L22: =D22 -> Chloroform | M22: =F22 -> 62.1196 | N22: 300 | O22: =IF(LEN(N22)>0,M22/N22,0) -> 0.20706533 | P22: {=IF(ISNA($J22),0,IF(INDEX('Target Organ'!C$3:C$186,$J22)="X",1,0))} -> 1 | Q22: {=IF(ISNA($J22),0,IF(INDEX('Target Organ'!D$3:D$186,$J22)="X",1,0))} -> 1 | R22: {=IF(ISNA($J22),0,IF(INDEX('Target Organ'!E$3:E$186,$J22)="X",1,0))} -> 0 | S22: {=IF(ISNA($J22),0,IF(INDEX('Target Organ'!F$3:F$186,$J22)="X",1,0))} -> 0 | T22: {=IF(ISNA($J22),0,IF(INDEX('Target Organ'!G$3:G$186,$J22)="X",1,0))} -> 0 | U22: {=IF(ISNA($J22),0,IF(INDEX('Target Organ'!H$3:H$186,$J22)="X",1,0))} -> 0 | V22: {=IF(ISNA($J22),0,IF(INDEX('Target Organ'!I$3:I$186,$J22)="X",1,0))} -> 0 | W22: {=IF(ISNA($J22),0,IF(INDEX('Target Organ'!J$3:J$186,$J22)="X",1,0))} -> 0 | ... AB22: {=IF(ISNA($J22),0,IF(INDEX('Target Organ'!O$3:O$186,$J22)="X",1,0))} -> 0
A23: =A22+1 -> 18 | B23: 48 | C23: 74-87-3 | D23: Chloromethane (Methyl chloride) | E23: - | F23: 116.722 | G23: 0.319785 | H23: 0.118399 | J23: =MATCH(K23,'Target Organ'!A$3:A$186,0) -> 39 | K23: =C23 -> 74-87-3 | L23: =D23 -> Chloromethane (Methyl chloride) | M23: =F23 -> 116.722 | N23: 90 | O23: =IF(LEN(N23)>0,M23/N23,0) -> 1.2969111 | P23: {=IF(ISNA($J23),0,IF(INDEX('Target Organ'!C$3:C$186,$J23)="X",1,0))} -> 0 | Q23: {=IF(ISNA($J23),0,IF(INDEX('Target Organ'!D$3:D$186,$J23)="X",1,0))} -> 0 | R23: {=IF(ISNA($J23),0,IF(INDEX('Target Organ'!E$3:E$186,$J23)="X",1,0))} -> 0 | S23: {=IF(ISNA($J23),0,IF(INDEX('Target Organ'!F$3:F$186,$J23)="X",1,0))} -> 0 | T23: {=IF(ISNA($J23),0,IF(INDEX('Target Organ'!G$3:G$186,$J23)="X",1,0))} -> 0 | U23: {=IF(ISNA($J23),0,IF(INDEX('Target Organ'!H$3:H$186,$J23)="X",1,0))} -> 0 | V23: {=IF(ISNA($J23),0,IF(INDEX('Target Organ'!I$3:I$186,$J23)="X",1,0))} -> 0 | W23: {=IF(ISNA($J23),0,IF(INDEX('Target Organ'!J$3:J$186,$J23)="X",1,0))} -> 1 | ... AB23: {=IF(ISNA($J23),0,IF(INDEX('Target Organ'!O$3:O$186,$J23)="X",1,0))} -> 0
A24: =A23+1 -> 19 | B24: 53 | C24: 18540-29-9 | D24: Chromium VI, chromate and dichromate particulate | E24: Yes | F24: 0.841396 | G24: 0.0023052 | H24: 0.00426251 | J24: =MATCH(K24,'Target Organ'!A$3:A$186,0) -> 42 | K24: =C24 -> 18540-29-9 | L24: =D24 -> Chromium VI, chromate and dichromate particulate | M24: =F24 -> 0.841396 | N24: 0.083 | O24: =IF(LEN(N24)>0,M24/N24,0) -> 10.137301 | P24: {=IF(ISNA($J24),0,IF(INDEX('Target Organ'!C$3:C$186,$J24)="X",1,0))} -> 0 | Q24: {=IF(ISNA($J24),0,IF(INDEX('Target Organ'!D$3:D$186,$J24)="X",1,0))} -> 0 | R24: {=IF(ISNA($J24),0,IF(INDEX('Target Organ'!E$3:E$186,$J24)="X",1,0))} -> 0 | S24: {=IF(ISNA($J24),0,IF(INDEX('Target Organ'!F$3:F$186,$J24)="X",1,0))} -> 0 | T24: {=IF(ISNA($J24),0,IF(INDEX('Target Organ'!G$3:G$186,$J24)="X",1,0))} -> 0 | U24: {=IF(ISNA($J24),0,IF(INDEX('Target Organ'!H$3:H$186,$J24)="X",1,0))} -> 0 | V24: {=IF(ISNA($J24),0,IF(INDEX('Target Organ'!I$3:I$186,$J24)="X",1,0))} -> 0 | W24: {=IF(ISNA($J24),0,IF(INDEX('Target Organ'!J$3:J$186,$J24)="X",1,0))} -> 0 | ... AB24: {=IF(ISNA($J24),0,IF(INDEX('Target Organ'!O$3:O$186,$J24)="X",1,0))} -> 0
A25: =A24+1 -> 20 | B25: 55 | C25: 7440-48-4 | D25: Cobalt and compounds | E25: Yes | F25: 7.26611 | G25: 0.0199071 | H25: 0.00702097 | J25: =MATCH(K25,'Target Organ'!A$3:A$186,0) -> 44 | K25: =C25 -> 7440-48-4 | L25: =D25 -> Cobalt and compounds | M25: =F25 -> 7.26611 | N25: 0.1 | O25: =IF(LEN(N25)>0,M25/N25,0) -> 72.6611 | P25: {=IF(ISNA($J25),0,IF(INDEX('Target Organ'!C$3:C$186,$J25)="X",1,0))} -> 0 | Q25: {=IF(ISNA($J25),0,IF(INDEX('Target Organ'!D$3:D$186,$J25)="X",1,0))} -> 0 | R25: {=IF(ISNA($J25),0,IF(INDEX('Target Organ'!E$3:E$186,$J25)="X",1,0))} -> 0 | S25: {=IF(ISNA($J25),0,IF(INDEX('Target Organ'!F$3:F$186,$J25)="X",1,0))} -> 0 | T25: {=IF(ISNA($J25),0,IF(INDEX('Target Organ'!G$3:G$186,$J25)="X",1,0))} -> 0 | U25: {=IF(ISNA($J25),0,IF(INDEX('Target Organ'!H$3:H$186,$J25)="X",1,0))} -> 0 | V25: {=IF(ISNA($J25),0,IF(INDEX('Target Organ'!I$3:I$186,$J25)="X",1,0))} -> 0 | W25: {=IF(ISNA($J25),0,IF(INDEX('Target Organ'!J$3:J$186,$J25)="X",1,0))} -> 0 | ... AB25: {=IF(ISNA($J25),0,IF(INDEX('Target Organ'!O$3:O$186,$J25)="X",1,0))} -> 0
A26: =A25+1 -> 21 | B26: 57 | C26: 7440-50-8 | D26: Copper and compounds | E26: Yes | F26: 15.4295 | G26: 0.0422725 | H26: 0.0696107 | J26: =MATCH(K26,'Target Organ'!A$3:A$186,0) -> 45 | K26: =C26 -> 7440-50-8 | L26: =D26 -> Copper and compounds | M26: =F26 -> 15.4295 | O26: =IF(LEN(N26)>0,M26/N26,0) -> 0 | P26: {=IF(ISNA($J26),0,IF(INDEX('Target Organ'!C$3:C$186,$J26)="X",1,0))} -> 0 | Q26: {=IF(ISNA($J26),0,IF(INDEX('Target Organ'!D$3:D$186,$J26)="X",1,0))} -> 0 | R26: {=IF(ISNA($J26),0,IF(INDEX('Target Organ'!E$3:E$186,$J26)="X",1,0))} -> 0 | S26: {=IF(ISNA($J26),0,IF(INDEX('Target Organ'!F$3:F$186,$J26)="X",1,0))} -> 0 | T26: {=IF(ISNA($J26),0,IF(INDEX('Target Organ'!G$3:G$186,$J26)="X",1,0))} -> 0 | U26: {=IF(ISNA($J26),0,IF(INDEX('Target Organ'!H$3:H$186,$J26)="X",1,0))} -> 0 | V26: {=IF(ISNA($J26),0,IF(INDEX('Target Organ'!I$3:I$186,$J26)="X",1,0))} -> 0 | W26: {=IF(ISNA($J26),0,IF(INDEX('Target Organ'!J$3:J$186,$J26)="X",1,0))} -> 0 | ... AB26: {=IF(ISNA($J26),0,IF(INDEX('Target Organ'!O$3:O$186,$J26)="X",1,0))} -> 0
A27: =A26+1 -> 22 | B27: 68 | C27: 106-46-7 | D27: p-Dichlorobenzene (1,4-Dichlorobenzene) | E27: - | F27: 862.257 | G27: 2.36235 | H27: 0.874652 | J27: =MATCH(K27,'Target Organ'!A$3:A$186,0) -> 51 | K27: =C27 -> 106-46-7 | L27: =D27 -> p-Dichlorobenzene (1,4-Dichlorobenzene) | M27: =F27 -> 862.257 | N27: 60 | O27: =IF(LEN(N27)>0,M27/N27,0) -> 14.37095 | P27: {=IF(ISNA($J27),0,IF(INDEX('Target Organ'!C$3:C$186,$J27)="X",1,0))} -> 0 | Q27: {=IF(ISNA($J27),0,IF(INDEX('Target Organ'!D$3:D$186,$J27)="X",1,0))} -> 0 | R27: {=IF(ISNA($J27),0,IF(INDEX('Target Organ'!E$3:E$186,$J27)="X",1,0))} -> 0 | S27: {=IF(ISNA($J27),0,IF(INDEX('Target Organ'!F$3:F$186,$J27)="X",1,0))} -> 0 | T27: {=IF(ISNA($J27),0,IF(INDEX('Target Organ'!G$3:G$186,$J27)="X",1,0))} -> 0 | U27: {=IF(ISNA($J27),0,IF(INDEX('Target Organ'!H$3:H$186,$J27)="X",1,0))} -> 0 | V27: {=IF(ISNA($J27),0,IF(INDEX('Target Organ'!I$3:I$186,$J27)="X",1,0))} -> 0 | W27: {=IF(ISNA($J27),0,IF(INDEX('Target Organ'!J$3:J$186,$J27)="X",1,0))} -> 0 | ... AB27: {=IF(ISNA($J27),0,IF(INDEX('Target Organ'!O$3:O$186,$J27)="X",1,0))} -> 0
A28: =A27+1 -> 23 | B28: 72 | C28: 75-09-2 | D28: Dichloromethane (Methylene chloride) | E28: - | F28: 1690.52 | G28: 4.63156 | H28: 1.71482 | J28: =MATCH(K28,'Target Organ'!A$3:A$186,0) -> 53 | K28: =C28 -> 75-09-2 | L28: =D28 -> Dichloromethane (Methylene chloride) | M28: =F28 -> 1690.52 | N28: 600 | O28: =IF(LEN(N28)>0,M28/N28,0) -> 2.8175333 | P28: {=IF(ISNA($J28),0,IF(INDEX('Target Organ'!C$3:C$186,$J28)="X",1,0))} -> 0 | Q28: {=IF(ISNA($J28),0,IF(INDEX('Target Organ'!D$3:D$186,$J28)="X",1,0))} -> 1 | R28: {=IF(ISNA($J28),0,IF(INDEX('Target Organ'!E$3:E$186,$J28)="X",1,0))} -> 0 | S28: {=IF(ISNA($J28),0,IF(INDEX('Target Organ'!F$3:F$186,$J28)="X",1,0))} -> 0 | T28: {=IF(ISNA($J28),0,IF(INDEX('Target Organ'!G$3:G$186,$J28)="X",1,0))} -> 0 | U28: {=IF(ISNA($J28),0,IF(INDEX('Target Organ'!H$3:H$186,$J28)="X",1,0))} -> 0 | V28: {=IF(ISNA($J28),0,IF(INDEX('Target Organ'!I$3:I$186,$J28)="X",1,0))} -> 0 | W28: {=IF(ISNA($J28),0,IF(INDEX('Target Organ'!J$3:J$186,$J28)="X",1,0))} -> 0 | ... AB28: {=IF(ISNA($J28),0,IF(INDEX('Target Organ'!O$3:O$186,$J28)="X",1,0))} -> 0
A29: =A28+1 -> 24 | B29: 73 | C29: 78-87-5 | D29: 1,2-Dichloropropane (Propylene dichloride) | E29: - | F29: 52.0213 | G29: 0.142524 | H29: 0.0527691 | J29: =MATCH(K29,'Target Organ'!A$3:A$186,0) -> 54 | K29: =C29 -> 78-87-5 | L29: =D29 -> 1,2-Dichloropropane (Propylene dichloride) | M29: =F29 -> 52.0213 | N29: 4 | O29: =IF(LEN(N29)>0,M29/N29,0) -> 13.005325 | P29: {=IF(ISNA($J29),0,IF(INDEX('Target Organ'!C$3:C$186,$J29)="X",1,0))} -> 0 | Q29: {=IF(ISNA($J29),0,IF(INDEX('Target Organ'!D$3:D$186,$J29)="X",1,0))} -> 0 | R29: {=IF(ISNA($J29),0,IF(INDEX('Target Organ'!E$3:E$186,$J29)="X",1,0))} -> 0 | S29: {=IF(ISNA($J29),0,IF(INDEX('Target Organ'!F$3:F$186,$J29)="X",1,0))} -> 0 | T29: {=IF(ISNA($J29),0,IF(INDEX('Target Organ'!G$3:G$186,$J29)="X",1,0))} -> 0 | U29: {=IF(ISNA($J29),0,IF(INDEX('Target Organ'!H$3:H$186,$J29)="X",1,0))} -> 0 | V29: {=IF(ISNA($J29),0,IF(INDEX('Target Organ'!I$3:I$186,$J29)="X",1,0))} -> 0 | W29: {=IF(ISNA($J29),0,IF(INDEX('Target Organ'!J$3:J$186,$J29)="X",1,0))} -> 0 | ... AB29: {=IF(ISNA($J29),0,IF(INDEX('Target Organ'!O$3:O$186,$J29)="X",1,0))} -> 0
A30: =A29+1 -> 25 | B30: 85 | C30: 121-14-2 | D30: 2,4-Dinitrotoluene | E30: - | F30: 2.91128 | G30: 0.0079761 | H30: 0.00295313 | J30: =MATCH(K30,'Target Organ'!A$3:A$186,0) -> #N/A | K30: =C30 -> 121-14-2 | L30: =D30 -> 2,4-Dinitrotoluene | M30: =F30 -> 2.91128 | O30: =IF(LEN(N30)>0,M30/N30,0) -> 0 | P30: {=IF(ISNA($J30),0,IF(INDEX('Target Organ'!C$3:C$186,$J30)="X",1,0))} -> 0 | Q30: {=IF(ISNA($J30),0,IF(INDEX('Target Organ'!D$3:D$186,$J30)="X",1,0))} -> 0 | R30: {=IF(ISNA($J30),0,IF(INDEX('Target Organ'!E$3:E$186,$J30)="X",1,0))} -> 0 | S30: {=IF(ISNA($J30),0,IF(INDEX('Target Organ'!F$3:F$186,$J30)="X",1,0))} -> 0 | T30: {=IF(ISNA($J30),0,IF(INDEX('Target Organ'!G$3:G$186,$J30)="X",1,0))} -> 0 | U30: {=IF(ISNA($J30),0,IF(INDEX('Target Organ'!H$3:H$186,$J30)="X",1,0))} -> 0 | V30: {=IF(ISNA($J30),0,IF(INDEX('Target Organ'!I$3:I$186,$J30)="X",1,0))} -> 0 | W30: {=IF(ISNA($J30),0,IF(INDEX('Target Organ'!J$3:J$186,$J30)="X",1,0))} -> 0 | ... AB30: {=IF(ISNA($J30),0,IF(INDEX('Target Organ'!O$3:O$186,$J30)="X",1,0))} -> 0
A31: =A30+1 -> 26 | B31: 95 | C31: 100-41-4 | D31: Ethyl benzene | E31: - | F31: 1220.98 | G31: 3.34514 | H31: 1.23853 | J31: =MATCH(K31,'Target Organ'!A$3:A$186,0) -> 69 | K31: =C31 -> 100-41-4 | L31: =D31 -> Ethyl benzene | M31: =F31 -> 1220.98 | N31: 260 | O31: =IF(LEN(N31)>0,M31/N31,0) -> 4.6960769 | P31: {=IF(ISNA($J31),0,IF(INDEX('Target Organ'!C$3:C$186,$J31)="X",1,0))} -> 1 | Q31: {=IF(ISNA($J31),0,IF(INDEX('Target Organ'!D$3:D$186,$J31)="X",1,0))} -> 0 | R31: {=IF(ISNA($J31),0,IF(INDEX('Target Organ'!E$3:E$186,$J31)="X",1,0))} -> 0 | S31: {=IF(ISNA($J31),0,IF(INDEX('Target Organ'!F$3:F$186,$J31)="X",1,0))} -> 0 | T31: {=IF(ISNA($J31),0,IF(INDEX('Target Organ'!G$3:G$186,$J31)="X",1,0))} -> 0 | U31: {=IF(ISNA($J31),0,IF(INDEX('Target Organ'!H$3:H$186,$J31)="X",1,0))} -> 0 | V31: {=IF(ISNA($J31),0,IF(INDEX('Target Organ'!I$3:I$186,$J31)="X",1,0))} -> 0 | W31: {=IF(ISNA($J31),0,IF(INDEX('Target Organ'!J$3:J$186,$J31)="X",1,0))} -> 0 | ... AB31: {=IF(ISNA($J31),0,IF(INDEX('Target Organ'!O$3:O$186,$J31)="X",1,0))} -> 0
A32: =A31+1 -> 27 | B32: 97 | C32: 107-06-2 | D32: Ethylene dichloride (EDC, 1,2-Dichloroethane) | E32: - | F32: 90.2434 | G32: 0.247242 | H32: 0.0915407 | J32: =MATCH(K32,'Target Organ'!A$3:A$186,0) -> 71 | K32: =C32 -> 107-06-2 | L32: =D32 -> Ethylene dichloride (EDC, 1,2-Dichloroethane) | M32: =F32 -> 90.2434 | N32: 7 | O32: =IF(LEN(N32)>0,M32/N32,0) -> 12.891914 | P32: {=IF(ISNA($J32),0,IF(INDEX('Target Organ'!C$3:C$186,$J32)="X",1,0))} -> 0 | Q32: {=IF(ISNA($J32),0,IF(INDEX('Target Organ'!D$3:D$186,$J32)="X",1,0))} -> 0 | R32: {=IF(ISNA($J32),0,IF(INDEX('Target Organ'!E$3:E$186,$J32)="X",1,0))} -> 0 | S32: {=IF(ISNA($J32),0,IF(INDEX('Target Organ'!F$3:F$186,$J32)="X",1,0))} -> 0 | T32: {=IF(ISNA($J32),0,IF(INDEX('Target Organ'!G$3:G$186,$J32)="X",1,0))} -> 0 | U32: {=IF(ISNA($J32),0,IF(INDEX('Target Organ'!H$3:H$186,$J32)="X",1,0))} -> 0 | V32: {=IF(ISNA($J32),0,IF(INDEX('Target Organ'!I$3:I$186,$J32)="X",1,0))} -> 0 | W32: {=IF(ISNA($J32),0,IF(INDEX('Target Organ'!J$3:J$186,$J32)="X",1,0))} -> 1 | ... AB32: {=IF(ISNA($J32),0,IF(INDEX('Target Organ'!O$3:O$186,$J32)="X",1,0))} -> 0
A33: =A32+1 -> 28 | B33: 108 | C33: 50-00-0 | D33: Formaldehyde | E33: - | F33: 324.839 | G33: 0.88997 | H33: 0.329509 | J33: =MATCH(K33,'Target Organ'!A$3:A$186,0) -> 81 | K33: =C33 -> 50-00-0 | L33: =D33 -> Formaldehyde | M33: =F33 -> 324.839 | N33: 9 | O33: =IF(LEN(N33)>0,M33/N33,0) -> 36.093222 | P33: {=IF(ISNA($J33),0,IF(INDEX('Target Organ'!C$3:C$186,$J33)="X",1,0))} -> 0 | Q33: {=IF(ISNA($J33),0,IF(INDEX('Target Organ'!D$3:D$186,$J33)="X",1,0))} -> 0 | R33: {=IF(ISNA($J33),0,IF(INDEX('Target Organ'!E$3:E$186,$J33)="X",1,0))} -> 0 | S33: {=IF(ISNA($J33),0,IF(INDEX('Target Organ'!F$3:F$186,$J33)="X",1,0))} -> 0 | T33: {=IF(ISNA($J33),0,IF(INDEX('Target Organ'!G$3:G$186,$J33)="X",1,0))} -> 0 | U33: {=IF(ISNA($J33),0,IF(INDEX('Target Organ'!H$3:H$186,$J33)="X",1,0))} -> 0 | V33: {=IF(ISNA($J33),0,IF(INDEX('Target Organ'!I$3:I$186,$J33)="X",1,0))} -> 0 | W33: {=IF(ISNA($J33),0,IF(INDEX('Target Organ'!J$3:J$186,$J33)="X",1,0))} -> 0 | ... AB33: {=IF(ISNA($J33),0,IF(INDEX('Target Organ'!O$3:O$186,$J33)="X",1,0))} -> 0
A34: =A33+1 -> 29 | B34: 112 | C34: 118-74-1 | D34: Hexachlorobenzene | E34: - | F34: 3.18324 | G34: 0.00872122 | H34: 0.003229 | J34: =MATCH(K34,'Target Organ'!A$3:A$186,0) -> #N/A | K34: =C34 -> 118-74-1 | L34: =D34 -> Hexachlorobenzene | M34: =F34 -> 3.18324 | O34: =IF(LEN(N34)>0,M34/N34,0) -> 0 | P34: {=IF(ISNA($J34),0,IF(INDEX('Target Organ'!C$3:C$186,$J34)="X",1,0))} -> 0 | Q34: {=IF(ISNA($J34),0,IF(INDEX('Target Organ'!D$3:D$186,$J34)="X",1,0))} -> 0 | R34: {=IF(ISNA($J34),0,IF(INDEX('Target Organ'!E$3:E$186,$J34)="X",1,0))} -> 0 | S34: {=IF(ISNA($J34),0,IF(INDEX('Target Organ'!F$3:F$186,$J34)="X",1,0))} -> 0 | T34: {=IF(ISNA($J34),0,IF(INDEX('Target Organ'!G$3:G$186,$J34)="X",1,0))} -> 0 | U34: {=IF(ISNA($J34),0,IF(INDEX('Target Organ'!H$3:H$186,$J34)="X",1,0))} -> 0 | V34: {=IF(ISNA($J34),0,IF(INDEX('Target Organ'!I$3:I$186,$J34)="X",1,0))} -> 0 | W34: {=IF(ISNA($J34),0,IF(INDEX('Target Organ'!J$3:J$186,$J34)="X",1,0))} -> 0 | ... AB34: {=IF(ISNA($J34),0,IF(INDEX('Target Organ'!O$3:O$186,$J34)="X",1,0))} -> 0
A35: =A34+1 -> 30 | B35: 121 | C35: 110-54-3 | D35: Hexane | E35: - | F35: 890.226 | G35: 2.43898 | H35: 0.903023 | J35: =MATCH(K35,'Target Organ'!A$3:A$186,0) -> 86 | K35: =C35 -> 110-54-3 | L35: =D35 -> Hexane | M35: =F35 -> 890.226 | N35: 700 | O35: =IF(LEN(N35)>0,M35/N35,0) -> 1.2717514 | P35: {=IF(ISNA($J35),0,IF(INDEX('Target Organ'!C$3:C$186,$J35)="X",1,0))} -> 0 | Q35: {=IF(ISNA($J35),0,IF(INDEX('Target Organ'!D$3:D$186,$J35)="X",1,0))} -> 0 | R35: {=IF(ISNA($J35),0,IF(INDEX('Target Organ'!E$3:E$186,$J35)="X",1,0))} -> 0 | S35: {=IF(ISNA($J35),0,IF(INDEX('Target Organ'!F$3:F$186,$J35)="X",1,0))} -> 0 | T35: {=IF(ISNA($J35),0,IF(INDEX('Target Organ'!G$3:G$186,$J35)="X",1,0))} -> 0 | U35: {=IF(ISNA($J35),0,IF(INDEX('Target Organ'!H$3:H$186,$J35)="X",1,0))} -> 0 | V35: {=IF(ISNA($J35),0,IF(INDEX('Target Organ'!I$3:I$186,$J35)="X",1,0))} -> 0 | W35: {=IF(ISNA($J35),0,IF(INDEX('Target Organ'!J$3:J$186,$J35)="X",1,0))} -> 1 | ... AB35: {=IF(ISNA($J35),0,IF(INDEX('Target Organ'!O$3:O$186,$J35)="X",1,0))} -> 0
A36: =A35+1 -> 31 | B36: 123 | C36: 7647-01-0 | D36: Hydrochloric acid | E36: - | F36: 2917.87 | G36: 7.99417 | H36: 2.95982 | J36: =MATCH(K36,'Target Organ'!A$3:A$186,0) -> 88 | K36: =C36 -> 7647-01-0 | L36: =D36 -> Hydrochloric acid | M36: =F36 -> 2917.87 | N36: 20 | O36: =IF(LEN(N36)>0,M36/N36,0) -> 145.8935 | P36: {=IF(ISNA($J36),0,IF(INDEX('Target Organ'!C$3:C$186,$J36)="X",1,0))} -> 0 | Q36: {=IF(ISNA($J36),0,IF(INDEX('Target Organ'!D$3:D$186,$J36)="X",1,0))} -> 0 | R36: {=IF(ISNA($J36),0,IF(INDEX('Target Organ'!E$3:E$186,$J36)="X",1,0))} -> 0 | S36: {=IF(ISNA($J36),0,IF(INDEX('Target Organ'!F$3:F$186,$J36)="X",1,0))} -> 0 | T36: {=IF(ISNA($J36),0,IF(INDEX('Target Organ'!G$3:G$186,$J36)="X",1,0))} -> 0 | U36: {=IF(ISNA($J36),0,IF(INDEX('Target Organ'!H$3:H$186,$J36)="X",1,0))} -> 0 | V36: {=IF(ISNA($J36),0,IF(INDEX('Target Organ'!I$3:I$186,$J36)="X",1,0))} -> 0 | W36: {=IF(ISNA($J36),0,IF(INDEX('Target Organ'!J$3:J$186,$J36)="X",1,0))} -> 0 | ... AB36: {=IF(ISNA($J36),0,IF(INDEX('Target Organ'!O$3:O$186,$J36)="X",1,0))} -> 0
A37: =A36+1 -> 32 | B37: 124 | C37: 7664-39-3 | D37: Hydrogen fluoride | E37: - | F37: 726.274 | G37: 1.98979 | H37: 0.736714 | J37: =MATCH(K37,'Target Organ'!A$3:A$186,0) -> 89 | K37: =C37 -> 7664-39-3 | L37: =D37 -> Hydrogen fluoride | M37: =F37 -> 726.274 | N37: 2.1 | O37: =IF(LEN(N37)>0,M37/N37,0) -> 345.84476 | P37: {=IF(ISNA($J37),0,IF(INDEX('Target Organ'!C$3:C$186,$J37)="X",1,0))} -> 0 | Q37: {=IF(ISNA($J37),0,IF(INDEX('Target Organ'!D$3:D$186,$J37)="X",1,0))} -> 0 | R37: {=IF(ISNA($J37),0,IF(INDEX('Target Organ'!E$3:E$186,$J37)="X",1,0))} -> 0 | S37: {=IF(ISNA($J37),0,IF(INDEX('Target Organ'!F$3:F$186,$J37)="X",1,0))} -> 0 | T37: {=IF(ISNA($J37),0,IF(INDEX('Target Organ'!G$3:G$186,$J37)="X",1,0))} -> 0 | U37: {=IF(ISNA($J37),0,IF(INDEX('Target Organ'!H$3:H$186,$J37)="X",1,0))} -> 0 | V37: {=IF(ISNA($J37),0,IF(INDEX('Target Organ'!I$3:I$186,$J37)="X",1,0))} -> 0 | W37: {=IF(ISNA($J37),0,IF(INDEX('Target Organ'!J$3:J$186,$J37)="X",1,0))} -> 0 | ... AB37: {=IF(ISNA($J37),0,IF(INDEX('Target Organ'!O$3:O$186,$J37)="X",1,0))} -> 0
A38: =A37+1 -> 33 | B38: 127 | C38: 67-63-0 | D38: Isopropyl alcohol | E38: - | F38: 11249.5 | G38: 30.8206 | H38: 11.4112 | J38: =MATCH(K38,'Target Organ'!A$3:A$186,0) -> 92 | K38: =C38 -> 67-63-0 | L38: =D38 -> Isopropyl alcohol | M38: =F38 -> 11249.5 | N38: 200 | O38: =IF(LEN(N38)>0,M38/N38,0) -> 56.2475 | P38: {=IF(ISNA($J38),0,IF(INDEX('Target Organ'!C$3:C$186,$J38)="X",1,0))} -> 0 | Q38: {=IF(ISNA($J38),0,IF(INDEX('Target Organ'!D$3:D$186,$J38)="X",1,0))} -> 0 | R38: {=IF(ISNA($J38),0,IF(INDEX('Target Organ'!E$3:E$186,$J38)="X",1,0))} -> 0 | S38: {=IF(ISNA($J38),0,IF(INDEX('Target Organ'!F$3:F$186,$J38)="X",1,0))} -> 0 | T38: {=IF(ISNA($J38),0,IF(INDEX('Target Organ'!G$3:G$186,$J38)="X",1,0))} -> 0 | U38: {=IF(ISNA($J38),0,IF(INDEX('Target Organ'!H$3:H$186,$J38)="X",1,0))} -> 0 | V38: {=IF(ISNA($J38),0,IF(INDEX('Target Organ'!I$3:I$186,$J38)="X",1,0))} -> 0 | W38: {=IF(ISNA($J38),0,IF(INDEX('Target Organ'!J$3:J$186,$J38)="X",1,0))} -> 0 | ... AB38: {=IF(ISNA($J38),0,IF(INDEX('Target Organ'!O$3:O$186,$J38)="X",1,0))} -> 1
A39: =A38+1 -> 34 | B39: 128 | C39: 98-82-8 | D39: Isopropylbenzene (Cumene) | E39: - | F39: 54.7303 | G39: 0.149946 | H39: 0.055517 | J39: =MATCH(K39,'Target Organ'!A$3:A$186,0) -> 93 | K39: =C39 -> 98-82-8 | L39: =D39 -> Isopropylbenzene (Cumene) | M39: =F39 -> 54.7303 | N39: 400 | O39: =IF(LEN(N39)>0,M39/N39,0) -> 0.13682575 | P39: {=IF(ISNA($J39),0,IF(INDEX('Target Organ'!C$3:C$186,$J39)="X",1,0))} -> 1 | Q39: {=IF(ISNA($J39),0,IF(INDEX('Target Organ'!D$3:D$186,$J39)="X",1,0))} -> 0 | R39: {=IF(ISNA($J39),0,IF(INDEX('Target Organ'!E$3:E$186,$J39)="X",1,0))} -> 0 | S39: {=IF(ISNA($J39),0,IF(INDEX('Target Organ'!F$3:F$186,$J39)="X",1,0))} -> 1 | T39: {=IF(ISNA($J39),0,IF(INDEX('Target Organ'!G$3:G$186,$J39)="X",1,0))} -> 0 | U39: {=IF(ISNA($J39),0,IF(INDEX('Target Organ'!H$3:H$186,$J39)="X",1,0))} -> 0 | V39: {=IF(ISNA($J39),0,IF(INDEX('Target Organ'!I$3:I$186,$J39)="X",1,0))} -> 0 | W39: {=IF(ISNA($J39),0,IF(INDEX('Target Organ'!J$3:J$186,$J39)="X",1,0))} -> 0 | ... AB39: {=IF(ISNA($J39),0,IF(INDEX('Target Organ'!O$3:O$186,$J39)="X",1,0))} -> 0
A40: =A39+1 -> 35 | B40: 129 | C40: 7439-92-1 | D40: Lead and compounds | E40: Yes | F40: 16.1013 | G40: 0.0441131 | H40: 0.0295131 | J40: =MATCH(K40,'Target Organ'!A$3:A$186,0) -> 94 | K40: =C40 -> 7439-92-1 | L40: =D40 -> Lead and compounds | M40: =F40 -> 16.1013 | N40: 0.15 | O40: =IF(LEN(N40)>0,M40/N40,0) -> 107.342 | P40: {=IF(ISNA($J40),0,IF(INDEX('Target Organ'!C$3:C$186,$J40)="X",1,0))} -> 0 | Q40: {=IF(ISNA($J40),0,IF(INDEX('Target Organ'!D$3:D$186,$J40)="X",1,0))} -> 0 | R40: {=IF(ISNA($J40),0,IF(INDEX('Target Organ'!E$3:E$186,$J40)="X",1,0))} -> 0 | S40: {=IF(ISNA($J40),0,IF(INDEX('Target Organ'!F$3:F$186,$J40)="X",1,0))} -> 0 | T40: {=IF(ISNA($J40),0,IF(INDEX('Target Organ'!G$3:G$186,$J40)="X",1,0))} -> 0 | U40: {=IF(ISNA($J40),0,IF(INDEX('Target Organ'!H$3:H$186,$J40)="X",1,0))} -> 0 | V40: {=IF(ISNA($J40),0,IF(INDEX('Target Organ'!I$3:I$186,$J40)="X",1,0))} -> 0 | W40: {=IF(ISNA($J40),0,IF(INDEX('Target Organ'!J$3:J$186,$J40)="X",1,0))} -> 0 | ... AB40: {=IF(ISNA($J40),0,IF(INDEX('Target Organ'!O$3:O$186,$J40)="X",1,0))} -> 1
A41: =A40+1 -> 36 | B41: 131 | C41: 7439-96-5 | D41: Manganese and compounds | E41: Yes | F41: 282.229 | G41: 0.77323 | H41: 1.6448 | J41: =MATCH(K41,'Target Organ'!A$3:A$186,0) -> 96 | K41: =C41 -> 7439-96-5 | L41: =D41 -> Manganese and compounds | M41: =F41 -> 282.229 | N41: 0.09 | O41: =IF(LEN(N41)>0,M41/N41,0) -> 3135.8778 | P41: {=IF(ISNA($J41),0,IF(INDEX('Target Organ'!C$3:C$186,$J41)="X",1,0))} -> 0 | Q41: {=IF(ISNA($J41),0,IF(INDEX('Target Organ'!D$3:D$186,$J41)="X",1,0))} -> 0 | R41: {=IF(ISNA($J41),0,IF(INDEX('Target Organ'!E$3:E$186,$J41)="X",1,0))} -> 0 | S41: {=IF(ISNA($J41),0,IF(INDEX('Target Organ'!F$3:F$186,$J41)="X",1,0))} -> 0 | T41: {=IF(ISNA($J41),0,IF(INDEX('Target Organ'!G$3:G$186,$J41)="X",1,0))} -> 0 | U41: {=IF(ISNA($J41),0,IF(INDEX('Target Organ'!H$3:H$186,$J41)="X",1,0))} -> 0 | V41: {=IF(ISNA($J41),0,IF(INDEX('Target Organ'!I$3:I$186,$J41)="X",1,0))} -> 0 | W41: {=IF(ISNA($J41),0,IF(INDEX('Target Organ'!J$3:J$186,$J41)="X",1,0))} -> 1 | ... AB41: {=IF(ISNA($J41),0,IF(INDEX('Target Organ'!O$3:O$186,$J41)="X",1,0))} -> 0
A42: =A41+1 -> 37 | B42: 132 | C42: 7439-97-6 | D42: Mercury and compounds | E42: Yes | F42: 3.29117 | G42: 0.00901689 | H42: 0.0036845 | J42: =MATCH(K42,'Target Organ'!A$3:A$186,0) -> 97 | K42: =C42 -> 7439-97-6 | L42: =D42 -> Mercury and compounds | M42: =F42 -> 3.29117 | N42: 0.077 | O42: =IF(LEN(N42)>0,M42/N42,0) -> 42.742468 | P42: {=IF(ISNA($J42),0,IF(INDEX('Target Organ'!C$3:C$186,$J42)="X",1,0))} -> 0 | Q42: {=IF(ISNA($J42),0,IF(INDEX('Target Organ'!D$3:D$186,$J42)="X",1,0))} -> 0 | R42: {=IF(ISNA($J42),0,IF(INDEX('Target Organ'!E$3:E$186,$J42)="X",1,0))} -> 0 | S42: {=IF(ISNA($J42),0,IF(INDEX('Target Organ'!F$3:F$186,$J42)="X",1,0))} -> 0 | T42: {=IF(ISNA($J42),0,IF(INDEX('Target Organ'!G$3:G$186,$J42)="X",1,0))} -> 0 | U42: {=IF(ISNA($J42),0,IF(INDEX('Target Organ'!H$3:H$186,$J42)="X",1,0))} -> 0 | V42: {=IF(ISNA($J42),0,IF(INDEX('Target Organ'!I$3:I$186,$J42)="X",1,0))} -> 0 | W42: {=IF(ISNA($J42),0,IF(INDEX('Target Organ'!J$3:J$186,$J42)="X",1,0))} -> 1 | ... AB42: {=IF(ISNA($J42),0,IF(INDEX('Target Organ'!O$3:O$186,$J42)="X",1,0))} -> 0
A43: =A42+1 -> 38 | B43: 133 | C43: 67-56-1 | D43: Methanol | E43: - | F43: 2262.27 | G43: 6.19799 | H43: 2.29479 | J43: =MATCH(K43,'Target Organ'!A$3:A$186,0) -> 98 | K43: =C43 -> 67-56-1 | L43: =D43 -> Methanol | M43: =F43 -> 2262.27 | N43: 4000 | O43: =IF(LEN(N43)>0,M43/N43,0) -> 0.5655675 | P43: {=IF(ISNA($J43),0,IF(INDEX('Target Organ'!C$3:C$186,$J43)="X",1,0))} -> 0 | Q43: {=IF(ISNA($J43),0,IF(INDEX('Target Organ'!D$3:D$186,$J43)="X",1,0))} -> 0 | R43: {=IF(ISNA($J43),0,IF(INDEX('Target Organ'!E$3:E$186,$J43)="X",1,0))} -> 0 | S43: {=IF(ISNA($J43),0,IF(INDEX('Target Organ'!F$3:F$186,$J43)="X",1,0))} -> 0 | T43: {=IF(ISNA($J43),0,IF(INDEX('Target Organ'!G$3:G$186,$J43)="X",1,0))} -> 0 | U43: {=IF(ISNA($J43),0,IF(INDEX('Target Organ'!H$3:H$186,$J43)="X",1,0))} -> 0 | V43: {=IF(ISNA($J43),0,IF(INDEX('Target Organ'!I$3:I$186,$J43)="X",1,0))} -> 0 | W43: {=IF(ISNA($J43),0,IF(INDEX('Target Organ'!J$3:J$186,$J43)="X",1,0))} -> 0 | ... AB43: {=IF(ISNA($J43),0,IF(INDEX('Target Organ'!O$3:O$186,$J43)="X",1,0))} -> 1
A44: =A43+1 -> 39 | B44: 137 | C44: 108-10-1 | D44: Methyl isobutyl ketone (MIBK, Hexone) | E44: - | F44: 1376.06 | G44: 3.77002 | H44: 1.39584 | J44: =MATCH(K44,'Target Organ'!A$3:A$186,0) -> 100 | K44: =C44 -> 108-10-1 | L44: =D44 -> Methyl isobutyl ketone (MIBK, Hexone) | M44: =F44 -> 1376.06 | N44: 3000 | O44: =IF(LEN(N44)>0,M44/N44,0) -> 0.45868667 | P44: {=IF(ISNA($J44),0,IF(INDEX('Target Organ'!C$3:C$186,$J44)="X",1,0))} -> 0 | Q44: {=IF(ISNA($J44),0,IF(INDEX('Target Organ'!D$3:D$186,$J44)="X",1,0))} -> 0 | R44: {=IF(ISNA($J44),0,IF(INDEX('Target Organ'!E$3:E$186,$J44)="X",1,0))} -> 0 | S44: {=IF(ISNA($J44),0,IF(INDEX('Target Organ'!F$3:F$186,$J44)="X",1,0))} -> 0 | T44: {=IF(ISNA($J44),0,IF(INDEX('Target Organ'!G$3:G$186,$J44)="X",1,0))} -> 0 | U44: {=IF(ISNA($J44),0,IF(INDEX('Target Organ'!H$3:H$186,$J44)="X",1,0))} -> 0 | V44: {=IF(ISNA($J44),0,IF(INDEX('Target Organ'!I$3:I$186,$J44)="X",1,0))} -> 0 | W44: {=IF(ISNA($J44),0,IF(INDEX('Target Organ'!J$3:J$186,$J44)="X",1,0))} -> 0 | ... AB44: {=IF(ISNA($J44),0,IF(INDEX('Target Organ'!O$3:O$186,$J44)="X",1,0))} -> 1
A45: =A44+1 -> 40 | B45: 142 | C45: 91-20-3 | D45: Naphthalene | E45: - | F45: 307.817 | G45: 0.843333 | H45: 0.312242 | J45: =MATCH(K45,'Target Organ'!A$3:A$186,0) -> 105 | K45: =C45 -> 91-20-3 | L45: =D45 -> Naphthalene | M45: =F45 -> 307.817 | N45: 3.7 | O45: =IF(LEN(N45)>0,M45/N45,0) -> 83.193784 | P45: {=IF(ISNA($J45),0,IF(INDEX('Target Organ'!C$3:C$186,$J45)="X",1,0))} -> 0 | Q45: {=IF(ISNA($J45),0,IF(INDEX('Target Organ'!D$3:D$186,$J45)="X",1,0))} -> 0 | R45: {=IF(ISNA($J45),0,IF(INDEX('Target Organ'!E$3:E$186,$J45)="X",1,0))} -> 0 | S45: {=IF(ISNA($J45),0,IF(INDEX('Target Organ'!F$3:F$186,$J45)="X",1,0))} -> 0 | T45: {=IF(ISNA($J45),0,IF(INDEX('Target Organ'!G$3:G$186,$J45)="X",1,0))} -> 0 | U45: {=IF(ISNA($J45),0,IF(INDEX('Target Organ'!H$3:H$186,$J45)="X",1,0))} -> 0 | V45: {=IF(ISNA($J45),0,IF(INDEX('Target Organ'!I$3:I$186,$J45)="X",1,0))} -> 0 | W45: {=IF(ISNA($J45),0,IF(INDEX('Target Organ'!J$3:J$186,$J45)="X",1,0))} -> 1 | ... AB45: {=IF(ISNA($J45),0,IF(INDEX('Target Organ'!O$3:O$186,$J45)="X",1,0))} -> 0
A46: =A45+1 -> 41 | B46: 143 | C46: 7440-02-0 | D46: Nickel compounds, insoluble | E46: Yes | F46: 8.66438 | G46: 0.023738 | H46: 0.0140723 | J46: =MATCH(K46,'Target Organ'!A$3:A$186,0) -> 106 | K46: =C46 -> 7440-02-0 | L46: =D46 -> Nickel compounds, insoluble | M46: =F46 -> 8.66438 | N46: 0.014 | O46: =IF(LEN(N46)>0,M46/N46,0) -> 618.88429 | P46: {=IF(ISNA($J46),0,IF(INDEX('Target Organ'!C$3:C$186,$J46)="X",1,0))} -> 0 | Q46: {=IF(ISNA($J46),0,IF(INDEX('Target Organ'!D$3:D$186,$J46)="X",1,0))} -> 0 | R46: {=IF(ISNA($J46),0,IF(INDEX('Target Organ'!E$3:E$186,$J46)="X",1,0))} -> 0 | S46: {=IF(ISNA($J46),0,IF(INDEX('Target Organ'!F$3:F$186,$J46)="X",1,0))} -> 0 | T46: {=IF(ISNA($J46),0,IF(INDEX('Target Organ'!G$3:G$186,$J46)="X",1,0))} -> 0 | U46: {=IF(ISNA($J46),0,IF(INDEX('Target Organ'!H$3:H$186,$J46)="X",1,0))} -> 0 | V46: {=IF(ISNA($J46),0,IF(INDEX('Target Organ'!I$3:I$186,$J46)="X",1,0))} -> 0 | W46: {=IF(ISNA($J46),0,IF(INDEX('Target Organ'!J$3:J$186,$J46)="X",1,0))} -> 0 | ... AB46: {=IF(ISNA($J46),0,IF(INDEX('Target Organ'!O$3:O$186,$J46)="X",1,0))} -> 0
A47: =A46+1 -> 42 | B47: 160 | C47: 87-86-5 | D47: Pentachlorophenol | E47: - | F47: 0.707731 | G47: 0.00193899 | H47: 0.000717905 | J47: =MATCH(K47,'Target Organ'!A$3:A$186,0) -> #N/A | K47: =C47 -> 87-86-5 | L47: =D47 -> Pentachlorophenol | M47: =F47 -> 0.707731 | O47: =IF(LEN(N47)>0,M47/N47,0) -> 0 | P47: {=IF(ISNA($J47),0,IF(INDEX('Target Organ'!C$3:C$186,$J47)="X",1,0))} -> 0 | Q47: {=IF(ISNA($J47),0,IF(INDEX('Target Organ'!D$3:D$186,$J47)="X",1,0))} -> 0 | R47: {=IF(ISNA($J47),0,IF(INDEX('Target Organ'!E$3:E$186,$J47)="X",1,0))} -> 0 | S47: {=IF(ISNA($J47),0,IF(INDEX('Target Organ'!F$3:F$186,$J47)="X",1,0))} -> 0 | T47: {=IF(ISNA($J47),0,IF(INDEX('Target Organ'!G$3:G$186,$J47)="X",1,0))} -> 0 | U47: {=IF(ISNA($J47),0,IF(INDEX('Target Organ'!H$3:H$186,$J47)="X",1,0))} -> 0 | V47: {=IF(ISNA($J47),0,IF(INDEX('Target Organ'!I$3:I$186,$J47)="X",1,0))} -> 0 | W47: {=IF(ISNA($J47),0,IF(INDEX('Target Organ'!J$3:J$186,$J47)="X",1,0))} -> 0 | ... AB47: {=IF(ISNA($J47),0,IF(INDEX('Target Organ'!O$3:O$186,$J47)="X",1,0))} -> 0
A48: =A47+1 -> 43 | B48: 161 | C48: 108-95-2 | D48: Phenol | E48: - | F48: 494.484 | G48: 1.35475 | H48: 0.501593 | J48: =MATCH(K48,'Target Organ'!A$3:A$186,0) -> 113 | K48: =C48 -> 108-95-2 | L48: =D48 -> Phenol | M48: =F48 -> 494.484 | N48: 200 | O48: =IF(LEN(N48)>0,M48/N48,0) -> 2.47242 | P48: {=IF(ISNA($J48),0,IF(INDEX('Target Organ'!C$3:C$186,$J48)="X",1,0))} -> 0 | Q48: {=IF(ISNA($J48),0,IF(INDEX('Target Organ'!D$3:D$186,$J48)="X",1,0))} -> 1 | R48: {=IF(ISNA($J48),0,IF(INDEX('Target Organ'!E$3:E$186,$J48)="X",1,0))} -> 0 | S48: {=IF(ISNA($J48),0,IF(INDEX('Target Organ'!F$3:F$186,$J48)="X",1,0))} -> 0 | T48: {=IF(ISNA($J48),0,IF(INDEX('Target Organ'!G$3:G$186,$J48)="X",1,0))} -> 0 | U48: {=IF(ISNA($J48),0,IF(INDEX('Target Organ'!H$3:H$186,$J48)="X",1,0))} -> 0 | V48: {=IF(ISNA($J48),0,IF(INDEX('Target Organ'!I$3:I$186,$J48)="X",1,0))} -> 0 | W48: {=IF(ISNA($J48),0,IF(INDEX('Target Organ'!J$3:J$186,$J48)="X",1,0))} -> 1 | ... AB48: {=IF(ISNA($J48),0,IF(INDEX('Target Organ'!O$3:O$186,$J48)="X",1,0))} -> 0
A49: =A48+1 -> 44 | B49: 168 | C49: 1336-36-3 | D49: Polychlorinated biphenyls (PCBs) | E49: - | F49: 0.0242787 | G49: 6.65169e-05 | H49: 2.46277e-05 | J49: =MATCH(K49,'Target Organ'!A$3:A$186,0) -> #N/A | K49: =C49 -> 1336-36-3 | L49: =D49 -> Polychlorinated biphenyls (PCBs) | M49: =F49 -> 0.0242787 | O49: =IF(LEN(N49)>0,M49/N49,0) -> 0 | P49: {=IF(ISNA($J49),0,IF(INDEX('Target Organ'!C$3:C$186,$J49)="X",1,0))} -> 0 | Q49: {=IF(ISNA($J49),0,IF(INDEX('Target Organ'!D$3:D$186,$J49)="X",1,0))} -> 0 | R49: {=IF(ISNA($J49),0,IF(INDEX('Target Organ'!E$3:E$186,$J49)="X",1,0))} -> 0 | S49: {=IF(ISNA($J49),0,IF(INDEX('Target Organ'!F$3:F$186,$J49)="X",1,0))} -> 0 | T49: {=IF(ISNA($J49),0,IF(INDEX('Target Organ'!G$3:G$186,$J49)="X",1,0))} -> 0 | U49: {=IF(ISNA($J49),0,IF(INDEX('Target Organ'!H$3:H$186,$J49)="X",1,0))} -> 0 | V49: {=IF(ISNA($J49),0,IF(INDEX('Target Organ'!I$3:I$186,$J49)="X",1,0))} -> 0 | W49: {=IF(ISNA($J49),0,IF(INDEX('Target Organ'!J$3:J$186,$J49)="X",1,0))} -> 0 | ... AB49: {=IF(ISNA($J49),0,IF(INDEX('Target Organ'!O$3:O$186,$J49)="X",1,0))} -> 0
A50: =A49+1 -> 45 | B50: 183 | C50: 1746-01-6 | D50: 2,3,7,8-Tetrachlorodibenzo-p-dioxin (TCDD) | E50: - | F50: 2.02739e-06 | G50: 5.55448e-09 | H50: 2.05653e-09 | J50: =MATCH(K50,'Target Organ'!A$3:A$186,0) -> 134 | K50: =C50 -> 1746-01-6 | L50: =D50 -> 2,3,7,8-Tetrachlorodibenzo-p-dioxin (TCDD) | M50: =F50 -> 2.02739e-06 | N50: 1.3e-07 | O50: =IF(LEN(N50)>0,M50/N50,0) -> 15.595308 | P50: {=IF(ISNA($J50),0,IF(INDEX('Target Organ'!C$3:C$186,$J50)="X",1,0))} -> 0 | Q50: {=IF(ISNA($J50),0,IF(INDEX('Target Organ'!D$3:D$186,$J50)="X",1,0))} -> 1 | R50: {=IF(ISNA($J50),0,IF(INDEX('Target Organ'!E$3:E$186,$J50)="X",1,0))} -> 1 | S50: {=IF(ISNA($J50),0,IF(INDEX('Target Organ'!F$3:F$186,$J50)="X",1,0))} -> 0 | T50: {=IF(ISNA($J50),0,IF(INDEX('Target Organ'!G$3:G$186,$J50)="X",1,0))} -> 0 | U50: {=IF(ISNA($J50),0,IF(INDEX('Target Organ'!H$3:H$186,$J50)="X",1,0))} -> 0 | V50: {=IF(ISNA($J50),0,IF(INDEX('Target Organ'!I$3:I$186,$J50)="X",1,0))} -> 0 | W50: {=IF(ISNA($J50),0,IF(INDEX('Target Organ'!J$3:J$186,$J50)="X",1,0))} -> 0 | ... AB50: {=IF(ISNA($J50),0,IF(INDEX('Target Organ'!O$3:O$186,$J50)="X",1,0))} -> 0
A51: =A50+1 -> 46 | B51: 184 | C51: 40321-76-4 | D51: 1,2,3,7,8-Pentachlorodibenzo-p-dioxin (PeCDD) | E51: - | F51: 4.45036e-06 | G51: 1.21928e-08 | H51: 4.51434e-09 | J51: =MATCH(K51,'Target Organ'!A$3:A$186,0) -> 135 | K51: =C51 -> 40321-76-4 | L51: =D51 -> 1,2,3,7,8-Pentachlorodibenzo-p-dioxin (PeCDD) | M51: =F51 -> 4.45036e-06 | N51: 1.3e-07 | O51: =IF(LEN(N51)>0,M51/N51,0) -> 34.233538 | P51: {=IF(ISNA($J51),0,IF(INDEX('Target Organ'!C$3:C$186,$J51)="X",1,0))} -> 0 | Q51: {=IF(ISNA($J51),0,IF(INDEX('Target Organ'!D$3:D$186,$J51)="X",1,0))} -> 1 | R51: {=IF(ISNA($J51),0,IF(INDEX('Target Organ'!E$3:E$186,$J51)="X",1,0))} -> 1 | S51: {=IF(ISNA($J51),0,IF(INDEX('Target Organ'!F$3:F$186,$J51)="X",1,0))} -> 0 | T51: {=IF(ISNA($J51),0,IF(INDEX('Target Organ'!G$3:G$186,$J51)="X",1,0))} -> 0 | U51: {=IF(ISNA($J51),0,IF(INDEX('Target Organ'!H$3:H$186,$J51)="X",1,0))} -> 0 | V51: {=IF(ISNA($J51),0,IF(INDEX('Target Organ'!I$3:I$186,$J51)="X",1,0))} -> 0 | W51: {=IF(ISNA($J51),0,IF(INDEX('Target Organ'!J$3:J$186,$J51)="X",1,0))} -> 0 | ... AB51: {=IF(ISNA($J51),0,IF(INDEX('Target Organ'!O$3:O$186,$J51)="X",1,0))} -> 0
A52: =A51+1 -> 47 | B52: 185 | C52: 39227-28-6 | D52: 1,2,3,4,7,8-Hexachlorodibenzo-p-dioxin (HxCDD) | E52: - | F52: 2.8402e-06 | G52: 7.78136e-09 | H52: 2.88102e-09 | J52: =MATCH(K52,'Target Organ'!A$3:A$186,0) -> 136 | K52: =C52 -> 39227-28-6 | L52: =D52 -> 1,2,3,4,7,8-Hexachlorodibenzo-p-dioxin (HxCDD) | M52: =F52 -> 2.8402e-06 | N52: 1.3e-06 | O52: =IF(LEN(N52)>0,M52/N52,0) -> 2.1847692 | P52: {=IF(ISNA($J52),0,IF(INDEX('Target Organ'!C$3:C$186,$J52)="X",1,0))} -> 0 | Q52: {=IF(ISNA($J52),0,IF(INDEX('Target Organ'!D$3:D$186,$J52)="X",1,0))} -> 1 | R52: {=IF(ISNA($J52),0,IF(INDEX('Target Organ'!E$3:E$186,$J52)="X",1,0))} -> 1 | S52: {=IF(ISNA($J52),0,IF(INDEX('Target Organ'!F$3:F$186,$J52)="X",1,0))} -> 0 | T52: {=IF(ISNA($J52),0,IF(INDEX('Target Organ'!G$3:G$186,$J52)="X",1,0))} -> 0 | U52: {=IF(ISNA($J52),0,IF(INDEX('Target Organ'!H$3:H$186,$J52)="X",1,0))} -> 0 | V52: {=IF(ISNA($J52),0,IF(INDEX('Target Organ'!I$3:I$186,$J52)="X",1,0))} -> 0 | W52: {=IF(ISNA($J52),0,IF(INDEX('Target Organ'!J$3:J$186,$J52)="X",1,0))} -> 0 | ... AB52: {=IF(ISNA($J52),0,IF(INDEX('Target Organ'!O$3:O$186,$J52)="X",1,0))} -> 0
A53: =A52+1 -> 48 | B53: 186 | C53: 57653-85-7 | D53: 1,2,3,6,7,8-Hexachlorodibenzo-p-dioxin (HxCDD) | E53: - | F53: 6.89188e-06 | G53: 1.88819e-08 | H53: 6.99095e-09 | J53: =MATCH(K53,'Target Organ'!A$3:A$186,0) -> 137 | K53: =C53 -> 57653-85-7 | L53: =D53 -> 1,2,3,6,7,8-Hexachlorodibenzo-p-dioxin (HxCDD) | M53: =F53 -> 6.89188e-06 | N53: 1.3e-06 | O53: =IF(LEN(N53)>0,M53/N53,0) -> 5.3014462 | P53: {=IF(ISNA($J53),0,IF(INDEX('Target Organ'!C$3:C$186,$J53)="X",1,0))} -> 0 | Q53: {=IF(ISNA($J53),0,IF(INDEX('Target Organ'!D$3:D$186,$J53)="X",1,0))} -> 1 | R53: {=IF(ISNA($J53),0,IF(INDEX('Target Organ'!E$3:E$186,$J53)="X",1,0))} -> 1 | S53: {=IF(ISNA($J53),0,IF(INDEX('Target Organ'!F$3:F$186,$J53)="X",1,0))} -> 0 | T53: {=IF(ISNA($J53),0,IF(INDEX('Target Organ'!G$3:G$186,$J53)="X",1,0))} -> 0 | U53: {=IF(ISNA($J53),0,IF(INDEX('Target Organ'!H$3:H$186,$J53)="X",1,0))} -> 0 | V53: {=IF(ISNA($J53),0,IF(INDEX('Target Organ'!I$3:I$186,$J53)="X",1,0))} -> 0 | W53: {=IF(ISNA($J53),0,IF(INDEX('Target Organ'!J$3:J$186,$J53)="X",1,0))} -> 0 | ... AB53: {=IF(ISNA($J53),0,IF(INDEX('Target Organ'!O$3:O$186,$J53)="X",1,0))} -> 0
A54: =A53+1 -> 49 | B54: 187 | C54: 19408-74-3 | D54: 1,2,3,7,8,9-Hexachlorodibenzo-p-dioxin (HxCDD) | E54: - | F54: 6.89188e-06 | G54: 1.88819e-08 | H54: 6.99095e-09 | J54: =MATCH(K54,'Target Organ'!A$3:A$186,0) -> 138 | K54: =C54 -> 19408-74-3 | L54: =D54 -> 1,2,3,7,8,9-Hexachlorodibenzo-p-dioxin (HxCDD) | M54: =F54 -> 6.89188e-06 | N54: 1.3e-06 | O54: =IF(LEN(N54)>0,M54/N54,0) -> 5.3014462 | P54: {=IF(ISNA($J54),0,IF(INDEX('Target Organ'!C$3:C$186,$J54)="X",1,0))} -> 0 | Q54: {=IF(ISNA($J54),0,IF(INDEX('Target Organ'!D$3:D$186,$J54)="X",1,0))} -> 1 | R54: {=IF(ISNA($J54),0,IF(INDEX('Target Organ'!E$3:E$186,$J54)="X",1,0))} -> 1 | S54: {=IF(ISNA($J54),0,IF(INDEX('Target Organ'!F$3:F$186,$J54)="X",1,0))} -> 0 | T54: {=IF(ISNA($J54),0,IF(INDEX('Target Organ'!G$3:G$186,$J54)="X",1,0))} -> 0 | U54: {=IF(ISNA($J54),0,IF(INDEX('Target Organ'!H$3:H$186,$J54)="X",1,0))} -> 0 | V54: {=IF(ISNA($J54),0,IF(INDEX('Target Organ'!I$3:I$186,$J54)="X",1,0))} -> 0 | W54: {=IF(ISNA($J54),0,IF(INDEX('Target Organ'!J$3:J$186,$J54)="X",1,0))} -> 0 | ... AB54: {=IF(ISNA($J54),0,IF(INDEX('Target Organ'!O$3:O$186,$J54)="X",1,0))} -> 0
A55: =A54+1 -> 50 | B55: 188 | C55: 35822-46-9 | D55: 1,2,3,4,6,7,8-Heptachlorodibenzo-p-dioxin (HpCDD) | E55: - | F55: 3.04108e-05 | G55: 8.33172e-08 | H55: 3.0848e-08 | J55: =MATCH(K55,'Target Organ'!A$3:A$186,0) -> 139 | K55: =C55 -> 35822-46-9 | L55: =D55 -> 1,2,3,4,6,7,8-Heptachlorodibenzo-p-dioxin (HpCDD) | M55: =F55 -> 3.04108e-05 | N55: 1.3e-05 | O55: =IF(LEN(N55)>0,M55/N55,0) -> 2.3392923 | P55: {=IF(ISNA($J55),0,IF(INDEX('Target Organ'!C$3:C$186,$J55)="X",1,0))} -> 0 | Q55: {=IF(ISNA($J55),0,IF(INDEX('Target Organ'!D$3:D$186,$J55)="X",1,0))} -> 1 | R55: {=IF(ISNA($J55),0,IF(INDEX('Target Organ'!E$3:E$186,$J55)="X",1,0))} -> 1 | S55: {=IF(ISNA($J55),0,IF(INDEX('Target Organ'!F$3:F$186,$J55)="X",1,0))} -> 0 | T55: {=IF(ISNA($J55),0,IF(INDEX('Target Organ'!G$3:G$186,$J55)="X",1,0))} -> 0 | U55: {=IF(ISNA($J55),0,IF(INDEX('Target Organ'!H$3:H$186,$J55)="X",1,0))} -> 0 | V55: {=IF(ISNA($J55),0,IF(INDEX('Target Organ'!I$3:I$186,$J55)="X",1,0))} -> 0 | W55: {=IF(ISNA($J55),0,IF(INDEX('Target Organ'!J$3:J$186,$J55)="X",1,0))} -> 0 | ... AB55: {=IF(ISNA($J55),0,IF(INDEX('Target Organ'!O$3:O$186,$J55)="X",1,0))} -> 0
A56: =A55+1 -> 51 | B56: 189 | C56: 3268-87-9 | D56: Octachlorodibenzo-p-dioxin (OCDD) | E56: - | F56: 7.69541e-05 | G56: 2.10833e-07 | H56: 7.80604e-08 | J56: =MATCH(K56,'Target Organ'!A$3:A$186,0) -> 140 | K56: =C56 -> 3268-87-9 | L56: =D56 -> Octachlorodibenzo-p-dioxin (OCDD) | M56: =F56 -> 7.69541e-05 | N56: 0.00042 | O56: =IF(LEN(N56)>0,M56/N56,0) -> 0.18322405 | P56: {=IF(ISNA($J56),0,IF(INDEX('Target Organ'!C$3:C$186,$J56)="X",1,0))} -> 0 | Q56: {=IF(ISNA($J56),0,IF(INDEX('Target Organ'!D$3:D$186,$J56)="X",1,0))} -> 1 | R56: {=IF(ISNA($J56),0,IF(INDEX('Target Organ'!E$3:E$186,$J56)="X",1,0))} -> 1 | S56: {=IF(ISNA($J56),0,IF(INDEX('Target Organ'!F$3:F$186,$J56)="X",1,0))} -> 0 | T56: {=IF(ISNA($J56),0,IF(INDEX('Target Organ'!G$3:G$186,$J56)="X",1,0))} -> 0 | U56: {=IF(ISNA($J56),0,IF(INDEX('Target Organ'!H$3:H$186,$J56)="X",1,0))} -> 0 | V56: {=IF(ISNA($J56),0,IF(INDEX('Target Organ'!I$3:I$186,$J56)="X",1,0))} -> 0 | W56: {=IF(ISNA($J56),0,IF(INDEX('Target Organ'!J$3:J$186,$J56)="X",1,0))} -> 0 | ... AB56: {=IF(ISNA($J56),0,IF(INDEX('Target Organ'!O$3:O$186,$J56)="X",1,0))} -> 0
A57: =A56+1 -> 52 | B57: 190 | C57: 51207-31-9 | D57: 2,3,7,8-Tetrachlorodibenzofuran (TcDF) | E57: - | F57: 2.55587e-05 | G57: 7.00237e-08 | H57: 2.59261e-08 | J57: =MATCH(K57,'Target Organ'!A$3:A$186,0) -> 141 | K57: =C57 -> 51207-31-9 | L57: =D57 -> 2,3,7,8-Tetrachlorodibenzofuran (TcDF) | M57: =F57 -> 2.55587e-05 | N57: 1.3e-06 | O57: =IF(LEN(N57)>0,M57/N57,0) -> 19.660538 | P57: {=IF(ISNA($J57),0,IF(INDEX('Target Organ'!C$3:C$186,$J57)="X",1,0))} -> 0 | Q57: {=IF(ISNA($J57),0,IF(INDEX('Target Organ'!D$3:D$186,$J57)="X",1,0))} -> 1 | R57: {=IF(ISNA($J57),0,IF(INDEX('Target Organ'!E$3:E$186,$J57)="X",1,0))} -> 1 | S57: {=IF(ISNA($J57),0,IF(INDEX('Target Organ'!F$3:F$186,$J57)="X",1,0))} -> 0 | T57: {=IF(ISNA($J57),0,IF(INDEX('Target Organ'!G$3:G$186,$J57)="X",1,0))} -> 0 | U57: {=IF(ISNA($J57),0,IF(INDEX('Target Organ'!H$3:H$186,$J57)="X",1,0))} -> 0 | V57: {=IF(ISNA($J57),0,IF(INDEX('Target Organ'!I$3:I$186,$J57)="X",1,0))} -> 0 | W57: {=IF(ISNA($J57),0,IF(INDEX('Target Organ'!J$3:J$186,$J57)="X",1,0))} -> 0 | ... AB57: {=IF(ISNA($J57),0,IF(INDEX('Target Organ'!O$3:O$186,$J57)="X",1,0))} -> 0
A58: =A57+1 -> 53 | B58: 191 | C58: 57117-41-6 | D58: 1,2,3,7,8-Pentachlorodibenzofuran (PeCDF) | E58: - | F58: 1.25784e-05 | G58: 3.44615e-08 | H58: 1.27593e-08 | J58: =MATCH(K58,'Target Organ'!A$3:A$186,0) -> 142 | K58: =C58 -> 57117-41-6 | L58: =D58 -> 1,2,3,7,8-Pentachlorodibenzofuran (PeCDF) | M58: =F58 -> 1.25784e-05 | N58: 4.2e-06 | O58: =IF(LEN(N58)>0,M58/N58,0) -> 2.9948571 | P58: {=IF(ISNA($J58),0,IF(INDEX('Target Organ'!C$3:C$186,$J58)="X",1,0))} -> 0 | Q58: {=IF(ISNA($J58),0,IF(INDEX('Target Organ'!D$3:D$186,$J58)="X",1,0))} -> 1 | R58: {=IF(ISNA($J58),0,IF(INDEX('Target Organ'!E$3:E$186,$J58)="X",1,0))} -> 1 | S58: {=IF(ISNA($J58),0,IF(INDEX('Target Organ'!F$3:F$186,$J58)="X",1,0))} -> 0 | T58: {=IF(ISNA($J58),0,IF(INDEX('Target Organ'!G$3:G$186,$J58)="X",1,0))} -> 0 | U58: {=IF(ISNA($J58),0,IF(INDEX('Target Organ'!H$3:H$186,$J58)="X",1,0))} -> 0 | V58: {=IF(ISNA($J58),0,IF(INDEX('Target Organ'!I$3:I$186,$J58)="X",1,0))} -> 0 | W58: {=IF(ISNA($J58),0,IF(INDEX('Target Organ'!J$3:J$186,$J58)="X",1,0))} -> 0 | ... AB58: {=IF(ISNA($J58),0,IF(INDEX('Target Organ'!O$3:O$186,$J58)="X",1,0))} -> 0
A59: =A58+1 -> 54 | B59: 192 | C59: 57117-31-4 | D59: 2,3,4,7,8-Pentachlorodibenzofuran (PeCDF) | E59: - | F59: 1.74306e-05 | G59: 4.7755e-08 | H59: 1.76811e-08 | J59: =MATCH(K59,'Target Organ'!A$3:A$186,0) -> 143 | K59: =C59 -> 57117-31-4 | L59: =D59 -> 2,3,4,7,8-Pentachlorodibenzofuran (PeCDF) | M59: =F59 -> 1.74306e-05 | N59: 4.2e-07 | O59: =IF(LEN(N59)>0,M59/N59,0) -> 41.501429 | P59: {=IF(ISNA($J59),0,IF(INDEX('Target Organ'!C$3:C$186,$J59)="X",1,0))} -> 0 | Q59: {=IF(ISNA($J59),0,IF(INDEX('Target Organ'!D$3:D$186,$J59)="X",1,0))} -> 1 | R59: {=IF(ISNA($J59),0,IF(INDEX('Target Organ'!E$3:E$186,$J59)="X",1,0))} -> 1 | S59: {=IF(ISNA($J59),0,IF(INDEX('Target Organ'!F$3:F$186,$J59)="X",1,0))} -> 0 | T59: {=IF(ISNA($J59),0,IF(INDEX('Target Organ'!G$3:G$186,$J59)="X",1,0))} -> 0 | U59: {=IF(ISNA($J59),0,IF(INDEX('Target Organ'!H$3:H$186,$J59)="X",1,0))} -> 0 | V59: {=IF(ISNA($J59),0,IF(INDEX('Target Organ'!I$3:I$186,$J59)="X",1,0))} -> 0 | W59: {=IF(ISNA($J59),0,IF(INDEX('Target Organ'!J$3:J$186,$J59)="X",1,0))} -> 0 | ... AB59: {=IF(ISNA($J59),0,IF(INDEX('Target Organ'!O$3:O$186,$J59)="X",1,0))} -> 0
A60: =A59+1 -> 55 | B60: 193 | C60: 70648-26-9 | D60: 1,2,3,4,7,8-Hexachlorodibenzofuran (HxCDF) | E60: - | F60: 1.13422e-05 | G60: 3.10746e-08 | H60: 1.15053e-08 | J60: =MATCH(K60,'Target Organ'!A$3:A$186,0) -> 144 | K60: =C60 -> 70648-26-9 | L60: =D60 -> 1,2,3,4,7,8-Hexachlorodibenzofuran (HxCDF) | M60: =F60 -> 1.13422e-05 | N60: 1.3e-06 | O60: =IF(LEN(N60)>0,M60/N60,0) -> 8.7247692 | P60: {=IF(ISNA($J60),0,IF(INDEX('Target Organ'!C$3:C$186,$J60)="X",1,0))} -> 0 | Q60: {=IF(ISNA($J60),0,IF(INDEX('Target Organ'!D$3:D$186,$J60)="X",1,0))} -> 1 | R60: {=IF(ISNA($J60),0,IF(INDEX('Target Organ'!E$3:E$186,$J60)="X",1,0))} -> 1 | S60: {=IF(ISNA($J60),0,IF(INDEX('Target Organ'!F$3:F$186,$J60)="X",1,0))} -> 0 | T60: {=IF(ISNA($J60),0,IF(INDEX('Target Organ'!G$3:G$186,$J60)="X",1,0))} -> 0 | U60: {=IF(ISNA($J60),0,IF(INDEX('Target Organ'!H$3:H$186,$J60)="X",1,0))} -> 0 | V60: {=IF(ISNA($J60),0,IF(INDEX('Target Organ'!I$3:I$186,$J60)="X",1,0))} -> 0 | W60: {=IF(ISNA($J60),0,IF(INDEX('Target Organ'!J$3:J$186,$J60)="X",1,0))} -> 0 | ... AB60: {=IF(ISNA($J60),0,IF(INDEX('Target Organ'!O$3:O$186,$J60)="X",1,0))} -> 0
A61: =A60+1 -> 56 | B61: 194 | C61: 57117-44-9 | D61: 1,2,3,4,7,8--Hexachlorodibenzofuran (HxCDF) | E61: - | F61: 9.73516e-06 | G61: 2.66717e-08 | H61: 9.87511e-09 | J61: =MATCH(K61,'Target Organ'!A$3:A$186,0) -> 145 | K61: =C61 -> 57117-44-9 | L61: =D61 -> 1,2,3,4,7,8--Hexachlorodibenzofuran (HxCDF) | M61: =F61 -> 9.73516e-06 | N61: 1.3e-06 | O61: =IF(LEN(N61)>0,M61/N61,0) -> 7.4885846 | P61: {=IF(ISNA($J61),0,IF(INDEX('Target Organ'!C$3:C$186,$J61)="X",1,0))} -> 0 | Q61: {=IF(ISNA($J61),0,IF(INDEX('Target Organ'!D$3:D$186,$J61)="X",1,0))} -> 1 | R61: {=IF(ISNA($J61),0,IF(INDEX('Target Organ'!E$3:E$186,$J61)="X",1,0))} -> 1 | S61: {=IF(ISNA($J61),0,IF(INDEX('Target Organ'!F$3:F$186,$J61)="X",1,0))} -> 0 | T61: {=IF(ISNA($J61),0,IF(INDEX('Target Organ'!G$3:G$186,$J61)="X",1,0))} -> 0 | U61: {=IF(ISNA($J61),0,IF(INDEX('Target Organ'!H$3:H$186,$J61)="X",1,0))} -> 0 | V61: {=IF(ISNA($J61),0,IF(INDEX('Target Organ'!I$3:I$186,$J61)="X",1,0))} -> 0 | W61: {=IF(ISNA($J61),0,IF(INDEX('Target Organ'!J$3:J$186,$J61)="X",1,0))} -> 0 | ... AB61: {=IF(ISNA($J61),0,IF(INDEX('Target Organ'!O$3:O$186,$J61)="X",1,0))} -> 0
... A66: =A65+1 -> 61 | B66: 199 | C66: 39001-02-0 | D66: Octachlorodibenzofuran (OCDF) | E66: - | F66: 1.58235e-05 | G66: 4.33521e-08 | H66: 1.6051e-08 | J66: =MATCH(K66,'Target Organ'!A$3:A$186,0) -> 150 | K66: =C66 -> 39001-02-0 | L66: =D66 -> Octachlorodibenzofuran (OCDF) | M66: =F66 -> 1.58235e-05 | N66: 0.00042 | O66: =IF(LEN(N66)>0,M66/N66,0) -> 0.037675 | P66: {=IF(ISNA($J66),0,IF(INDEX('Target Organ'!C$3:C$186,$J66)="X",1,0))} -> 0 | Q66: {=IF(ISNA($J66),0,IF(INDEX('Target Organ'!D$3:D$186,$J66)="X",1,0))} -> 1 | R66: {=IF(ISNA($J66),0,IF(INDEX('Target Organ'!E$3:E$186,$J66)="X",1,0))} -> 1 | S66: {=IF(ISNA($J66),0,IF(INDEX('Target Organ'!F$3:F$186,$J66)="X",1,0))} -> 0 | T66: {=IF(ISNA($J66),0,IF(INDEX('Target Organ'!G$3:G$186,$J66)="X",1,0))} -> 0 | U66: {=IF(ISNA($J66),0,IF(INDEX('Target Organ'!H$3:H$186,$J66)="X",1,0))} -> 0 | V66: {=IF(ISNA($J66),0,IF(INDEX('Target Organ'!I$3:I$186,$J66)="X",1,0))} -> 0 | W66: {=IF(ISNA($J66),0,IF(INDEX('Target Organ'!J$3:J$186,$J66)="X",1,0))} -> 0 | ... AB66: {=IF(ISNA($J66),0,IF(INDEX('Target Organ'!O$3:O$186,$J66)="X",1,0))} -> 0
A67: =A66+1 -> 62 | B67: 202 | C67: 56-55-3 | D67: Benz[a]anthracene | E67: - | F67: 0.104421 | G67: 0.000286086 | H67: 0.000105922 | J67: =MATCH(K67,'Target Organ'!A$3:A$186,0) -> #N/A | K67: =C67 -> 56-55-3 | L67: =D67 -> Benz[a]anthracene | M67: =F67 -> 0.104421 | O67: =IF(LEN(N67)>0,M67/N67,0) -> 0 | P67: {=IF(ISNA($J67),0,IF(INDEX('Target Organ'!C$3:C$186,$J67)="X",1,0))} -> 0 | Q67: {=IF(ISNA($J67),0,IF(INDEX('Target Organ'!D$3:D$186,$J67)="X",1,0))} -> 0 | R67: {=IF(ISNA($J67),0,IF(INDEX('Target Organ'!E$3:E$186,$J67)="X",1,0))} -> 0 | S67: {=IF(ISNA($J67),0,IF(INDEX('Target Organ'!F$3:F$186,$J67)="X",1,0))} -> 0 | T67: {=IF(ISNA($J67),0,IF(INDEX('Target Organ'!G$3:G$186,$J67)="X",1,0))} -> 0 | U67: {=IF(ISNA($J67),0,IF(INDEX('Target Organ'!H$3:H$186,$J67)="X",1,0))} -> 0 | V67: {=IF(ISNA($J67),0,IF(INDEX('Target Organ'!I$3:I$186,$J67)="X",1,0))} -> 0 | W67: {=IF(ISNA($J67),0,IF(INDEX('Target Organ'!J$3:J$186,$J67)="X",1,0))} -> 0 | ... AB67: {=IF(ISNA($J67),0,IF(INDEX('Target Organ'!O$3:O$186,$J67)="X",1,0))} -> 0
A68: =A67+1 -> 63 | B68: 203 | C68: 50-32-8 | D68: Benzo[a]pyrene | E68: - | F68: 0.057677 | G68: 0.000158019 | H68: 5.85061e-05 | J68: =MATCH(K68,'Target Organ'!A$3:A$186,0) -> 151 | K68: =C68 -> 50-32-8 | L68: =D68 -> Benzo[a]pyrene | M68: =F68 -> 0.057677 | N68: 0.002 | O68: =IF(LEN(N68)>0,M68/N68,0) -> 28.8385 | P68: {=IF(ISNA($J68),0,IF(INDEX('Target Organ'!C$3:C$186,$J68)="X",1,0))} -> 0 | Q68: {=IF(ISNA($J68),0,IF(INDEX('Target Organ'!D$3:D$186,$J68)="X",1,0))} -> 0 | R68: {=IF(ISNA($J68),0,IF(INDEX('Target Organ'!E$3:E$186,$J68)="X",1,0))} -> 0 | S68: {=IF(ISNA($J68),0,IF(INDEX('Target Organ'!F$3:F$186,$J68)="X",1,0))} -> 0 | T68: {=IF(ISNA($J68),0,IF(INDEX('Target Organ'!G$3:G$186,$J68)="X",1,0))} -> 0 | U68: {=IF(ISNA($J68),0,IF(INDEX('Target Organ'!H$3:H$186,$J68)="X",1,0))} -> 0 | V68: {=IF(ISNA($J68),0,IF(INDEX('Target Organ'!I$3:I$186,$J68)="X",1,0))} -> 0 | W68: {=IF(ISNA($J68),0,IF(INDEX('Target Organ'!J$3:J$186,$J68)="X",1,0))} -> 0 | ... AB68: {=IF(ISNA($J68),0,IF(INDEX('Target Organ'!O$3:O$186,$J68)="X",1,0))} -> 1
A69: =A68+1 -> 64 | B69: 204 | C69: 205-99-2 | D69: Benzo[b]fluoranthene | E69: - | F69: 0.128914 | G69: 0.000353188 | H69: 0.000130767 | J69: =MATCH(K69,'Target Organ'!A$3:A$186,0) -> #N/A | K69: =C69 -> 205-99-2 | L69: =D69 -> Benzo[b]fluoranthene | M69: =F69 -> 0.128914 | O69: =IF(LEN(N69)>0,M69/N69,0) -> 0 | P69: {=IF(ISNA($J69),0,IF(INDEX('Target Organ'!C$3:C$186,$J69)="X",1,0))} -> 0 | Q69: {=IF(ISNA($J69),0,IF(INDEX('Target Organ'!D$3:D$186,$J69)="X",1,0))} -> 0 | R69: {=IF(ISNA($J69),0,IF(INDEX('Target Organ'!E$3:E$186,$J69)="X",1,0))} -> 0 | S69: {=IF(ISNA($J69),0,IF(INDEX('Target Organ'!F$3:F$186,$J69)="X",1,0))} -> 0 | T69: {=IF(ISNA($J69),0,IF(INDEX('Target Organ'!G$3:G$186,$J69)="X",1,0))} -> 0 | U69: {=IF(ISNA($J69),0,IF(INDEX('Target Organ'!H$3:H$186,$J69)="X",1,0))} -> 0 | V69: {=IF(ISNA($J69),0,IF(INDEX('Target Organ'!I$3:I$186,$J69)="X",1,0))} -> 0 | W69: {=IF(ISNA($J69),0,IF(INDEX('Target Organ'!J$3:J$186,$J69)="X",1,0))} -> 0 | ... AB69: {=IF(ISNA($J69),0,IF(INDEX('Target Organ'!O$3:O$186,$J69)="X",1,0))} -> 0
A70: =A69+1 -> 65 | B70: 206 | C70: 191-24-2 | D70: Benzo[g,h,i]perylene | E70: - | F70: 0.156767 | G70: 0.000429499 | H70: 0.000159021 | J70: =MATCH(K70,'Target Organ'!A$3:A$186,0) -> #N/A | K70: =C70 -> 191-24-2 | L70: =D70 -> Benzo[g,h,i]perylene | M70: =F70 -> 0.156767 | O70: =IF(LEN(N70)>0,M70/N70,0) -> 0 | P70: {=IF(ISNA($J70),0,IF(INDEX('Target Organ'!C$3:C$186,$J70)="X",1,0))} -> 0 | Q70: {=IF(ISNA($J70),0,IF(INDEX('Target Organ'!D$3:D$186,$J70)="X",1,0))} -> 0 | R70: {=IF(ISNA($J70),0,IF(INDEX('Target Organ'!E$3:E$186,$J70)="X",1,0))} -> 0 | S70: {=IF(ISNA($J70),0,IF(INDEX('Target Organ'!F$3:F$186,$J70)="X",1,0))} -> 0 | T70: {=IF(ISNA($J70),0,IF(INDEX('Target Organ'!G$3:G$186,$J70)="X",1,0))} -> 0 | U70: {=IF(ISNA($J70),0,IF(INDEX('Target Organ'!H$3:H$186,$J70)="X",1,0))} -> 0 | V70: {=IF(ISNA($J70),0,IF(INDEX('Target Organ'!I$3:I$186,$J70)="X",1,0))} -> 0 | W70: {=IF(ISNA($J70),0,IF(INDEX('Target Organ'!J$3:J$186,$J70)="X",1,0))} -> 0 | ... AB70: {=IF(ISNA($J70),0,IF(INDEX('Target Organ'!O$3:O$186,$J70)="X",1,0))} -> 0
A71: =A70+1 -> 66 | B71: 208 | C71: 207-08-9 | D71: Benzo[k]fluoranthene | E71: - | F71: 0.250101 | G71: 0.000685208 | H71: 0.000253696 | J71: =MATCH(K71,'Target Organ'!A$3:A$186,0) -> #N/A | K71: =C71 -> 207-08-9 | L71: =D71 -> Benzo[k]fluoranthene | M71: =F71 -> 0.250101 | O71: =IF(LEN(N71)>0,M71/N71,0) -> 0 | P71: {=IF(ISNA($J71),0,IF(INDEX('Target Organ'!C$3:C$186,$J71)="X",1,0))} -> 0 | Q71: {=IF(ISNA($J71),0,IF(INDEX('Target Organ'!D$3:D$186,$J71)="X",1,0))} -> 0 | R71: {=IF(ISNA($J71),0,IF(INDEX('Target Organ'!E$3:E$186,$J71)="X",1,0))} -> 0 | S71: {=IF(ISNA($J71),0,IF(INDEX('Target Organ'!F$3:F$186,$J71)="X",1,0))} -> 0 | T71: {=IF(ISNA($J71),0,IF(INDEX('Target Organ'!G$3:G$186,$J71)="X",1,0))} -> 0 | U71: {=IF(ISNA($J71),0,IF(INDEX('Target Organ'!H$3:H$186,$J71)="X",1,0))} -> 0 | V71: {=IF(ISNA($J71),0,IF(INDEX('Target Organ'!I$3:I$186,$J71)="X",1,0))} -> 0 | W71: {=IF(ISNA($J71),0,IF(INDEX('Target Organ'!J$3:J$186,$J71)="X",1,0))} -> 0 | ... AB71: {=IF(ISNA($J71),0,IF(INDEX('Target Organ'!O$3:O$186,$J71)="X",1,0))} -> 0
A72: =A71+1 -> 67 | B72: 209 | C72: 218-01-9 | D72: Chrysene | E72: - | F72: 0.179135 | G72: 0.00049078 | H72: 0.00018171 | J72: =MATCH(K72,'Target Organ'!A$3:A$186,0) -> #N/A | K72: =C72 -> 218-01-9 | L72: =D72 -> Chrysene | M72: =F72 -> 0.179135 | O72: =IF(LEN(N72)>0,M72/N72,0) -> 0 | P72: {=IF(ISNA($J72),0,IF(INDEX('Target Organ'!C$3:C$186,$J72)="X",1,0))} -> 0 | Q72: {=IF(ISNA($J72),0,IF(INDEX('Target Organ'!D$3:D$186,$J72)="X",1,0))} -> 0 | R72: {=IF(ISNA($J72),0,IF(INDEX('Target Organ'!E$3:E$186,$J72)="X",1,0))} -> 0 | S72: {=IF(ISNA($J72),0,IF(INDEX('Target Organ'!F$3:F$186,$J72)="X",1,0))} -> 0 | T72: {=IF(ISNA($J72),0,IF(INDEX('Target Organ'!G$3:G$186,$J72)="X",1,0))} -> 0 | U72: {=IF(ISNA($J72),0,IF(INDEX('Target Organ'!H$3:H$186,$J72)="X",1,0))} -> 0 | V72: {=IF(ISNA($J72),0,IF(INDEX('Target Organ'!I$3:I$186,$J72)="X",1,0))} -> 0 | W72: {=IF(ISNA($J72),0,IF(INDEX('Target Organ'!J$3:J$186,$J72)="X",1,0))} -> 0 | ... AB72: {=IF(ISNA($J72),0,IF(INDEX('Target Organ'!O$3:O$186,$J72)="X",1,0))} -> 0
A73: =A72+1 -> 68 | B73: 211 | C73: 53-70-3 | D73: Dibenz[a,h]anthracene | E73: - | F73: 0.0317809 | G73: 8.7071e-05 | H73: 3.22378e-05 | J73: =MATCH(K73,'Target Organ'!A$3:A$186,0) -> #N/A | K73: =C73 -> 53-70-3 | L73: =D73 -> Dibenz[a,h]anthracene | M73: =F73 -> 0.0317809 | O73: =IF(LEN(N73)>0,M73/N73,0) -> 0 | P73: {=IF(ISNA($J73),0,IF(INDEX('Target Organ'!C$3:C$186,$J73)="X",1,0))} -> 0 | Q73: {=IF(ISNA($J73),0,IF(INDEX('Target Organ'!D$3:D$186,$J73)="X",1,0))} -> 0 | R73: {=IF(ISNA($J73),0,IF(INDEX('Target Organ'!E$3:E$186,$J73)="X",1,0))} -> 0 | S73: {=IF(ISNA($J73),0,IF(INDEX('Target Organ'!F$3:F$186,$J73)="X",1,0))} -> 0 | T73: {=IF(ISNA($J73),0,IF(INDEX('Target Organ'!G$3:G$186,$J73)="X",1,0))} -> 0 | U73: {=IF(ISNA($J73),0,IF(INDEX('Target Organ'!H$3:H$186,$J73)="X",1,0))} -> 0 | V73: {=IF(ISNA($J73),0,IF(INDEX('Target Organ'!I$3:I$186,$J73)="X",1,0))} -> 0 | W73: {=IF(ISNA($J73),0,IF(INDEX('Target Organ'!J$3:J$186,$J73)="X",1,0))} -> 0 | ... AB73: {=IF(ISNA($J73),0,IF(INDEX('Target Organ'!O$3:O$186,$J73)="X",1,0))} -> 0
A74: =A73+1 -> 69 | B74: 216 | C74: 206-44-0 | D74: Fluoranthene | E74: - | F74: 3.85157 | G74: 0.0105522 | H74: 0.00390694 | J74: =MATCH(K74,'Target Organ'!A$3:A$186,0) -> #N/A | K74: =C74 -> 206-44-0 | L74: =D74 -> Fluoranthene | M74: =F74 -> 3.85157 | O74: =IF(LEN(N74)>0,M74/N74,0) -> 0 | P74: {=IF(ISNA($J74),0,IF(INDEX('Target Organ'!C$3:C$186,$J74)="X",1,0))} -> 0 | Q74: {=IF(ISNA($J74),0,IF(INDEX('Target Organ'!D$3:D$186,$J74)="X",1,0))} -> 0 | R74: {=IF(ISNA($J74),0,IF(INDEX('Target Organ'!E$3:E$186,$J74)="X",1,0))} -> 0 | S74: {=IF(ISNA($J74),0,IF(INDEX('Target Organ'!F$3:F$186,$J74)="X",1,0))} -> 0 | T74: {=IF(ISNA($J74),0,IF(INDEX('Target Organ'!G$3:G$186,$J74)="X",1,0))} -> 0 | U74: {=IF(ISNA($J74),0,IF(INDEX('Target Organ'!H$3:H$186,$J74)="X",1,0))} -> 0 | V74: {=IF(ISNA($J74),0,IF(INDEX('Target Organ'!I$3:I$186,$J74)="X",1,0))} -> 0 | W74: {=IF(ISNA($J74),0,IF(INDEX('Target Organ'!J$3:J$186,$J74)="X",1,0))} -> 0 | ... AB74: {=IF(ISNA($J74),0,IF(INDEX('Target Organ'!O$3:O$186,$J74)="X",1,0))} -> 0
A75: =A74+1 -> 70 | B75: 217 | C75: 193-39-5 | D75: Indeno[1,2,3-cd]pyrene | E75: - | F75: 0.0453921 | G75: 0.000124362 | H75: 4.60447e-05 | J75: =MATCH(K75,'Target Organ'!A$3:A$186,0) -> #N/A | K75: =C75 -> 193-39-5 | L75: =D75 -> Indeno[1,2,3-cd]pyrene | M75: =F75 -> 0.0453921 | O75: =IF(LEN(N75)>0,M75/N75,0) -> 0 | P75: {=IF(ISNA($J75),0,IF(INDEX('Target Organ'!C$3:C$186,$J75)="X",1,0))} -> 0 | Q75: {=IF(ISNA($J75),0,IF(INDEX('Target Organ'!D$3:D$186,$J75)="X",1,0))} -> 0 | R75: {=IF(ISNA($J75),0,IF(INDEX('Target Organ'!E$3:E$186,$J75)="X",1,0))} -> 0 | S75: {=IF(ISNA($J75),0,IF(INDEX('Target Organ'!F$3:F$186,$J75)="X",1,0))} -> 0 | T75: {=IF(ISNA($J75),0,IF(INDEX('Target Organ'!G$3:G$186,$J75)="X",1,0))} -> 0 | U75: {=IF(ISNA($J75),0,IF(INDEX('Target Organ'!H$3:H$186,$J75)="X",1,0))} -> 0 | V75: {=IF(ISNA($J75),0,IF(INDEX('Target Organ'!I$3:I$186,$J75)="X",1,0))} -> 0 | W75: {=IF(ISNA($J75),0,IF(INDEX('Target Organ'!J$3:J$186,$J75)="X",1,0))} -> 0 | ... AB75: {=IF(ISNA($J75),0,IF(INDEX('Target Organ'!O$3:O$186,$J75)="X",1,0))} -> 0
A76: =A75+1 -> 71 | B76: 222 | C76: 123-38-6 | D76: Propionaldehyde | E76: - | F76: 778.813 | G76: 2.13373 | H76: 0.790009 | J76: =MATCH(K76,'Target Organ'!A$3:A$186,0) -> 152 | K76: =C76 -> 123-38-6 | L76: =D76 -> Propionaldehyde | M76: =F76 -> 778.813 | N76: 8 | O76: =IF(LEN(N76)>0,M76/N76,0) -> 97.351625 | P76: {=IF(ISNA($J76),0,IF(INDEX('Target Organ'!C$3:C$186,$J76)="X",1,0))} -> 0 | Q76: {=IF(ISNA($J76),0,IF(INDEX('Target Organ'!D$3:D$186,$J76)="X",1,0))} -> 0 | R76: {=IF(ISNA($J76),0,IF(INDEX('Target Organ'!E$3:E$186,$J76)="X",1,0))} -> 0 | S76: {=IF(ISNA($J76),0,IF(INDEX('Target Organ'!F$3:F$186,$J76)="X",1,0))} -> 0 | T76: {=IF(ISNA($J76),0,IF(INDEX('Target Organ'!G$3:G$186,$J76)="X",1,0))} -> 0 | U76: {=IF(ISNA($J76),0,IF(INDEX('Target Organ'!H$3:H$186,$J76)="X",1,0))} -> 0 | V76: {=IF(ISNA($J76),0,IF(INDEX('Target Organ'!I$3:I$186,$J76)="X",1,0))} -> 0 | W76: {=IF(ISNA($J76),0,IF(INDEX('Target Organ'!J$3:J$186,$J76)="X",1,0))} -> 0 | ... AB76: {=IF(ISNA($J76),0,IF(INDEX('Target Organ'!O$3:O$186,$J76)="X",1,0))} -> 0
A77: =A76+1 -> 72 | B77: 229 | C77: 7782-49-2 | D77: Selenium and compounds | E77: Yes | F77: 5.00666 | G77: 0.0137169 | H77: 0.00590842 | J77: =MATCH(K77,'Target Organ'!A$3:A$186,0) -> 159 | K77: =C77 -> 7782-49-2 | L77: =D77 -> Selenium and compounds | M77: =F77 -> 5.00666 | O77: =IF(LEN(N77)>0,M77/N77,0) -> 0 | P77: {=IF(ISNA($J77),0,IF(INDEX('Target Organ'!C$3:C$186,$J77)="X",1,0))} -> 0 | Q77: {=IF(ISNA($J77),0,IF(INDEX('Target Organ'!D$3:D$186,$J77)="X",1,0))} -> 0 | R77: {=IF(ISNA($J77),0,IF(INDEX('Target Organ'!E$3:E$186,$J77)="X",1,0))} -> 0 | S77: {=IF(ISNA($J77),0,IF(INDEX('Target Organ'!F$3:F$186,$J77)="X",1,0))} -> 0 | T77: {=IF(ISNA($J77),0,IF(INDEX('Target Organ'!G$3:G$186,$J77)="X",1,0))} -> 0 | U77: {=IF(ISNA($J77),0,IF(INDEX('Target Organ'!H$3:H$186,$J77)="X",1,0))} -> 0 | V77: {=IF(ISNA($J77),0,IF(INDEX('Target Organ'!I$3:I$186,$J77)="X",1,0))} -> 0 | W77: {=IF(ISNA($J77),0,IF(INDEX('Target Organ'!J$3:J$186,$J77)="X",1,0))} -> 0 | ... AB77: {=IF(ISNA($J77),0,IF(INDEX('Target Organ'!O$3:O$186,$J77)="X",1,0))} -> 0
A78: =A77+1 -> 73 | B78: 232 | C78: 100-42-5 | D78: Styrene | E78: - | F78: 12.2574 | G78: 0.033582 | H78: 0.0124337 | J78: =MATCH(K78,'Target Organ'!A$3:A$186,0) -> 162 | K78: =C78 -> 100-42-5 | L78: =D78 -> Styrene | M78: =F78 -> 12.2574 | N78: 1000 | O78: =IF(LEN(N78)>0,M78/N78,0) -> 0.0122574 | P78: {=IF(ISNA($J78),0,IF(INDEX('Target Organ'!C$3:C$186,$J78)="X",1,0))} -> 0 | Q78: {=IF(ISNA($J78),0,IF(INDEX('Target Organ'!D$3:D$186,$J78)="X",1,0))} -> 0 | R78: {=IF(ISNA($J78),0,IF(INDEX('Target Organ'!E$3:E$186,$J78)="X",1,0))} -> 0 | S78: {=IF(ISNA($J78),0,IF(INDEX('Target Organ'!F$3:F$186,$J78)="X",1,0))} -> 0 | T78: {=IF(ISNA($J78),0,IF(INDEX('Target Organ'!G$3:G$186,$J78)="X",1,0))} -> 0 | U78: {=IF(ISNA($J78),0,IF(INDEX('Target Organ'!H$3:H$186,$J78)="X",1,0))} -> 0 | V78: {=IF(ISNA($J78),0,IF(INDEX('Target Organ'!I$3:I$186,$J78)="X",1,0))} -> 0 | W78: {=IF(ISNA($J78),0,IF(INDEX('Target Organ'!J$3:J$186,$J78)="X",1,0))} -> 1 | ... AB78: {=IF(ISNA($J78),0,IF(INDEX('Target Organ'!O$3:O$186,$J78)="X",1,0))} -> 0
A79: =A78+1 -> 74 | B79: 238 | C79: 127-18-4 | D79: Tetrachloroethene (Perchloroethylene) | E79: - | F79: 76.1274 | G79: 0.208568 | H79: 0.0772218 | J79: =MATCH(K79,'Target Organ'!A$3:A$186,0) -> 166 | K79: =C79 -> 127-18-4 | L79: =D79 -> Tetrachloroethene (Perchloroethylene) | M79: =F79 -> 76.1274 | N79: 41 | O79: =IF(LEN(N79)>0,M79/N79,0) -> 1.8567659 | P79: {=IF(ISNA($J79),0,IF(INDEX('Target Organ'!C$3:C$186,$J79)="X",1,0))} -> 0 | Q79: {=IF(ISNA($J79),0,IF(INDEX('Target Organ'!D$3:D$186,$J79)="X",1,0))} -> 0 | R79: {=IF(ISNA($J79),0,IF(INDEX('Target Organ'!E$3:E$186,$J79)="X",1,0))} -> 0 | S79: {=IF(ISNA($J79),0,IF(INDEX('Target Organ'!F$3:F$186,$J79)="X",1,0))} -> 0 | T79: {=IF(ISNA($J79),0,IF(INDEX('Target Organ'!G$3:G$186,$J79)="X",1,0))} -> 0 | U79: {=IF(ISNA($J79),0,IF(INDEX('Target Organ'!H$3:H$186,$J79)="X",1,0))} -> 0 | V79: {=IF(ISNA($J79),0,IF(INDEX('Target Organ'!I$3:I$186,$J79)="X",1,0))} -> 0 | W79: {=IF(ISNA($J79),0,IF(INDEX('Target Organ'!J$3:J$186,$J79)="X",1,0))} -> 1 | ... AB79: {=IF(ISNA($J79),0,IF(INDEX('Target Organ'!O$3:O$186,$J79)="X",1,0))} -> 0
A80: =A79+1 -> 75 | B80: 242 | C80: 108-88-3 | D80: Toluene | E80: - | F80: 21.688 | G80: 0.0594191 | H80: 0.0219997 | J80: =MATCH(K80,'Target Organ'!A$3:A$186,0) -> 169 | K80: =C80 -> 108-88-3 | L80: =D80 -> Toluene | M80: =F80 -> 21.688 | N80: 5000 | O80: =IF(LEN(N80)>0,M80/N80,0) -> 0.0043376 | P80: {=IF(ISNA($J80),0,IF(INDEX('Target Organ'!C$3:C$186,$J80)="X",1,0))} -> 0 | Q80: {=IF(ISNA($J80),0,IF(INDEX('Target Organ'!D$3:D$186,$J80)="X",1,0))} -> 0 | R80: {=IF(ISNA($J80),0,IF(INDEX('Target Organ'!E$3:E$186,$J80)="X",1,0))} -> 0 | S80: {=IF(ISNA($J80),0,IF(INDEX('Target Organ'!F$3:F$186,$J80)="X",1,0))} -> 0 | T80: {=IF(ISNA($J80),0,IF(INDEX('Target Organ'!G$3:G$186,$J80)="X",1,0))} -> 0 | U80: {=IF(ISNA($J80),0,IF(INDEX('Target Organ'!H$3:H$186,$J80)="X",1,0))} -> 0 | V80: {=IF(ISNA($J80),0,IF(INDEX('Target Organ'!I$3:I$186,$J80)="X",1,0))} -> 0 | W80: {=IF(ISNA($J80),0,IF(INDEX('Target Organ'!J$3:J$186,$J80)="X",1,0))} -> 1 | ... AB80: {=IF(ISNA($J80),0,IF(INDEX('Target Organ'!O$3:O$186,$J80)="X",1,0))} -> 0
A81: =A80+1 -> 76 | B81: 245 | C81: 71-55-6 | D81: 1,1,1-Trichloroethane (Methyl chloroform) | E81: - | F81: 178.725 | G81: 0.489658 | H81: 0.181294 | J81: =MATCH(K81,'Target Organ'!A$3:A$186,0) -> 171 | K81: =C81 -> 71-55-6 | L81: =D81 -> 1,1,1-Trichloroethane (Methyl chloroform) | M81: =F81 -> 178.725 | N81: 5000 | O81: =IF(LEN(N81)>0,M81/N81,0) -> 0.035745 | P81: {=IF(ISNA($J81),0,IF(INDEX('Target Organ'!C$3:C$186,$J81)="X",1,0))} -> 0 | Q81: {=IF(ISNA($J81),0,IF(INDEX('Target Organ'!D$3:D$186,$J81)="X",1,0))} -> 1 | R81: {=IF(ISNA($J81),0,IF(INDEX('Target Organ'!E$3:E$186,$J81)="X",1,0))} -> 0 | S81: {=IF(ISNA($J81),0,IF(INDEX('Target Organ'!F$3:F$186,$J81)="X",1,0))} -> 0 | T81: {=IF(ISNA($J81),0,IF(INDEX('Target Organ'!G$3:G$186,$J81)="X",1,0))} -> 0 | U81: {=IF(ISNA($J81),0,IF(INDEX('Target Organ'!H$3:H$186,$J81)="X",1,0))} -> 0 | V81: {=IF(ISNA($J81),0,IF(INDEX('Target Organ'!I$3:I$186,$J81)="X",1,0))} -> 0 | W81: {=IF(ISNA($J81),0,IF(INDEX('Target Organ'!J$3:J$186,$J81)="X",1,0))} -> 0 | ... AB81: {=IF(ISNA($J81),0,IF(INDEX('Target Organ'!O$3:O$186,$J81)="X",1,0))} -> 0
A82: =A81+1 -> 77 | B82: 247 | C82: 79-01-6 | D82: Trichloroethene (TCE, Trichloroethylene) | E82: - | F82: 61.3702 | G82: 0.168137 | H82: 0.0622524 | J82: =MATCH(C82,'Target Organ'!A$3:A$186,0) -> 172 | K82: =C82 -> 79-01-6 | L82: =D82 -> Trichloroethene (TCE, Trichloroethylene) | M82: =F82 -> 61.3702 | N82: 2.1 | O82: =IF(LEN(N82)>0,M82/N82,0) -> 29.223905 | P82: {=IF(ISNA($J82),0,IF(INDEX('Target Organ'!C$3:C$186,$J82)="X",1,0))} -> 0 | Q82: {=IF(ISNA($J82),0,IF(INDEX('Target Organ'!D$3:D$186,$J82)="X",1,0))} -> 0 | R82: {=IF(ISNA($J82),0,IF(INDEX('Target Organ'!E$3:E$186,$J82)="X",1,0))} -> 0 | S82: {=IF(ISNA($J82),0,IF(INDEX('Target Organ'!F$3:F$186,$J82)="X",1,0))} -> 0 | T82: {=IF(ISNA($J82),0,IF(INDEX('Target Organ'!G$3:G$186,$J82)="X",1,0))} -> 0 | U82: {=IF(ISNA($J82),0,IF(INDEX('Target Organ'!H$3:H$186,$J82)="X",1,0))} -> 0 | V82: {=IF(ISNA($J82),0,IF(INDEX('Target Organ'!I$3:I$186,$J82)="X",1,0))} -> 0 | W82: {=IF(ISNA($J82),0,IF(INDEX('Target Organ'!J$3:J$186,$J82)="X",1,0))} -> 0 | ... AB82: {=IF(ISNA($J82),0,IF(INDEX('Target Organ'!O$3:O$186,$J82)="X",1,0))} -> 1
A83: =A82+1 -> 78 | B83: 248 | C83: 88-06-2 | D83: 2,4,6-Trichlorophenol | E83: - | F83: 0.853428 | G83: 0.00233816 | H83: 0.000865696 | J83: =MATCH(K83,'Target Organ'!A$3:A$186,0) -> #N/A | K83: =C83 -> 88-06-2 | L83: =D83 -> 2,4,6-Trichlorophenol | M83: =F83 -> 0.853428 | O83: =IF(LEN(N83)>0,M83/N83,0) -> 0 | P83: {=IF(ISNA($J83),0,IF(INDEX('Target Organ'!C$3:C$186,$J83)="X",1,0))} -> 0 | Q83: {=IF(ISNA($J83),0,IF(INDEX('Target Organ'!D$3:D$186,$J83)="X",1,0))} -> 0 | R83: {=IF(ISNA($J83),0,IF(INDEX('Target Organ'!E$3:E$186,$J83)="X",1,0))} -> 0 | S83: {=IF(ISNA($J83),0,IF(INDEX('Target Organ'!F$3:F$186,$J83)="X",1,0))} -> 0 | T83: {=IF(ISNA($J83),0,IF(INDEX('Target Organ'!G$3:G$186,$J83)="X",1,0))} -> 0 | U83: {=IF(ISNA($J83),0,IF(INDEX('Target Organ'!H$3:H$186,$J83)="X",1,0))} -> 0 | V83: {=IF(ISNA($J83),0,IF(INDEX('Target Organ'!I$3:I$186,$J83)="X",1,0))} -> 0 | W83: {=IF(ISNA($J83),0,IF(INDEX('Target Organ'!J$3:J$186,$J83)="X",1,0))} -> 0 | ... AB83: {=IF(ISNA($J83),0,IF(INDEX('Target Organ'!O$3:O$186,$J83)="X",1,0))} -> 0
A84: =A83+1 -> 79 | B84: 255 | C84: 7440-62-2 | D84: Vanadium (fume or dust) | E84: Yes | F84: 1.83577 | G84: 0.00502952 | H84: 0.00458369 | J84: =MATCH(K84,'Target Organ'!A$3:A$186,0) -> 178 | K84: =C84 -> 7440-62-2 | L84: =D84 -> Vanadium (fume or dust) | M84: =F84 -> 1.83577 | N84: 0.1 | O84: =IF(LEN(N84)>0,M84/N84,0) -> 18.3577 | P84: {=IF(ISNA($J84),0,IF(INDEX('Target Organ'!C$3:C$186,$J84)="X",1,0))} -> 0 | Q84: {=IF(ISNA($J84),0,IF(INDEX('Target Organ'!D$3:D$186,$J84)="X",1,0))} -> 0 | R84: {=IF(ISNA($J84),0,IF(INDEX('Target Organ'!E$3:E$186,$J84)="X",1,0))} -> 0 | S84: {=IF(ISNA($J84),0,IF(INDEX('Target Organ'!F$3:F$186,$J84)="X",1,0))} -> 0 | T84: {=IF(ISNA($J84),0,IF(INDEX('Target Organ'!G$3:G$186,$J84)="X",1,0))} -> 0 | U84: {=IF(ISNA($J84),0,IF(INDEX('Target Organ'!H$3:H$186,$J84)="X",1,0))} -> 0 | V84: {=IF(ISNA($J84),0,IF(INDEX('Target Organ'!I$3:I$186,$J84)="X",1,0))} -> 0 | W84: {=IF(ISNA($J84),0,IF(INDEX('Target Organ'!J$3:J$186,$J84)="X",1,0))} -> 0 | ... AB84: {=IF(ISNA($J84),0,IF(INDEX('Target Organ'!O$3:O$186,$J84)="X",1,0))} -> 0
A85: =A84+1 -> 80 | B85: 259 | C85: 75-01-4 | D85: Vinyl chloride | E85: - | F85: 56.8657 | G85: 0.155796 | H85: 0.0576832 | J85: =MATCH(K85,'Target Organ'!A$3:A$186,0) -> 182 | K85: =C85 -> 75-01-4 | L85: =D85 -> Vinyl chloride | M85: =F85 -> 56.8657 | N85: 100 | O85: =IF(LEN(N85)>0,M85/N85,0) -> 0.568657 | P85: {=IF(ISNA($J85),0,IF(INDEX('Target Organ'!C$3:C$186,$J85)="X",1,0))} -> 0 | Q85: {=IF(ISNA($J85),0,IF(INDEX('Target Organ'!D$3:D$186,$J85)="X",1,0))} -> 1 | R85: {=IF(ISNA($J85),0,IF(INDEX('Target Organ'!E$3:E$186,$J85)="X",1,0))} -> 0 | S85: {=IF(ISNA($J85),0,IF(INDEX('Target Organ'!F$3:F$186,$J85)="X",1,0))} -> 0 | T85: {=IF(ISNA($J85),0,IF(INDEX('Target Organ'!G$3:G$186,$J85)="X",1,0))} -> 0 | U85: {=IF(ISNA($J85),0,IF(INDEX('Target Organ'!H$3:H$186,$J85)="X",1,0))} -> 0 | V85: {=IF(ISNA($J85),0,IF(INDEX('Target Organ'!I$3:I$186,$J85)="X",1,0))} -> 0 | W85: {=IF(ISNA($J85),0,IF(INDEX('Target Organ'!J$3:J$186,$J85)="X",1,0))} -> 0 | ... AB85: {=IF(ISNA($J85),0,IF(INDEX('Target Organ'!O$3:O$186,$J85)="X",1,0))} -> 0
A86: =A85+1 -> 81 | B86: 261 | C86: 1330-20-7 | D86: Xylene (mixture), including m-xylene, o-xylene, p-xylene | E86: - | F86: 16.1201 | G86: 0.0441646 | H86: 0.0163518 | J86: =MATCH(K86,'Target Organ'!A$3:A$186,0) -> 184 | K86: =C86 -> 1330-20-7 | L86: =D86 -> Xylene (mixture), including m-xylene, o-xylene, p-xylene | M86: =F86 -> 16.1201 | N86: 220 | O86: =IF(LEN(N86)>0,M86/N86,0) -> 0.073273182 | P86: {=IF(ISNA($J86),0,IF(INDEX('Target Organ'!C$3:C$186,$J86)="X",1,0))} -> 0 | Q86: {=IF(ISNA($J86),0,IF(INDEX('Target Organ'!D$3:D$186,$J86)="X",1,0))} -> 0 | R86: {=IF(ISNA($J86),0,IF(INDEX('Target Organ'!E$3:E$186,$J86)="X",1,0))} -> 0 | S86: {=IF(ISNA($J86),0,IF(INDEX('Target Organ'!F$3:F$186,$J86)="X",1,0))} -> 0 | T86: {=IF(ISNA($J86),0,IF(INDEX('Target Organ'!G$3:G$186,$J86)="X",1,0))} -> 0 | U86: {=IF(ISNA($J86),0,IF(INDEX('Target Organ'!H$3:H$186,$J86)="X",1,0))} -> 1 | V86: {=IF(ISNA($J86),0,IF(INDEX('Target Organ'!I$3:I$186,$J86)="X",1,0))} -> 0 | W86: {=IF(ISNA($J86),0,IF(INDEX('Target Organ'!J$3:J$186,$J86)="X",1,0))} -> 1 | ... AB86: {=IF(ISNA($J86),0,IF(INDEX('Target Organ'!O$3:O$186,$J86)="X",1,0))} -> 0
O88: =SUM(O6:O87) -> 56528.428 | P88: =SUMPRODUCT(P$6:P$87,$O$6:$O$87) -> 232.24804 | Q88: =SUMPRODUCT(Q$6:Q$87,$O$6:$O$87) -> 161.64782 | R88: =SUMPRODUCT(R$6:R$87,$O$6:$O$87) -> 1164.4985 | S88: =SUMPRODUCT(S$6:S$87,$O$6:$O$87) -> 0.13682575 | T88: =SUMPRODUCT(T$6:T$87,$O$6:$O$87) -> 0 | U88: =SUMPRODUCT(U$6:U$87,$O$6:$O$87) -> 0.073273182 | V88: =SUMPRODUCT(V$6:V$87,$O$6:$O$87) -> 0 | W88: =SUMPRODUCT(W$6:W$87,$O$6:$O$87) -> 37459.884 | ... AB88: =SUMPRODUCT(AB$6:AB$87,$O$6:$O$87) -> 222.6858
O89: Fraction | P89: =P88/$O88 -> 0.0041085176 | Q89: =Q88/$O88 -> 0.0028595845 | R89: =R88/$O88 -> 0.020600229 | S89: =S88/$O88 -> 2.4204768e-06 | T89: =T88/$O88 -> 0 | U89: =U88/$O88 -> 1.2962183e-06 | V89: =V88/$O88 -> 0 | W89: =W88/$O88 -> 0.66267338 | ... AB89: =AB88/$O88 -> 0.0039393596
K90: ChronicWorker/Child Target Organ Fraction for Steady State Operations
K91: CAS | L91: Pollutant | M91: E (lb/yr) | N91: RBC | O91: E/RBC | P91: =P5 -> Kidney | Q91: =Q5 -> Liver | R91: =R5 -> Blood | S91: =S5 -> Endo | T91: =T5 -> Musc | U91: =U5 -> Eyes | V91: =V5 -> Skin | W91: =W5 -> Nerv | ... AB91: =AB5 -> Develop
K92: =K6 -> 75-07-0 | L92: =L6 -> Acetaldehyde | M92: =M6 -> 1011.23 | N92: 620 | O92: =IF(LEN(N92)>0,M92/N92,0) -> 1.6310161 | P92: {=IF(ISNA($J6),0,IF(INDEX('Target Organ'!C$3:C$186,$J6)="X",1,0))} -> 0 | Q92: {=IF(ISNA($J6),0,IF(INDEX('Target Organ'!D$3:D$186,$J6)="X",1,0))} -> 0 | R92: {=IF(ISNA($J6),0,IF(INDEX('Target Organ'!E$3:E$186,$J6)="X",1,0))} -> 0 | S92: {=IF(ISNA($J6),0,IF(INDEX('Target Organ'!F$3:F$186,$J6)="X",1,0))} -> 0 | T92: {=IF(ISNA($J6),0,IF(INDEX('Target Organ'!G$3:G$186,$J6)="X",1,0))} -> 0 | U92: {=IF(ISNA($J6),0,IF(INDEX('Target Organ'!H$3:H$186,$J6)="X",1,0))} -> 0 | V92: {=IF(ISNA($J6),0,IF(INDEX('Target Organ'!I$3:I$186,$J6)="X",1,0))} -> 0 | W92: {=IF(ISNA($J6),0,IF(INDEX('Target Organ'!J$3:J$186,$J6)="X",1,0))} -> 0 | ... AB92: {=IF(ISNA($J6),0,IF(INDEX('Target Organ'!O$3:O$186,$J6)="X",1,0))} -> 0
K93: =K7 -> 67-64-1 | L93: =L7 -> Acetone | M93: =M7 -> 3677.73 | N93: 140000 | O93: =IF(LEN(N93)>0,M93/N93,0) -> 0.0262695 | P93: {=IF(ISNA($J7),0,IF(INDEX('Target Organ'!C$3:C$186,$J7)="X",1,0))} -> 0 | Q93: {=IF(ISNA($J7),0,IF(INDEX('Target Organ'!D$3:D$186,$J7)="X",1,0))} -> 0 | R93: {=IF(ISNA($J7),0,IF(INDEX('Target Organ'!E$3:E$186,$J7)="X",1,0))} -> 0 | S93: {=IF(ISNA($J7),0,IF(INDEX('Target Organ'!F$3:F$186,$J7)="X",1,0))} -> 0 | T93: {=IF(ISNA($J7),0,IF(INDEX('Target Organ'!G$3:G$186,$J7)="X",1,0))} -> 0 | U93: {=IF(ISNA($J7),0,IF(INDEX('Target Organ'!H$3:H$186,$J7)="X",1,0))} -> 0 | V93: {=IF(ISNA($J7),0,IF(INDEX('Target Organ'!I$3:I$186,$J7)="X",1,0))} -> 0 | W93: {=IF(ISNA($J7),0,IF(INDEX('Target Organ'!J$3:J$186,$J7)="X",1,0))} -> 1 | ... AB93: {=IF(ISNA($J7),0,IF(INDEX('Target Organ'!O$3:O$186,$J7)="X",1,0))} -> 0
K94: =K8 -> 107-02-8 | L94: =L8 -> Acrolein | M94: =M8 -> 323.418 | N94: 1.5 | O94: =IF(LEN(N94)>0,M94/N94,0) -> 215.612 | P94: {=IF(ISNA($J8),0,IF(INDEX('Target Organ'!C$3:C$186,$J8)="X",1,0))} -> 0 | Q94: {=IF(ISNA($J8),0,IF(INDEX('Target Organ'!D$3:D$186,$J8)="X",1,0))} -> 0 | R94: {=IF(ISNA($J8),0,IF(INDEX('Target Organ'!E$3:E$186,$J8)="X",1,0))} -> 0 | S94: {=IF(ISNA($J8),0,IF(INDEX('Target Organ'!F$3:F$186,$J8)="X",1,0))} -> 0 | T94: {=IF(ISNA($J8),0,IF(INDEX('Target Organ'!G$3:G$186,$J8)="X",1,0))} -> 0 | U94: {=IF(ISNA($J8),0,IF(INDEX('Target Organ'!H$3:H$186,$J8)="X",1,0))} -> 0 | V94: {=IF(ISNA($J8),0,IF(INDEX('Target Organ'!I$3:I$186,$J8)="X",1,0))} -> 0 | W94: {=IF(ISNA($J8),0,IF(INDEX('Target Organ'!J$3:J$186,$J8)="X",1,0))} -> 0 | ... AB94: {=IF(ISNA($J8),0,IF(INDEX('Target Organ'!O$3:O$186,$J8)="X",1,0))} -> 0
K95: =K9 -> 7664-41-7 | L95: =L9 -> Ammonia | M95: =M9 -> 21355.5 | N95: 2200 | O95: =IF(LEN(N95)>0,M95/N95,0) -> 9.7070455 | P95: {=IF(ISNA($J9),0,IF(INDEX('Target Organ'!C$3:C$186,$J9)="X",1,0))} -> 0 | Q95: {=IF(ISNA($J9),0,IF(INDEX('Target Organ'!D$3:D$186,$J9)="X",1,0))} -> 0 | R95: {=IF(ISNA($J9),0,IF(INDEX('Target Organ'!E$3:E$186,$J9)="X",1,0))} -> 0 | S95: {=IF(ISNA($J9),0,IF(INDEX('Target Organ'!F$3:F$186,$J9)="X",1,0))} -> 0 | T95: {=IF(ISNA($J9),0,IF(INDEX('Target Organ'!G$3:G$186,$J9)="X",1,0))} -> 0 | U95: {=IF(ISNA($J9),0,IF(INDEX('Target Organ'!H$3:H$186,$J9)="X",1,0))} -> 0 | V95: {=IF(ISNA($J9),0,IF(INDEX('Target Organ'!I$3:I$186,$J9)="X",1,0))} -> 0 | W95: {=IF(ISNA($J9),0,IF(INDEX('Target Organ'!J$3:J$186,$J9)="X",1,0))} -> 0 | ... AB95: {=IF(ISNA($J9),0,IF(INDEX('Target Organ'!O$3:O$186,$J9)="X",1,0))} -> 0
K96: =K10 -> 7440-36-0 | L96: =L10 -> Antimony and compounds | M96: =M10 -> 0.933339 | N96: 1.3 | O96: =IF(LEN(N96)>0,M96/N96,0) -> 0.71795308 | P96: {=IF(ISNA($J10),0,IF(INDEX('Target Organ'!C$3:C$186,$J10)="X",1,0))} -> 0 | Q96: {=IF(ISNA($J10),0,IF(INDEX('Target Organ'!D$3:D$186,$J10)="X",1,0))} -> 0 | R96: {=IF(ISNA($J10),0,IF(INDEX('Target Organ'!E$3:E$186,$J10)="X",1,0))} -> 0 | S96: {=IF(ISNA($J10),0,IF(INDEX('Target Organ'!F$3:F$186,$J10)="X",1,0))} -> 0 | T96: {=IF(ISNA($J10),0,IF(INDEX('Target Organ'!G$3:G$186,$J10)="X",1,0))} -> 0 | U96: {=IF(ISNA($J10),0,IF(INDEX('Target Organ'!H$3:H$186,$J10)="X",1,0))} -> 0 | V96: {=IF(ISNA($J10),0,IF(INDEX('Target Organ'!I$3:I$186,$J10)="X",1,0))} -> 0 | W96: {=IF(ISNA($J10),0,IF(INDEX('Target Organ'!J$3:J$186,$J10)="X",1,0))} -> 0 | ... AB96: {=IF(ISNA($J10),0,IF(INDEX('Target Organ'!O$3:O$186,$J10)="X",1,0))} -> 0
K97: =K11 -> 7440-38-2 | L97: =L11 -> Arsenic and compounds | M97: =M11 -> 5.81019 | N97: 0.0024 | O97: =IF(LEN(N97)>0,M97/N97,0) -> 2420.9125 | P97: {=IF(ISNA($J11),0,IF(INDEX('Target Organ'!C$3:C$186,$J11)="X",1,0))} -> 0 | Q97: {=IF(ISNA($J11),0,IF(INDEX('Target Organ'!D$3:D$186,$J11)="X",1,0))} -> 0 | R97: {=IF(ISNA($J11),0,IF(INDEX('Target Organ'!E$3:E$186,$J11)="X",1,0))} -> 0 | S97: {=IF(ISNA($J11),0,IF(INDEX('Target Organ'!F$3:F$186,$J11)="X",1,0))} -> 0 | T97: {=IF(ISNA($J11),0,IF(INDEX('Target Organ'!G$3:G$186,$J11)="X",1,0))} -> 0 | U97: {=IF(ISNA($J11),0,IF(INDEX('Target Organ'!H$3:H$186,$J11)="X",1,0))} -> 0 | V97: {=IF(ISNA($J11),0,IF(INDEX('Target Organ'!I$3:I$186,$J11)="X",1,0))} -> 0 | W97: {=IF(ISNA($J11),0,IF(INDEX('Target Organ'!J$3:J$186,$J11)="X",1,0))} -> 1 | ... AB97: {=IF(ISNA($J11),0,IF(INDEX('Target Organ'!O$3:O$186,$J11)="X",1,0))} -> 0
K98: =K12 -> 71-43-2 | L98: =L12 -> Benzene | M98: =M12 -> 3028.72 | N98: 13 | O98: =IF(LEN(N98)>0,M98/N98,0) -> 232.97846 | P98: {=IF(ISNA($J12),0,IF(INDEX('Target Organ'!C$3:C$186,$J12)="X",1,0))} -> 0 | Q98: {=IF(ISNA($J12),0,IF(INDEX('Target Organ'!D$3:D$186,$J12)="X",1,0))} -> 0 | R98: {=IF(ISNA($J12),0,IF(INDEX('Target Organ'!E$3:E$186,$J12)="X",1,0))} -> 1 | S98: {=IF(ISNA($J12),0,IF(INDEX('Target Organ'!F$3:F$186,$J12)="X",1,0))} -> 0 | T98: {=IF(ISNA($J12),0,IF(INDEX('Target Organ'!G$3:G$186,$J12)="X",1,0))} -> 0 | U98: {=IF(ISNA($J12),0,IF(INDEX('Target Organ'!H$3:H$186,$J12)="X",1,0))} -> 0 | V98: {=IF(ISNA($J12),0,IF(INDEX('Target Organ'!I$3:I$186,$J12)="X",1,0))} -> 0 | W98: {=IF(ISNA($J12),0,IF(INDEX('Target Organ'!J$3:J$186,$J12)="X",1,0))} -> 0 | ... AB98: {=IF(ISNA($J12),0,IF(INDEX('Target Organ'!O$3:O$186,$J12)="X",1,0))} -> 0
K99: =K13 -> 7440-41-7 | L99: =L13 -> Beryllium and compounds | M99: =M13 -> 0.0930249 | N99: 0.031 | O99: =IF(LEN(N99)>0,M99/N99,0) -> 3.0008032 | P99: {=IF(ISNA($J13),0,IF(INDEX('Target Organ'!C$3:C$186,$J13)="X",1,0))} -> 0 | Q99: {=IF(ISNA($J13),0,IF(INDEX('Target Organ'!D$3:D$186,$J13)="X",1,0))} -> 0 | R99: {=IF(ISNA($J13),0,IF(INDEX('Target Organ'!E$3:E$186,$J13)="X",1,0))} -> 0 | S99: {=IF(ISNA($J13),0,IF(INDEX('Target Organ'!F$3:F$186,$J13)="X",1,0))} -> 0 | T99: {=IF(ISNA($J13),0,IF(INDEX('Target Organ'!G$3:G$186,$J13)="X",1,0))} -> 0 | U99: {=IF(ISNA($J13),0,IF(INDEX('Target Organ'!H$3:H$186,$J13)="X",1,0))} -> 0 | V99: {=IF(ISNA($J13),0,IF(INDEX('Target Organ'!I$3:I$186,$J13)="X",1,0))} -> 0 | W99: {=IF(ISNA($J13),0,IF(INDEX('Target Organ'!J$3:J$186,$J13)="X",1,0))} -> 0 | ... AB99: {=IF(ISNA($J13),0,IF(INDEX('Target Organ'!O$3:O$186,$J13)="X",1,0))} -> 0
K100: =K14 -> 117-81-7 | L100: =L14 -> Bis(2-ethylhexyl) phthalate (DEHP) | M100: =M14 -> 0.14371 | O100: =IF(LEN(N100)>0,M100/N100,0) -> 0 | P100: {=IF(ISNA($J14),0,IF(INDEX('Target Organ'!C$3:C$186,$J14)="X",1,0))} -> 0 | Q100: {=IF(ISNA($J14),0,IF(INDEX('Target Organ'!D$3:D$186,$J14)="X",1,0))} -> 0 | R100: {=IF(ISNA($J14),0,IF(INDEX('Target Organ'!E$3:E$186,$J14)="X",1,0))} -> 0 | S100: {=IF(ISNA($J14),0,IF(INDEX('Target Organ'!F$3:F$186,$J14)="X",1,0))} -> 0 | T100: {=IF(ISNA($J14),0,IF(INDEX('Target Organ'!G$3:G$186,$J14)="X",1,0))} -> 0 | U100: {=IF(ISNA($J14),0,IF(INDEX('Target Organ'!H$3:H$186,$J14)="X",1,0))} -> 0 | V100: {=IF(ISNA($J14),0,IF(INDEX('Target Organ'!I$3:I$186,$J14)="X",1,0))} -> 0 | W100: {=IF(ISNA($J14),0,IF(INDEX('Target Organ'!J$3:J$186,$J14)="X",1,0))} -> 0 | ... AB100: {=IF(ISNA($J14),0,IF(INDEX('Target Organ'!O$3:O$186,$J14)="X",1,0))} -> 0
K101: =K15 -> 74-83-9 | L101: =L15 -> Bromomethane (Methyl bromide) | M101: =M15 -> 35.0775 | N101: 22 | O101: =IF(LEN(N101)>0,M101/N101,0) -> 1.5944318 | P101: {=IF(ISNA($J15),0,IF(INDEX('Target Organ'!C$3:C$186,$J15)="X",1,0))} -> 0 | Q101: {=IF(ISNA($J15),0,IF(INDEX('Target Organ'!D$3:D$186,$J15)="X",1,0))} -> 0 | R101: {=IF(ISNA($J15),0,IF(INDEX('Target Organ'!E$3:E$186,$J15)="X",1,0))} -> 0 | S101: {=IF(ISNA($J15),0,IF(INDEX('Target Organ'!F$3:F$186,$J15)="X",1,0))} -> 0 | T101: {=IF(ISNA($J15),0,IF(INDEX('Target Organ'!G$3:G$186,$J15)="X",1,0))} -> 0 | U101: {=IF(ISNA($J15),0,IF(INDEX('Target Organ'!H$3:H$186,$J15)="X",1,0))} -> 0 | V101: {=IF(ISNA($J15),0,IF(INDEX('Target Organ'!I$3:I$186,$J15)="X",1,0))} -> 0 | W101: {=IF(ISNA($J15),0,IF(INDEX('Target Organ'!J$3:J$186,$J15)="X",1,0))} -> 0 | ... AB101: {=IF(ISNA($J15),0,IF(INDEX('Target Organ'!O$3:O$186,$J15)="X",1,0))} -> 0
K102: =K16 -> 78-93-3 | L102: =L16 -> 2-Butanone (Methyl ethyl ketone) | M102: =M16 -> 48.2122 | N102: 22000 | O102: =IF(LEN(N102)>0,M102/N102,0) -> 0.0021914636 | P102: {=IF(ISNA($J16),0,IF(INDEX('Target Organ'!C$3:C$186,$J16)="X",1,0))} -> 0 | Q102: {=IF(ISNA($J16),0,IF(INDEX('Target Organ'!D$3:D$186,$J16)="X",1,0))} -> 0 | R102: {=IF(ISNA($J16),0,IF(INDEX('Target Organ'!E$3:E$186,$J16)="X",1,0))} -> 0 | S102: {=IF(ISNA($J16),0,IF(INDEX('Target Organ'!F$3:F$186,$J16)="X",1,0))} -> 0 | T102: {=IF(ISNA($J16),0,IF(INDEX('Target Organ'!G$3:G$186,$J16)="X",1,0))} -> 0 | U102: {=IF(ISNA($J16),0,IF(INDEX('Target Organ'!H$3:H$186,$J16)="X",1,0))} -> 0 | V102: {=IF(ISNA($J16),0,IF(INDEX('Target Organ'!I$3:I$186,$J16)="X",1,0))} -> 0 | W102: {=IF(ISNA($J16),0,IF(INDEX('Target Organ'!J$3:J$186,$J16)="X",1,0))} -> 0 | ... AB102: {=IF(ISNA($J16),0,IF(INDEX('Target Organ'!O$3:O$186,$J16)="X",1,0))} -> 1
K103: =K17 -> 7440-43-9 | L103: =L17 -> Cadmium and compounds | M103: =M17 -> 1.13091 | N103: 0.037 | O103: =IF(LEN(N103)>0,M103/N103,0) -> 30.565135 | P103: {=IF(ISNA($J17),0,IF(INDEX('Target Organ'!C$3:C$186,$J17)="X",1,0))} -> 1 | Q103: {=IF(ISNA($J17),0,IF(INDEX('Target Organ'!D$3:D$186,$J17)="X",1,0))} -> 0 | R103: {=IF(ISNA($J17),0,IF(INDEX('Target Organ'!E$3:E$186,$J17)="X",1,0))} -> 0 | S103: {=IF(ISNA($J17),0,IF(INDEX('Target Organ'!F$3:F$186,$J17)="X",1,0))} -> 0 | T103: {=IF(ISNA($J17),0,IF(INDEX('Target Organ'!G$3:G$186,$J17)="X",1,0))} -> 0 | U103: {=IF(ISNA($J17),0,IF(INDEX('Target Organ'!H$3:H$186,$J17)="X",1,0))} -> 0 | V103: {=IF(ISNA($J17),0,IF(INDEX('Target Organ'!I$3:I$186,$J17)="X",1,0))} -> 0 | W103: {=IF(ISNA($J17),0,IF(INDEX('Target Organ'!J$3:J$186,$J17)="X",1,0))} -> 0 | ... AB103: {=IF(ISNA($J17),0,IF(INDEX('Target Organ'!O$3:O$186,$J17)="X",1,0))} -> 0
K104: =K18 -> 75-15-0 | L104: =L18 -> Carbon disulfide | M104: =M18 -> 386.929 | N104: 3500 | O104: =IF(LEN(N104)>0,M104/N104,0) -> 0.11055114 | P104: {=IF(ISNA($J18),0,IF(INDEX('Target Organ'!C$3:C$186,$J18)="X",1,0))} -> 0 | Q104: {=IF(ISNA($J18),0,IF(INDEX('Target Organ'!D$3:D$186,$J18)="X",1,0))} -> 0 | R104: {=IF(ISNA($J18),0,IF(INDEX('Target Organ'!E$3:E$186,$J18)="X",1,0))} -> 0 | S104: {=IF(ISNA($J18),0,IF(INDEX('Target Organ'!F$3:F$186,$J18)="X",1,0))} -> 0 | T104: {=IF(ISNA($J18),0,IF(INDEX('Target Organ'!G$3:G$186,$J18)="X",1,0))} -> 0 | U104: {=IF(ISNA($J18),0,IF(INDEX('Target Organ'!H$3:H$186,$J18)="X",1,0))} -> 0 | V104: {=IF(ISNA($J18),0,IF(INDEX('Target Organ'!I$3:I$186,$J18)="X",1,0))} -> 0 | W104: {=IF(ISNA($J18),0,IF(INDEX('Target Organ'!J$3:J$186,$J18)="X",1,0))} -> 1 | ... AB104: {=IF(ISNA($J18),0,IF(INDEX('Target Organ'!O$3:O$186,$J18)="X",1,0))} -> 0
K105: =K19 -> 56-23-5 | L105: =L19 -> Carbon tetrachloride | M105: =M19 -> 62.1196 | N105: 440 | O105: =IF(LEN(N105)>0,M105/N105,0) -> 0.14118091 | P105: {=IF(ISNA($J19),0,IF(INDEX('Target Organ'!C$3:C$186,$J19)="X",1,0))} -> 0 | Q105: {=IF(ISNA($J19),0,IF(INDEX('Target Organ'!D$3:D$186,$J19)="X",1,0))} -> 1 | R105: {=IF(ISNA($J19),0,IF(INDEX('Target Organ'!E$3:E$186,$J19)="X",1,0))} -> 0 | S105: {=IF(ISNA($J19),0,IF(INDEX('Target Organ'!F$3:F$186,$J19)="X",1,0))} -> 0 | T105: {=IF(ISNA($J19),0,IF(INDEX('Target Organ'!G$3:G$186,$J19)="X",1,0))} -> 0 | U105: {=IF(ISNA($J19),0,IF(INDEX('Target Organ'!H$3:H$186,$J19)="X",1,0))} -> 0 | V105: {=IF(ISNA($J19),0,IF(INDEX('Target Organ'!I$3:I$186,$J19)="X",1,0))} -> 0 | W105: {=IF(ISNA($J19),0,IF(INDEX('Target Organ'!J$3:J$186,$J19)="X",1,0))} -> 0 | ... AB105: {=IF(ISNA($J19),0,IF(INDEX('Target Organ'!O$3:O$186,$J19)="X",1,0))} -> 0
K106: =K20 -> 7782-50-5 | L106: =L20 -> Chlorine | M106: =M20 -> 2261.26 | N106: 0.66 | O106: =IF(LEN(N106)>0,M106/N106,0) -> 3426.1515 | P106: {=IF(ISNA($J20),0,IF(INDEX('Target Organ'!C$3:C$186,$J20)="X",1,0))} -> 0 | Q106: {=IF(ISNA($J20),0,IF(INDEX('Target Organ'!D$3:D$186,$J20)="X",1,0))} -> 0 | R106: {=IF(ISNA($J20),0,IF(INDEX('Target Organ'!E$3:E$186,$J20)="X",1,0))} -> 0 | S106: {=IF(ISNA($J20),0,IF(INDEX('Target Organ'!F$3:F$186,$J20)="X",1,0))} -> 0 | T106: {=IF(ISNA($J20),0,IF(INDEX('Target Organ'!G$3:G$186,$J20)="X",1,0))} -> 0 | U106: {=IF(ISNA($J20),0,IF(INDEX('Target Organ'!H$3:H$186,$J20)="X",1,0))} -> 0 | V106: {=IF(ISNA($J20),0,IF(INDEX('Target Organ'!I$3:I$186,$J20)="X",1,0))} -> 0 | W106: {=IF(ISNA($J20),0,IF(INDEX('Target Organ'!J$3:J$186,$J20)="X",1,0))} -> 0 | ... AB106: {=IF(ISNA($J20),0,IF(INDEX('Target Organ'!O$3:O$186,$J20)="X",1,0))} -> 0
K107: =K21 -> 108-90-7 | L107: =L21 -> Chlorobenzene | M107: =M21 -> 51.3036 | N107: 220 | O107: =IF(LEN(N107)>0,M107/N107,0) -> 0.23319818 | P107: {=IF(ISNA($J21),0,IF(INDEX('Target Organ'!C$3:C$186,$J21)="X",1,0))} -> 1 | Q107: {=IF(ISNA($J21),0,IF(INDEX('Target Organ'!D$3:D$186,$J21)="X",1,0))} -> 0 | R107: {=IF(ISNA($J21),0,IF(INDEX('Target Organ'!E$3:E$186,$J21)="X",1,0))} -> 0 | S107: {=IF(ISNA($J21),0,IF(INDEX('Target Organ'!F$3:F$186,$J21)="X",1,0))} -> 0 | T107: {=IF(ISNA($J21),0,IF(INDEX('Target Organ'!G$3:G$186,$J21)="X",1,0))} -> 0 | U107: {=IF(ISNA($J21),0,IF(INDEX('Target Organ'!H$3:H$186,$J21)="X",1,0))} -> 0 | V107: {=IF(ISNA($J21),0,IF(INDEX('Target Organ'!I$3:I$186,$J21)="X",1,0))} -> 0 | W107: {=IF(ISNA($J21),0,IF(INDEX('Target Organ'!J$3:J$186,$J21)="X",1,0))} -> 0 | ... AB107: {=IF(ISNA($J21),0,IF(INDEX('Target Organ'!O$3:O$186,$J21)="X",1,0))} -> 0
...

Sheet Target Organ
A1: Table F-1 Chronic Target Organ Systems
A2: CASRN | B2: Chemical | C2: Kidney | D2: Liver | E2: Blood | F2: Endo | G2: Musc | H2: Eyes | I2: Skin | J2: Nerv | K2: Cardio | L2: Immune | M2: Resp | N2: Gastro | O2: Develop
A3: 75-07-0 | B3: Acetaldehyde | M3: X
A4: 67-64-1 | B4: Acetone | J4: X
A5: 75-05-8 | B5: Acetonitrile | J5: X | M5: X
A6: 107-02-8 | B6: Acrolein | M6: X
A7: 79-06-1 | B7: Acrylamide | J7: X
A8: 79-10-7 | B8: Acrylic acid | M8: X
A9: 107-13-1 | B9: Acrylonitrile | M9: X
A10: 107-05-1 | B10: Allyl chloride | J10: X
A11: 7429-90-5 | B11: Aluminum and compounds | J11: X
A12: 7664-41-7 | B12: Ammonia | M12: X
A13: 62-53-3 | B13: Aniline | L13: X
A14: 7440-36-0 | B14: Antimony and compounds | M14: X
A15: 7440-38-2 | B15: Arsenic and compounds | J15: X
A16: 7784-42-1 | B16: Arsine | J16: X
A17: 71-43-2 | B17: Benzene | E17: X
A18: 100-44-7 | B18: Benzyl chloride | M18: X
A19: 7440-41-7 | B19: Beryllium and compounds | L19: X | M19: X
A20: 111-44-4 | B20: Bis(2-chloroethyl) ether (BCEE)
A21: 542-88-1 | B21: Bis(chloromethyl) ether
A22: 74-83-9 | B22: Bromomethane (Methyl bromide) | M22: X
A23: 106-94-5 | B23: 1-Bromopropane (n-propyl bromide) | J23: X
A24: 106-99-0 | B24: 1,3-Butadiene | O24: X
A25: 78-93-3 | B25: 2-Butanone (Methyl ethyl ketone) | O25: X
A26: 78-92-2 | B26: sec-Butyl alcohol | O26: X
A27: 7440-43-9 | B27: Cadmium and compounds | C27: X
A28: 105-60-2 | B28: Caprolactam | M28: X
A29: 75-15-0 | B29: Carbon disulfide | J29: X
A30: 56-23-5 | B30: Carbon tetrachloride | D30: X
A31: 463-58-1 | B31: Carbonyl sulfide | J31: X
A32: 57-74-9 | B32: Chlordane | D32: X
A33: 7782-50-5 | B33: Chlorine | M33: X
A34: 10049-04-4 | B34: Chlorine dioxide | M34: X
A35: 532-27-4 | B35: 2-Chloroacetophenone | M35: X
A36: 108-90-7 | B36: Chlorobenzene | C36: X
A37: 75-68-3 | B37: 1-Chloro-1,1-difluoroethane | J37: X
A38: 75-45-6 | B38: Chlorodifluoromethane (Freon 22) | C38: X | F38: X
A39: 75-00-3 | B39: Chloroethane (Ethyl chloride) | G39: X | O39: X
A40: 67-66-3 | B40: Chloroform | C40: X | D40: X
A41: 74-87-3 | B41: Chloromethane (Methyl chloride) | J41: X
A42: 76-06-2 | B42: Chloropicrin | M42: X
A43: 126-99-8 | B43: Chloroprene | L43: X | M43: X
A44: 18540-29-9 | B44: Chromium VI, chromate and dichromate particulate | M44: X
A45: 18540-29-9 | B45: Chromium VI, chromic acid aerosol mist | M45: X
A46: 7440-48-4 | B46: Cobalt and compounds | M46: X
A47: 7440-50-8 | B47: Copper and compounds
A48: 1319-77-3 | B48: Cresols (mixture), including m-cresol, o-cresol, p-cresol | J48: X
A49: 74-90-8 | B49: Cyanide, Hydrogen | F49: X
A50: 110-82-7 | B50: Cyclohexane | O50: X
A51: 333-41-5 | B51: Diazinon
A52: 96-12-8 | B52: 1,2-Dibromo-3-chloropropane (DBCP) | O52: X
A53: 106-46-7 | B53: p-Dichlorobenzene (1,4- Dichlorobenzene) | M53: X
A54: 156-60-5 | B54: trans-1,2-dichloroethene
A55: 75-09-2 | B55: Dichloromethane (Methylene chloride) | D55: X
A56: 78-87-5 | B56: 1,2-Dichloropropane (Propylene dichloride) | M56: X
A57: 542-75-6 | B57: 1,3-Dichloropropene | M57: X
A58: 62-73-7 | B58: Dichlorovos (DDVP) | J58: X
A59: DPM | B59: Diesel Particulate Matter | M59: X
A60: 111-42-2 | B60: Diethanolamine | M60: X
A61: 112-34-5 | B61: Diethylene glycol monobutyl ether | D61: X
A62: 111-90-0 | B62: Diethylene glycol monoethyl ether | M62: X
A63: 75-37-6 | B63: 1,1-Difluoroethane | J63: X
A64: 68-12-2 | B64: Dimethyl formamide | D64: X
A65: 57-14-7 | B65: 1,1-Dimethylhydrazine
A66: 123-91-1 | B66: 1,4-Dioxane | M66: X
A67: 298-04-4 | B67: Disulfoton
A68: 106-89-8 | B68: Epichlorohydrin | M68: X
A69: 106-88-7 | B69: 1,2-Epoxybutane | M69: X
A70: 140-88-5 | B70: Ethyl acrylate | M70: X
A71: 100-41-4 | B71: Ethyl benzene | C71: X
A72: 106-93-4 | B72: Ethylene dibromide (EDB, 1,2- Dibromoethane) | M72: X
A73: 107-06-2 | B73: Ethylene dichloride (EDC, 1,2- Dichloroethane) | J73: X
A74: 107-21-1 | B74: Ethylene glycol | M74: X
A75: 111-76-2 | B75: Ethylene glycol monobutyl ether | M75: X
A76: 110-80-5 | B76: Ethylene glycol monoethyl ether | E76: X | O76: X
A77: 111-15-9 | B77: Ethylene glycol monoethyl ether acetate | O77: X
A78: 109-86-4 | B78: Ethylene glycol monomethyl ether | O78: X
A79: 110-49-6 | B79: Ethylene glycol monomethyl ether acetate | O79: X
A80: 75-21-8 | B80: Ethylene oxide | J80: X
A81: Fluorides | B81: Fluorides | G81: X
A82: 7782-41-4 | B82: Fluorine gas
A83: 50-00-0 | B83: Formaldehyde | M83: X
A84: 111-30-8 | B84: Glutaraldehyde | M84: X
A85: 77-47-4 | B85: Hexachlorocyclopentadiene | M85: X
A86: 67-72-1 | B86: Hexachloroethane | J86: X
A87: 822-06-0 | B87: Hexamethylene-1,6- diisocyanate | M87: X
A88: 110-54-3 | B88: Hexane | J88: X
A89: 302-01-2 | B89: Hydrazine | D89: X
A90: 7647-01-0 | B90: Hydrochloric acid | M90: X
A91: 7664-39-3 | B91: Hydrogen fluoride
A92: 83-06-4 | B92: Hydrogen sulfide | M92: X
A93: 78-59-1 | B93: Isophorone | O93: X
A94: 67-63-0 | B94: Isopropyl alcohol | O94: X
A95: 98-82-8 | B95: Isopropylbenzene (Cumene) | C95: X | F95: X
A96: 7439-92-1 | B96: Lead and compounds | O96: X
A97: 108-31-6 | B97: Maleic anhydride | M97: X
A98: 7439-96-5 | B98: Manganese and compounds | J98: X
A99: 7439-97-6 | B99: Mercury and compounds | J99: X
A100: 67-56-1 | B100: Methanol | O100: X
...
