Workbook
Name access_road: [1]Roads!$A$3:$E$507
Name Access_tpy: [1]Allocation!$B$74:$I$76
Name EI: [2]EI!$A$4:$AI$46
Name Fug_emis: [3]Allocation!$B$187:$I$269
Name Insig: [2]Insig.!$A$4:$AF$10
Name Insig_pph: [1]Insig.!$B$28:$M$38
Name Insig_tpy: [1]Insig.!$B$12:$M$22
Name MDL_CTL: #REF!
Name Mod_Ctrl: [5]ModelControl!$A$24:$AA$235
Name N_haul: [3]Allocation!$C$280:$L$2767
Name N_Insig_pph: '[3]N. Insig'!$S$12:$AD$42
Name N_Insig_tpy: '[3]N. Insig'!$B$12:$M$42
Name N_proc_pph_1: '[3]N. Process'!$AJ$11:$AU$41
Name N_proc_pph_2: '[3]N. Process'!$BA$11:$BL$40
Name N_proc_tpy_1: '[3]N. Process'!$B$11:$M$41
Name N_proc_tpy_2: '[3]N. Process'!$S$11:$AD$40
Name proc_pph: [1]Process!$S$10:$AD$62
Name proc_tpy: [1]Process!$B$10:$M$62
Name Road_emis: [5]Allocation!$B$160:$I$703
Name road_tpy: [1]Allocation!$B$93:$I$378
Name Roads: '[1]Road Allocation'!$B$10:$N$594
Name S_haul: [3]Allocation!$O$280:$X$915
Name S_Insig_pph: '[3]S. Insig'!$B$39:$M$60
Name S_Insig_tpy: '[3]S. Insig'!$B$12:$M$33
Name S_proc_pph: '[3]S. Process'!$S$12:$AD$45
Name S_proc_tpy: '[3]S. Process'!$B$12:$M$45
Name UG_PPH: '[5]UG Equip'!$B$32:$K$51
Name UG_TPY: '[5]UG Equip'!$B$11:$K$30

Sheet Table
F3: Steady State | G3: Steady State | H3: Start-up
E4: Metal | F4: Emissions | G4: Emissions | H4: Emissions | K4: Chronic Residential Target Organ Fraction for Steady State Operations
C5: CAS | D5: Pollutant | F5: (lb/yr) | G5: (lb/day) | H5: (lb/day) | K5: CAS | L5: Pollutant | M5: E (lb/yr) | N5: RBC | O5: E/RBC | P5: ='Target Organ'!C2 -> Kidney | Q5: ='Target Organ'!D2 -> Liver | R5: ='Target Organ'!E2 -> Blood | S5: ='Target Organ'!F2 -> Endo | T5: ='Target Organ'!G2 -> Musc | U5: ='Target Organ'!H2 -> Eyes | V5: ='Target Organ'!I2 -> Skin | W5: ='Target Organ'!J2 -> Nerv | ... AB5: ='Target Organ'!O2 -> Develop
A6: 1 | B6: 1 | C6: 75-07-0 | D6: Acetaldehyde | E6: - | F6: 1011.23 | G6: 2.77049 | H6: 1.02577 | J6: =MATCH(K6,'Target Organ'!A$3:A$186,0) -> 1 | K6: =C6 -> 75-07-0 | L6: =D6 -> Acetaldehyde | M6: =F6 -> 1011.23 | N6: 140 | O6: =IF(LEN(N6)>0,M6/N6,0) -> 7.2230714 | P6: {=IF(ISNA($J6),0,IF(INDEX('Target Organ'!C$3:C$186,$J6)="X",1,0))} -> 0 | Q6: {=IF(ISNA($J6),0,IF(INDEX('Target Organ'!D$3:D$186,$J6)="X",1,0))} -> 0 | R6: {=IF(ISNA($J6),0,IF(INDEX('Target Organ'!E$3:E$186,$J6)="X",1,0))} -> 0 | S6: {=IF(ISNA($J6),0,IF(INDEX('Target Organ'!F$3:F$186,$J6)="X",1,0))} -> 0 | T6: {=IF(ISNA($J6),0,IF(INDEX('Target Organ'!G$3:G$186,$J6)="X",1,0))} -> 0 | U6: {=IF(ISNA($J6),0,IF(INDEX('Target Organ'!H$3:H$186,$J6)="X",1,0))} -> 0 | V6: {=IF(ISNA($J6),0,IF(INDEX('Target Organ'!I$3:I$186,$J6)="X",1,0))} -> 0 | W6: {=IF(ISNA($J6),0,IF(INDEX('Target Organ'!J$3:J$186,$J6)="X",1,0))} -> 0 | ... AB6: {=IF(ISNA($J6),0,IF(INDEX('Target Organ'!O$3:O$186,$J6)="X",1,0))} -> 0 | AF6: Steady State Operation | AH6: Start-up
A7: =A6+1 -> 2 | B7: 3 | C7: 67-64-1 | D7: Acetone | E7: - | F7: 3677.73 | G7: 10.076 | H7: 3.7306 | J7: =MATCH(K7,'Target Organ'!A$3:A$186,0) -> 2 | K7: =C7 -> 67-64-1 | L7: =D7 -> Acetone | M7: =F7 -> 3677.73 | N7: 31000 | O7: =IF(LEN(N7)>0,M7/N7,0) -> 0.11863645 | P7: {=IF(ISNA($J7),0,IF(INDEX('Target Organ'!C$3:C$186,$J7)="X",1,0))} -> 0 | Q7: {=IF(ISNA($J7),0,IF(INDEX('Target Organ'!D$3:D$186,$J7)="X",1,0))} -> 0 | R7: {=IF(ISNA($J7),0,IF(INDEX('Target Organ'!E$3:E$186,$J7)="X",1,0))} -> 0 | S7: {=IF(ISNA($J7),0,IF(INDEX('Target Organ'!F$3:F$186,$J7)="X",1,0))} -> 0 | T7: {=IF(ISNA($J7),0,IF(INDEX('Target Organ'!G$3:G$186,$J7)="X",1,0))} -> 0 | U7: {=IF(ISNA($J7),0,IF(INDEX('Target Organ'!H$3:H$186,$J7)="X",1,0))} -> 0 | V7: {=IF(ISNA($J7),0,IF(INDEX('Target Organ'!I$3:I$186,$J7)="X",1,0))} -> 0 | W7: {=IF(ISNA($J7),0,IF(INDEX('Target Organ'!J$3:J$186,$J7)="X",1,0))} -> 1 | ... AB7: {=IF(ISNA($J7),0,IF(INDEX('Target Organ'!O$3:O$186,$J7)="X",1,0))} -> 0 | AE7: Exposure Scenario | AF7: Factor | AG7: Target Organ | AH7: Factor | AI7: Target Organ
A8: =A7+1 -> 3 | B8: 5 | C8: 107-02-8 | D8: Acrolein | E8: - | F8: 323.418 | G8: 0.886078 | H8: 0.328068 | J8: =MATCH(K8,'Target Organ'!A$3:A$186,0) -> 4 | K8: =C8 -> 107-02-8 | L8: =D8 -> Acrolein | M8: =F8 -> 323.418 | N8: 0.35 | O8: =IF(LEN(N8)>0,M8/N8,0) -> 924.05143 | P8: {=IF(ISNA($J8),0,IF(INDEX('Target Organ'!C$3:C$186,$J8)="X",1,0))} -> 0 | Q8: {=IF(ISNA($J8),0,IF(INDEX('Target Organ'!D$3:D$186,$J8)="X",1,0))} -> 0 | R8: {=IF(ISNA($J8),0,IF(INDEX('Target Organ'!E$3:E$186,$J8)="X",1,0))} -> 0 | S8: {=IF(ISNA($J8),0,IF(INDEX('Target Organ'!F$3:F$186,$J8)="X",1,0))} -> 0 | T8: {=IF(ISNA($J8),0,IF(INDEX('Target Organ'!G$3:G$186,$J8)="X",1,0))} -> 0 | U8: {=IF(ISNA($J8),0,IF(INDEX('Target Organ'!H$3:H$186,$J8)="X",1,0))} -> 0 | V8: {=IF(ISNA($J8),0,IF(INDEX('Target Organ'!I$3:I$186,$J8)="X",1,0))} -> 0 | W8: {=IF(ISNA($J8),0,IF(INDEX('Target Organ'!J$3:J$186,$J8)="X",1,0))} -> 0 | ... AB8: {=IF(ISNA($J8),0,IF(INDEX('Target Organ'!O$3:O$186,$J8)="X",1,0))} -> 0 | AE8: Chronic Residential | AF8: =MAX(P89:AB89) -> 0.66267338 | AG8: =INDEX(P$5:AB$5,MATCH(AF8,P89:AB89,0)) -> Nerv | AH8: NA
A9: =A8+1 -> 4 | B9: 12 | C9: 7664-41-7 | D9: Ammonia | E9: - | F9: 21355.5 | G9: 58.5084 | H9: 21.6625 | J9: =MATCH(K9,'Target Organ'!A$3:A$186,0) -> 10 | K9: =C9 -> 7664-41-7 | L9: =D9 -> Ammonia | M9: =F9 -> 21355.5 | N9: 500 | O9: =IF(LEN(N9)>0,M9/N9,0) -> 42.711 | P9: {=IF(ISNA($J9),0,IF(INDEX('Target Organ'!C$3:C$186,$J9)="X",1,0))} -> 0 | Q9: {=IF(ISNA($J9),0,IF(INDEX('Target Organ'!D$3:D$186,$J9)="X",1,0))} -> 0 | R9: {=IF(ISNA($J9),0,IF(INDEX('Target Organ'!E$3:E$186,$J9)="X",1,0))} -> 0 | S9: {=IF(ISNA($J9),0,IF(INDEX('Target Organ'!F$3:F$186,$J9)="X",1,0))} -> 0 | T9: {=IF(ISNA($J9),0,IF(INDEX('Target Organ'!G$3:G$186,$J9)="X",1,0))} -> 0 | U9: {=IF(ISNA($J9),0,IF(INDEX('Target Organ'!H$3:H$186,$J9)="X",1,0))} -> 0 | V9: {=IF(ISNA($J9),0,IF(INDEX('Target Organ'!I$3:I$186,$J9)="X",1,0))} -> 0 | W9: {=IF(ISNA($J9),0,IF(INDEX('Target Organ'!J$3:J$186,$J9)="X",1,0))} -> 0 | ... AB9: {=IF(ISNA($J9),0,IF(INDEX('Target Organ'!O$3:O$186,$J9)="X",1,0))} -> 0 | AE9: Chronic Child | AF9: =MAX(P175:AB175) -> 0.52827372 | AG9: =INDEX(P$5:AB$5,MATCH(AF9,P175:AB175,0)) -> Resp | AH9: NA
A10: =A9+1 -> 5 | B10: 14 | C10: 7440-36-0 | D10: Antimony and compounds | E10: Yes | F10: 0.933339 | G10: 0.00255709 | H10: 0.00237625 | J10: =MATCH(K10,'Target Organ'!A$3:A$186,0) -> 12 | K10: =C10 -> 7440-36-0 | L10: =D10 -> Antimony and compounds | M10: =F10 -> 0.933339 | N10: 0.3 | O10: =IF(LEN(N10)>0,M10/N10,0) -> 3.11113 | P10: {=IF(ISNA($J10),0,IF(INDEX('Target Organ'!C$3:C$186,$J10)="X",1,0))} -> 0 | Q10: {=IF(ISNA($J10),0,IF(INDEX('Target Organ'!D$3:D$186,$J10)="X",1,0))} -> 0 | R10: {=IF(ISNA($J10),0,IF(INDEX('Target Organ'!E$3:E$186,$J10)="X",1,0))} -> 0 | S10: {=IF(ISNA($J10),0,IF(INDEX('Target Organ'!F$3:F$186,$J10)="X",1,0))} -> 0 | T10: {=IF(ISNA($J10),0,IF(INDEX('Target Organ'!G$3:G$186,$J10)="X",1,0))} -> 0 | U10: {=IF(ISNA($J10),0,IF(INDEX('Target Organ'!H$3:H$186,$J10)="X",1,0))} -> 0 | V10: {=IF(ISNA($J10),0,IF(INDEX('Target Organ'!I$3:I$186,$J10)="X",1,0))} -> 0 | W10: {=IF(ISNA($J10),0,IF(INDEX('Target Organ'!J$3:J$186,$J10)="X",1,0))} -> 0 | ... AB10: {=IF(ISNA($J10),0,IF(INDEX('Target Organ'!O$3:O$186,$J10)="X",1,0))} -> 0 | AE10: Chronic Worker | AF10: =AF9 -> 0.52827372 | AG10: =AG9 -> Resp | AH10: NA
A11: =A10+1 -> 6 | B11: 16 | C11: 7440-38-2 | D11: Arsenic and compounds | E11: Yes | F11: 5.81019 | G11: 0.0159183 | H11: 0.00860201 | J11: =MATCH(K11,'Target Organ'!A$3:A$186,0) -> 13 | K11: =C11 -> 7440-38-2 | L11: =D11 -> Arsenic and compounds | M11: =F11 -> 5.81019 | N11: 0.00017 | O11: =IF(LEN(N11)>0,M11/N11,0) -> 34177.588 | P11: {=IF(ISNA($J11),0,IF(INDEX('Target Organ'!C$3:C$186,$J11)="X",1,0))} -> 0 | Q11: {=IF(ISNA($J11),0,IF(INDEX('Target Organ'!D$3:D$186,$J11)="X",1,0))} -> 0 | R11: {=IF(ISNA($J11),0,IF(INDEX('Target Organ'!E$3:E$186,$J11)="X",1,0))} -> 0 | S11: {=IF(ISNA($J11),0,IF(INDEX('Target Organ'!F$3:F$186,$J11)="X",1,0))} -> 0 | T11: {=IF(ISNA($J11),0,IF(INDEX('Target Organ'!G$3:G$186,$J11)="X",1,0))} -> 0 | U11: {=IF(ISNA($J11),0,IF(INDEX('Target Organ'!H$3:H$186,$J11)="X",1,0))} -> 0 | V11: {=IF(ISNA($J11),0,IF(INDEX('Target Organ'!I$3:I$186,$J11)="X",1,0))} -> 0 | W11: {=IF(ISNA($J11),0,IF(INDEX('Target Organ'!J$3:J$186,$J11)="X",1,0))} -> 1 | ... AB11: {=IF(ISNA($J11),0,IF(INDEX('Target Organ'!O$3:O$186,$J11)="X",1,0))} -> 0 | AE11: Acute | AF11: =MAX($P261:$AB261) -> 0.64276497 | AG11: =INDEX($P$5:$AB$5,MATCH(AF11,$P261:$AB261,0)) -> Nerv | AH11: =MAX($P347:$AB347) -> 0.87837455 | AI11: =INDEX($P$5:$AB$5,MATCH(AH11,$P347:$AB347,0)) -> Nerv
A12: =A11+1 -> 7 | B12: 20 | C12: 71-43-2 | D12: Benzene | E12: - | F12: 3028.72 | G12: 8.29786 | H12: 3.07226 | J12: =MATCH(K12,'Target Organ'!A$3:A$186,0) -> 15 | K12: =C12 -> 71-43-2 | L12: =D12 -> Benzene | M12: =F12 -> 3028.72 | N12: 3 | O12: =IF(LEN(N12)>0,M12/N12,0) -> 1009.5733 | P12: {=IF(ISNA($J12),0,IF(INDEX('Target Organ'!C$3:C$186,$J12)="X",1,0))} -> 0 | Q12: {=IF(ISNA($J12),0,IF(INDEX('Target Organ'!D$3:D$186,$J12)="X",1,0))} -> 0 | R12: {=IF(ISNA($J12),0,IF(INDEX('Target Organ'!E$3:E$186,$J12)="X",1,0))} -> 1 | S12: {=IF(ISNA($J12),0,IF(INDEX('Target Organ'!F$3:F$186,$J12)="X",1,0))} -> 0 | T12: {=IF(ISNA($J12),0,IF(INDEX('Target Organ'!G$3:G$186,$J12)="X",1,0))} -> 0 | U12: {=IF(ISNA($J12),0,IF(INDEX('Target Organ'!H$3:H$186,$J12)="X",1,0))} -> 0 | V12: {=IF(ISNA($J12),0,IF(INDEX('Target Organ'!I$3:I$186,$J12)="X",1,0))} -> 0 | W12: {=IF(ISNA($J12),0,IF(INDEX('Target Organ'!J$3:J$186,$J12)="X",1,0))} -> 0 | ... AB12: {=IF(ISNA($J12),0,IF(INDEX('Target Organ'!O$3:O$186,$J12)="X",1,0))} -> 0
A13: =A12+1 -> 8 | B13: 23 | C13: 7440-41-7 | D13: Beryllium and compounds | E13: Yes | F13: 0.0930249 | G13: 0.000254863 | H13: 0.000147255 | J13: =MATCH(K13,'Target Organ'!A$3:A$186,0) -> 17 | K13: =C13 -> 7440-41-7 | L13: =D13 -> Beryllium and compounds | M13: =F13 -> 0.0930249 | N13: 0.007 | O13: =IF(LEN(N13)>0,M13/N13,0) -> 13.289271 | P13: {=IF(ISNA($J13),0,IF(INDEX('Target Organ'!C$3:C$186,$J13)="X",1,0))} -> 0 | Q13: {=IF(ISNA($J13),0,IF(INDEX('Target Organ'!D$3:D$186,$J13)="X",1,0))} -> 0 | R13: {=IF(ISNA($J13),0,IF(INDEX('Target Organ'!E$3:E$186,$J13)="X",1,0))} -> 0 | S13: {=IF(ISNA($J13),0,IF(INDEX('Target Organ'!F$3:F$186,$J13)="X",1,0))} -> 0 | T13: {=IF(ISNA($J13),0,IF(INDEX('Target Organ'!G$3:G$186,$J13)="X",1,0))} -> 0 | U13: {=IF(ISNA($J13),0,IF(INDEX('Target Organ'!H$3:H$186,$J13)="X",1,0))} -> 0 | V13: {=IF(ISNA($J13),0,IF(INDEX('Target Organ'!I$3:I$186,$J13)="X",1,0))} -> 0 | W13: {=IF(ISNA($J13),0,IF(INDEX('Target Organ'!J$3:J$186,$J13)="X",1,0))} -> 0 | ... AB13: {=IF(ISNA($J13),0,IF(INDEX('Target Organ'!O$3:O$186,$J13)="X",1,0))} -> 0
A14: =A13+1 -> 9 | B14: 26 | C14: 117-81-7 | D14: Bis(2-ethylhexyl) phthalate (DEHP) | E14: - | F14: 0.14371 | G14: 0.000393725 | H14: 0.000145775 | J14: =MATCH(K14,'Target Organ'!A$3:A$186,0) -> #N/A | K14: =C14 -> 117-81-7 | L14: =D14 -> Bis(2-ethylhexyl) phthalate (DEHP) | M14: =F14 -> 0.14371 | O14: =IF(LEN(N14)>0,M14/N14,0) -> 0 | P14: {=IF(ISNA($J14),0,IF(INDEX('Target Organ'!C$3:C$186,$J14)="X",1,0))} -> 0 | Q14: {=IF(ISNA($J14),0,IF(INDEX('Target Organ'!D$3:D$186,$J14)="X",1,0))} -> 0 | R14: {=IF(ISNA($J14),0,IF(INDEX('Target Organ'!E$3:E$186,$J14)="X",1,0))} -> 0 | S14: {=IF(ISNA($J14),0,IF(INDEX('Target Organ'!F$3:F$186,$J14)="X",1,0))} -> 0 | T14: {=IF(ISNA($J14),0,IF(INDEX('Target Organ'!G$3:G$186,$J14)="X",1,0))} -> 0 | U14: {=IF(ISNA($J14),0,IF(INDEX('Target Organ'!H$3:H$186,$J14)="X",1,0))} -> 0 | V14: {=IF(ISNA($J14),0,IF(INDEX('Target Organ'!I$3:I$186,$J14)="X",1,0))} -> 0 | W14: {=IF(ISNA($J14),0,IF(INDEX('Target Organ'!J$3:J$186,$J14)="X",1,0))} -> 0 | ... AB14: {=IF(ISNA($J14),0,IF(INDEX('Target Organ'!O$3:O$186,$J14)="X",1,0))} -> 0
A15: =A14+1 -> 10 | B15: 28 | C15: 74-83-9 | D15: Bromomethane (Methyl bromide) | E15: - | F15: 35.0775 | G15: 0.0961027 | H15: 0.0355817 | J15: =MATCH(K15,'Target Organ'!A$3:A$186,0) -> 20 | K15: =C15 -> 74-83-9 | L15: =D15 -> Bromomethane (Methyl bromide) | M15: =F15 -> 35.0775 | N15: 5 | O15: =IF(LEN(N15)>0,M15/N15,0) -> 7.0155 | P15: {=IF(ISNA($J15),0,IF(INDEX('Target Organ'!C$3:C$186,$J15)="X",1,0))} -> 0 | Q15: {=IF(ISNA($J15),0,IF(INDEX('Target Organ'!D$3:D$186,$J15)="X",1,0))} -> 0 | R15: {=IF(ISNA($J15),0,IF(INDEX('Target Organ'!E$3:E$186,$J15)="X",1,0))} -> 0 | S15: {=IF(ISNA($J15),0,IF(INDEX('Target Organ'!F$3:F$186,$J15)="X",1,0))} -> 0 | T15: {=IF(ISNA($J15),0,IF(INDEX('Target Organ'!G$3:G$186,$J15)="X",1,0))} -> 0 | U15: {=IF(ISNA($J15),0,IF(INDEX('Target Organ'!H$3:H$186,$J15)="X",1,0))} -> 0 | V15: {=IF(ISNA($J15),0,IF(INDEX('Target Organ'!I$3:I$186,$J15)="X",1,0))} -> 0 | W15: {=IF(ISNA($J15),0,IF(INDEX('Target Organ'!J$3:J$186,$J15)="X",1,0))} -> 0 | ... AB15: {=IF(ISNA($J15),0,IF(INDEX('Target Organ'!O$3:O$186,$J15)="X",1,0))} -> 0
A16: =A15+1 -> 11 | B16: 31 | C16: 78-93-3 | D16: 2-Butanone (Methyl ethyl ketone) | E16: - | F16: 48.2122 | G16: 0.132088 | H16: 0.0489053 | J16: =MATCH(K16,'Target Organ'!A$3:A$186,0) -> 23 | K16: =C16 -> 78-93-3 | L16: =D16 -> 2-Butanone (Methyl ethyl ketone) | M16: =F16 -> 48.2122 | N16: 5000 | O16: =IF(LEN(N16)>0,M16/N16,0) -> 0.00964244 | P16: {=IF(ISNA($J16),0,IF(INDEX('Target Organ'!C$3:C$186,$J16)="X",1,0))} -> 0 | Q16: {=IF(ISNA($J16),0,IF(INDEX('Target Organ'!D$3:D$186,$J16)="X",1,0))} -> 0 | R16: {=IF(ISNA($J16),0,IF(INDEX('Target Organ'!E$3:E$186,$J16)="X",1,0))} -> 0 | S16: {=IF(ISNA($J16),0,IF(INDEX('Target Organ'!F$3:F$186,$J16)="X",1,0))} -> 0 | T16: {=IF(ISNA($J16),0,IF(INDEX('Target Organ'!G$3:G$186,$J16)="X",1,0))} -> 0 | U16: {=IF(ISNA($J16),0,IF(INDEX('Target Organ'!H$3:H$186,$J16)="X",1,0))} -> 0 | V16: {=IF(ISNA($J16),0,IF(INDEX('Target Organ'!I$3:I$186,$J16)="X",1,0))} -> 0 | W16: {=IF(ISNA($J16),0,IF(INDEX('Target Organ'!J$3:J$186,$J16)="X",1,0))} -> 0 | ... AB16: {=IF(ISNA($J16),0,IF(INDEX('Target Organ'!O$3:O$186,$J16)="X",1,0))} -> 1
A17: =A16+1 -> 12 | B17: 33 | C17: 7440-43-9 | D17: Cadmium and compounds | E17: Yes | F17: 1.13091 | G17: 0.00309838 | H17: 0.00350137 | J17: =MATCH(K17,'Target Organ'!A$3:A$186,0) -> 25 | K17: =C17 -> 7440-43-9 | L17: =D17 -> Cadmium and compounds | M17: =F17 -> 1.13091 | N17: 0.005 | O17: =IF(LEN(N17)>0,M17/N17,0) -> 226.182 | P17: {=IF(ISNA($J17),0,IF(INDEX('Target Organ'!C$3:C$186,$J17)="X",1,0))} -> 1 | Q17: {=IF(ISNA($J17),0,IF(INDEX('Target Organ'!D$3:D$186,$J17)="X",1,0))} -> 0 | R17: {=IF(ISNA($J17),0,IF(INDEX('Target Organ'!E$3:E$186,$J17)="X",1,0))} -> 0 | S17: {=IF(ISNA($J17),0,IF(INDEX('Target Organ'!F$3:F$186,$J17)="X",1,0))} -> 0 | T17: {=IF(ISNA($J17),0,IF(INDEX('Target Organ'!G$3:G$186,$J17)="X",1,0))} -> 0 | U17: {=IF(ISNA($J17),0,IF(INDEX('Target Organ'!H$3:H$186,$J17)="X",1,0))} -> 0 | V17: {=IF(ISNA($J17),0,IF(INDEX('Target Organ'!I$3:I$186,$J17)="X",1,0))} -> 0 | W17: {=IF(ISNA($J17),0,IF(INDEX('Target Organ'!J$3:J$186,$J17)="X",1,0))} -> 0 | ... AB17: {=IF(ISNA($J17),0,IF(INDEX('Target Organ'!O$3:O$186,$J17)="X",1,0))} -> 0
A18: =A17+1 -> 13 | B18: 35 | C18: 75-15-0 | D18: Carbon disulfide | E18: - | F18: 386.929 | G18: 1.06008 | H18: 0.392491 | J18: =MATCH(K18,'Target Organ'!A$3:A$186,0) -> 27 | K18: =C18 -> 75-15-0 | L18: =D18 -> Carbon disulfide | M18: =F18 -> 386.929 | N18: 800 | O18: =IF(LEN(N18)>0,M18/N18,0) -> 0.48366125 | P18: {=IF(ISNA($J18),0,IF(INDEX('Target Organ'!C$3:C$186,$J18)="X",1,0))} -> 0 | Q18: {=IF(ISNA($J18),0,IF(INDEX('Target Organ'!D$3:D$186,$J18)="X",1,0))} -> 0 | R18: {=IF(ISNA($J18),0,IF(INDEX('Target Organ'!E$3:E$186,$J18)="X",1,0))} -> 0 | S18: {=IF(ISNA($J18),0,IF(INDEX('Target Organ'!F$3:F$186,$J18)="X",1,0))} -> 0 | T18: {=IF(ISNA($J18),0,IF(INDEX('Target Organ'!G$3:G$186,$J18)="X",1,0))} -> 0 | U18: {=IF(ISNA($J18),0,IF(INDEX('Target Organ'!H$3:H$186,$J18)="X",1,0))} -> 0 | V18: {=IF(ISNA($J18),0,IF(INDEX('Target Organ'!I$3:I$186,$J18)="X",1,0))} -> 0 | W18: {=IF(ISNA($J18),0,IF(INDEX('Target Organ'!J$3:J$186,$J18)="X",1,0))} -> 1 | ... AB18: {=IF(ISNA($J18),0,IF(INDEX('Target Organ'!O$3:O$186,$J18)="X",1,0))} -> 0
A19: =A18+1 -> 14 | B19: 36 | C19: 56-23-5 | D19: Carbon tetrachloride | E19: - | F19: 62.1196 | G19: 0.170191 | H19: 0.0630126 | J19: =MATCH(K19,'Target Organ'!A$3:A$186,0) -> 28 | K19: =C19 -> 56-23-5 | L19: =D19 -> Carbon tetrachloride | M19: =F19 -> 62.1196 | N19: 100 | O19: =IF(LEN(N19)>0,M19/N19,0) -> 0.621196 | P19: {=IF(ISNA($J19),0,IF(INDEX('Target Organ'!C$3:C$186,$J19)="X",1,0))} -> 0 | Q19: {=IF(ISNA($J19),0,IF(INDEX('Target Organ'!D$3:D$186,$J19)="X",1,0))} -> 1 | R19: {=IF(ISNA($J19),0,IF(INDEX('Target Organ'!E$3:E$186,$J19)="X",1,0))} -> 0 | S19: {=IF(ISNA($J19),0,IF(INDEX('Target Organ'!F$3:F$186,$J19)="X",1,0))} -> 0 | T19: {=IF(ISNA($J19),0,IF(INDEX('Target Organ'!G$3:G$186,$J19)="X",1,0))} -> 0 | U19: {=IF(ISNA($J19),0,IF(INDEX('Target Organ'!H$3:H$186,$J19)="X",1,0))} -> 0 | V19: {=IF(ISNA($J19),0,IF(INDEX('Target Organ'!I$3:I$186,$J19)="X",1,0))} -> 0 | W19: {=IF(ISNA($J19),0,IF(INDEX('Target Organ'!J$3:J$186,$J19)="X",1,0))} -> 0 | ... AB19: {=IF(ISNA($J19),0,IF(INDEX('Target Organ'!O$3:O$186,$J19)="X",1,0))} -> 0
A20: =A19+1 -> 15 | B20: 40 | C20: 7782-50-5 | D20: Chlorine | E20: - | F20: 2261.26 | G20: 6.19522 | H20: 2.29376 | J20: =MATCH(K20,'Target Organ'!A$3:A$186,0) -> 31 | K20: =C20 -> 7782-50-5 | L20: =D20 -> Chlorine | M20: =F20 -> 2261.26 | N20: 0.15 | O20: =IF(LEN(N20)>0,M20/N20,0) -> 15075.067 | P20: {=IF(ISNA($J20),0,IF(INDEX('Target Organ'!C$3:C$186,$J20)="X",1,0))} -> 0 | Q20: {=IF(ISNA($J20),0,IF(INDEX('Target Organ'!D$3:D$186,$J20)="X",1,0))} -> 0 | R20: {=IF(ISNA($J20),0,IF(INDEX('Target Organ'!E$3:E$186,$J20)="X",1,0))} -> 0 | S20: {=IF(ISNA($J20),0,IF(INDEX('Target Organ'!F$3:F$186,$J20)="X",1,0))} -> 0 | T20: {=IF(ISNA($J20),0,IF(INDEX('Target Organ'!G$3:G$186,$J20)="X",1,0))} -> 0 | U20: {=IF(ISNA($J20),0,IF(INDEX('Target Organ'!H$3:H$186,$J20)="X",1,0))} -> 0 | V20: {=IF(ISNA($J20),0,IF(INDEX('Target Organ'!I$3:I$186,$J20)="X",1,0))} -> 0 | W20: {=IF(ISNA($J20),0,IF(INDEX('Target Organ'!J$3:J$186,$J20)="X",1,0))} -> 0 | ... AB20: {=IF(ISNA($J20),0,IF(INDEX('Target Organ'!O$3:O$186,$J20)="X",1,0))} -> 0
A21: =A20+1 -> 16 | B21: 43 | C21: 108-90-7 | D21: Chlorobenzene | E21: - | F21: 51.3036 | G21: 0.140558 | H21: 0.0520411 | J21: =MATCH(K21,'Target Organ'!A$3:A$186,0) -> 34 | K21: =C21 -> 108-90-7 | L21: =D21 -> Chlorobenzene | M21: =F21 -> 51.3036 | N21: 50 | O21: =IF(LEN(N21)>0,M21/N21,0) -> 1.026072 | P21: {=IF(ISNA($J21),0,IF(INDEX('Target Organ'!C$3:C$186,$J21)="X",1,0))} -> 1 | Q21: {=IF(ISNA($J21),0,IF(INDEX('Target Organ'!D$3:D$186,$J21)="X",1,0))} -> 0 | R21: {=IF(ISNA($J21),0,IF(INDEX('Target Organ'!E$3:E$186,$J21)="X",1,0))} -> 0 | S21: {=IF(ISNA($J21),0,IF(INDEX('Target Organ'!F$3:F$186,$J21)="X",1,0))} -> 0 | T21: {=IF(ISNA($J21),0,IF(INDEX('Target Organ'!G$3:G$186,$J21)="X",1,0))} -> 0 | U21: {=IF(ISNA($J21),0,IF(INDEX('Target Organ'!H$3:H$186,$J21)="X",1,0))} -> 0 | V21: {=IF(ISNA($J21),0,IF(INDEX('Target Organ'!I$3:I$186,$J21)="X",1,0))} -> 0 | W21: {=IF(ISNA($J21),0,IF(INDEX('Target Organ'!J$3:J$186,$J21)="X",1,0))} -> 0 | ... AB21: {=IF(ISNA($J21),0,IF(INDEX('Target Organ'!O$3:O$186,$J21)="X",1,0))} -> 0
A22: =A21+1 -> 17 | B22: 47 | C22: 67-66-3 | D22: Chloroform | E22: - | F22: 62.1196 | G22: 0.170191 | H22: 0.0630126 | J22: =MATCH(K22,'Target Organ'!A$3:A$186,0) -> 38 | K22: =C22 -> 67-66-3 | L22: =D22 -> Chloroform | M22: =F22 -> 62.1196 | N22: 300 | O22: =IF(LEN(N22)>0,M22/N22,0) -> 0.20706533 | P22: {=IF(ISNA($J22),0,IF(INDEX('Target Organ'!C$3:C$186,$J22)="X",1,0))} -> 1 | Q22: {=IF(ISNA($J22),0,IF(INDEX('Target Organ'!D$3:D$186,$J22)="X",1,0))} -> 1 | R22: {=IF(ISNA($J22),0,IF(INDEX('Target Organ'!E$3:E$186,$J22)="X",1,0))} -> 0 | S22: {=IF(ISNA($J22),0,IF(INDEX('Target Organ'!F$3:F$186,$J22)="X",1,0))} -> 0 | T22: {=IF(ISNA($J22),0,IF(INDEX('Target Organ'!G$3:G$186,$J22)="X",1,0))} -> 0 | U22: {=IF(ISNA($J22),0,IF(INDEX('Target Organ'!H$3:H$186,$J22)="X",1,0))} -> 0 | V22: {=IF(ISNA($J22),0,IF(INDEX('Target Organ'!I$3:I$186,$J22)="X",1,0))} -> 0 | W22: {=IF(ISNA($J22),0,IF(INDEX('Target Organ'!J$3:J$186,$J22)="X",1,0))} -> 0 | ... AB22: {=IF(ISNA($J22),0,IF(INDEX('Target Organ'!O$3:O$186,$J22)="X",1,0))} -> 0
A23: =A22+1 -> 18 | B23: 48 | C23: 74-87-3 | D23: Chloromethane (Methyl chloride) | E23: - | F23: 116.722 | G23: 0.319785 | H23: 0.118399 | J23: =MATCH(K23,'Target Organ'!A$3:A$186,0) -> 39 | K23: =C23 -> 74-87-3 | L23: =D23 -> Chloromethane (Methyl chloride) | M23: =F23 -> 116.722 | N23: 90 | O23: =IF(LEN(N23)>0,M23/N23,0) -> 1.2969111 | P23: {=IF(ISNA($J23),0,IF(INDEX('Target Organ'!C$3:C$186,$J23)="X",1,0))} -> 0 | Q23: {=IF(ISNA($J23),0,IF(INDEX('Target Organ'!D$3:D$186,$J23)="X",1,0))} -> 0 | R23: {=IF(ISNA($J23),0,IF(INDEX('Target Organ'!E$3:E$186,$J23)="X",1,0))} -> 0 | S23: {=IF(ISNA($J23),0,IF(INDEX('Target Organ'!F$3:F$186,$J23)="X",1,0))} -> 0 | T23: {=IF(ISNA($J23),0,IF(INDEX('Target Organ'!G$3:G$186,$J23)="X",1,0))} -> 0 | U23: {=IF(ISNA($J23),0,IF(INDEX('Target Organ'!H$3:H$186,$J23)="X",1,0))} -> 0 | V23: {=IF(ISNA($J23),0,IF(INDEX('Target Organ'!I$3:I$186,$J23)="X",1,0))} -> 0 | W23: {=IF(ISNA($J23),0,IF(INDEX('Target Organ'!J$3:J$186,$J23)="X",1,0))} -> 1 | ... AB23: {=IF(ISNA($J23),0,IF(INDEX('Target Organ'!O$3:O$186,$J23)="X",1,0))} -> 0
A24: =A23+1 -> 19 | B24: 53 | C24: 18540-29-9 | D24: Chromium VI, chromate and dichromate particulate | E24: Yes | F24: 0.841396 | G24: 0.0023052 | H24: 0.00426251 | J24: =MATCH(K24,'Target Organ'!A$3:A$186,0) -> 42 | K24: =C24 -> 18540-29-9 | L24: =D24 -> Chromium VI, chromate and dichromate particulate | M24: =F24 -> 0.841396 | N24: 0.083 | O24: =IF(LEN(N24)>0,M24/N24,0) -> 10.137301 | P24: {=IF(ISNA($J24),0,IF(INDEX('Target Organ'!C$3:C$186,$J24)="X",1,0))} -> 0 | Q24: {=IF(ISNA($J24),0,IF(INDEX('Target Organ'!D$3:D$186,$J24)="X",1,0))} -> 0 | R24: {=IF(ISNA($J24),0,IF(INDEX('Target Organ'!E$3:E$186,$J24)="X",1,0))} -> 0 | S24: {=IF(ISNA($J24),0,IF(INDEX('Target Organ'!F$3:F$186,$J24)="X",1,0))} -> 0 | T24: {=IF(ISNA($J24),0,IF(INDEX('Target Organ'!G$3:G$186,$J24)="X",1,0))} -> 0 | U24: {=IF(ISNA($J24),0,IF(INDEX('Target Organ'!H$3:H$186,$J24)="X",1,0))} -> 0 | V24: {=IF(ISNA($J24),0,IF(INDEX('Target Organ'!I$3:I$186,$J24)="X",1,0))} -> 0 | W24: {=IF(ISNA($J24),0,IF(INDEX('Target Organ'!J$3:J$186,$J24)="X",1,0))} -> 0 | ... AB24: {=IF(ISNA($J24),0,IF(INDEX('Target Organ'!O$3:O$186,$J24)="X",1,0))} -> 0
A25: =A24+1 -> 20 | B25: 55 | C25: 7440-48-4 | D25: Cobalt and compounds | E25: Yes | F25: 7.26611 | G25: 0.0199071 | H25: 0.00702097 | J25: =MATCH(K25,'Target Organ'!A$3:A$186,0) -> 44 | K25: =C25 -> 7440-48-4 | L25: =D25 -> Cobalt and compounds | M25: =F25 -> 7.26611 | N25: 0.1 | O25: =IF(LEN(N25)>0,M25/N25,0) -> 72.6611 | P25: {=IF(ISNA($J25),0,IF(INDEX('Target Organ'!C$3:C$186,$J25)="X",1,0))} -> 0 | Q25: {=IF(ISNA($J25),0,IF(INDEX('Target Organ'!D$3:D$186,$J25)="X",1,0))} -> 0 | R25: {=IF(ISNA($J25),0,IF(INDEX('Target Organ'!E$3:E$186,$J25)="X",1,0))} -> 0 | S25: {=IF(ISNA($J25),0,IF(INDEX('Target Organ'!F$3:F$186,$J25)="X",1,0))} -> 0 | T25: {=IF(ISNA($J25),0,IF(INDEX('Target Organ'!G$3:G$186,$J25)="X",1,0))} -> 0 | U25: {=IF(ISNA($J25),0,IF(INDEX('Target Organ'!H$3:H$186,$J25)="X",1,0))} -> 0 | V25: {=IF(ISNA($J25),0,IF(INDEX('Target Organ'!I$3:I$186,$J25)="X",1,0))} -> 0 | W25: {=IF(ISNA($J25),0,IF(INDEX('Target Organ'!J$3:J$186,$J25)="X",1,0))} -> 0 | ... AB25: {=IF(ISNA($J25),0,IF(INDEX('Target Organ'!O$3:O$186,$J25)="X",1,0))} -> 0
A26: =A25+1 -> 21 | B26: 57 | C26: 7440-50-8 | D26: Copper and compounds | E26: Yes | F26: 15.4295 | G26: 0.0422725 | H26: 0.0696107 | J26: =MATCH(K26,'Target Organ'!A$3:A$186,0) -> 45 | K26: =C26 -> 7440-50-8 | L26: =D26 -> Copper and compounds | M26: =F26 -> 15.4295 | O26: =IF(LEN(N26)>0,M26/N26,0) -> 0 | P26: {=IF(ISNA($J26),0,IF(INDEX('Target Organ'!C$3:C$186,$J26)="X",1,0))} -> 0 | Q26: {=IF(ISNA($J26),0,IF(INDEX('Target Organ'!D$3:D$186,$J26)="X",1,0))} -> 0 | R26: {=IF(ISNA($J26),0,IF(INDEX('Target Organ'!E$3:E$186,$J26)="X",1,0))} -> 0 | S26: {=IF(ISNA($J26),0,IF(INDEX('Target Organ'!F$3:F$186,$J26)="X",1,0))} -> 0 | T26: {=IF(ISNA($J26),0,IF(INDEX('Target Organ'!G$3:G$186,$J26)="X",1,0))} -> 0 | U26: {=IF(ISNA($J26),0,IF(INDEX('Target Organ'!H$3:H$186,$J26)="X",1,0))} -> 0 | V26: {=IF(ISNA($J26),0,IF(INDEX('Target Organ'!I$3:I$186,$J26)="X",1,0))} -> 0 | W26: {=IF(ISNA($J26),0,IF(INDEX('Target Organ'!J$3:J$186,$J26)="X",1,0))} -> 0 | ... AB26: {=IF(ISNA($J26),0,IF(INDEX('Target Organ'!O$3:O$186,$J26)="X",1,0))} -> 0
A27: =A26+1 -> 22 | B27: 68 | C27: 106-46-7 | D27: p-Dichlorobenzene (1,4-Dichlorobenzene) | E27: - | F27: 862.257 | G27: 2.36235 | H27: 0.874652 | J27: =MATCH(K27,'Target Organ'!A$3:A$186,0) -> 51 | K27: =C27 -> 106-46-7 | L27: =D27 -> p-Dichlorobenzene (1,4-Dichlorobenzene) | M27: =F27 -> 862.257 | N27: 60 | O27: =IF(LEN(N27)>0,M27/N27,0) -> 14.37095 | P27: {=IF(ISNA($J27),0,IF(INDEX('Target Organ'!C$3:C$186,$J27)="X",1,0))} -> 0 | Q27: {=IF(ISNA($J27),0,IF(INDEX('Target Organ'!D$3:D$186,$J27)="X",1,0))} -> 0 | R27: {=IF(ISNA($J27),0,IF(INDEX('Target Organ'!E$3:E$186,$J27)="X",1,0))} -> 0 | S27: {=IF(ISNA($J27),0,IF(INDEX('Target Organ'!F$3:F$186,$J27)="X",1,0))} -> 0 | T27: {=IF(ISNA($J27),0,IF(INDEX('Target Organ'!G$3:G$186,$J27)="X",1,0))} -> 0 | U27: {=IF(ISNA($J27),0,IF(INDEX('Target Organ'!H$3:H$186,$J27)="X",1,0))} -> 0 | V27: {=IF(ISNA($J27),0,IF(INDEX('Target Organ'!I$3:I$186,$J27)="X",1,0))} -> 0 | W27: {=IF(ISNA($J27),0,IF(INDEX('Target Organ'!J$3:J$186,$J27)="X",1,0))} -> 0 | ... AB27: {=IF(ISNA($J27),0,IF(INDEX('Target Organ'!O$3:O$186,$J27)="X",1,0))} -> 0
A28: =A27+1 -> 23 | B28: 72 | C28: 75-09-2 | D28: Dichloromethane (Methylene chloride) | E28: - | F28: 1690.52 | G28: 4.63156 | H28: 1.71482 | J28: =MATCH(K28,'Target Organ'!A$3:A$186,0) -> 53 | K28: =C28 -> 75-09-2 | L28: =D28 -> Dichloromethane (Methylene chloride) | M28: =F28 -> 1690.52 | N28: 600 | O28: =IF(LEN(N28)>0,M28/N28,0) -> 2.8175333 | P28: {=IF(ISNA($J28),0,IF(INDEX('Target Organ'!C$3:C$186,$J28)="X",1,0))} -> 0 | Q28: {=IF(ISNA($J28),0,IF(INDEX('Target Organ'!D$3:D$186,$J28)="X",1,0))} -> 1 | R28: {=IF(ISNA($J28),0,IF(INDEX('Target Organ'!E$3:E$186,$J28)="X",1,0))} -> 0 | S28: {=IF(ISNA($J28),0,IF(INDEX('Target Organ'!F$3:F$186,$J28)="X",1,0))} -> 0 | T28: {=IF(ISNA($J28),0,IF(INDEX('Target Organ'!G$3:G$186,$J28)="X",1,0))} -> 0 | U28: {=IF(ISNA($J28),0,IF(INDEX('Target Organ'!H$3:H$186,$J28)="X",1,0))} -> 0 | V28: {=IF(ISNA($J28),0,IF(INDEX('Target Organ'!I$3:I$186,$J28)="X",1,0))} -> 0 | W28: {=IF(ISNA($J28),0,IF(INDEX('Target Organ'!J$3:J$186,$J28)="X",1,0))} -> 0 | ... AB28: {=IF(ISNA($J28),0,IF(INDEX('Target Organ'!O$3:O$186,$J28)="X",1,0))} -> 0
A29: =A28+1 -> 24 | B29: 73 | C29: 78-87-5 | D29: 1,2-Dichloropropane (Propylene dichloride) | E29: - | F29: 52.0213 | G29: 0.142524 | H29: 0.0527691 | J29: =MATCH(K29,'Target Organ'!A$3:A$186,0) -> 54 | K29: =C29 -> 78-87-5 | L29: =D29 -> 1,2-Dichloropropane (Propylene dichloride) | M29: =F29 -> 52.0213 | N29: 4 | O29: =IF(LEN(N29)>0,M29/N29,0) -> 13.005325 | P29: {=IF(ISNA($J29),0,IF(INDEX('Target Organ'!C$3:C$186,$J29)="X",1,0))} -> 0 | Q29: {=IF(ISNA($J29),0,IF(INDEX('Target Organ'!D$3:D$186,$J29)="X",1,0))} -> 0 | R29: {=IF(ISNA($J29),0,IF(INDEX('Target Organ'!E$3:E$186,$J29)="X",1,0))} -> 0 | S29: {=IF(ISNA($J29),0,IF(INDEX('Target Organ'!F$3:F$186,$J29)="X",1,0))} -> 0 | T29: {=IF(ISNA($J29),0,IF(INDEX('Target Organ'!G$3:G$186,$J29)="X",1,0))} -> 0 | U29: {=IF(ISNA($J29),0,IF(INDEX('Target Organ'!H$3:H$186,$J29)="X",1,0))} -> 0 | V29: {=IF(ISNA($J29),0,IF(INDEX('Target Organ'!I$3:I$186,$J29)="X",1,0))} -> 0 | W29: {=IF(ISNA($J29),0,IF(INDEX('Target Organ'!J$3:J$186,$J29)="X",1,0))} -> 0 | ... AB29: {=IF(ISNA($J29),0,IF(INDEX('Target Organ'!O$3:O$186,$J29)="X",1,0))} -> 0
A30: =A29+1 -> 25 | B30: 85 | C30: 121-14-2 | D30: 2,4-Dinitrotoluene | E30: - | F30: 2.91128 | G30: 0.0079761 | H30: 0.00295313 | J30: =MATCH(K30,'Target Organ'!A$3:A$186,0) -> #N/A | K30: =C30 -> 121-14-2 | L30: =D30 -> 2,4-Dinitrotoluene | M30: =F30 -> 2.91128 | O30: =IF(LEN(N30)>0,M30/N30,0) -> 0 | P30: {=IF(ISNA($J30),0,IF(INDEX('Target Organ'!C$3:C$186,$J30)="X",1,0))} -> 0 | Q30: {=IF(ISNA($J30),0,IF(INDEX('Target Organ'!D$3:D$186,$J30)="X",1,0))} -> 0 | R30: {=IF(ISNA($J30),0,IF(INDEX('Target Organ'!E$3:E$186,$J30)="X",1,0))} -> 0 | S30: {=IF(ISNA($J30),0,IF(INDEX('Target Organ'!F$3:F$186,$J30)="X",1,0))} -> 0 | T30: {=IF(ISNA($J30),0,IF(INDEX('Target Organ'!G$3:G$186,$J30)="X",1,0))} -> 0 | U30: {=IF(ISNA($J30),0,IF(INDEX('Target Organ'!H$3:H$186,$J30)="X",1,0))} -> 0 | V30: {=IF(ISNA($J30),0,IF(INDEX('Target Organ'!I$3:I$186,$J30)="X",1,0))} -> 0 | W30: {=IF(ISNA($J30),0,IF(INDEX('Target Organ'!J$3:J$186,$J30)="X",1,0))} -> 0 | ... AB30: {=IF(ISNA($J30),0,IF(INDEX('Target Organ'!O$3:O$186,$J30)="X",1,0))} -> 0
A31: =A30+1 -> 26 | B31: 95 | C31: 100-41-4 | D31: Ethyl benzene | E31: - | F31: 1220.98 | G31: 3.34514 | H31: 1.23853 | J31: =MATCH(K31,'Target Organ'!A$3:A$186,0) -> 69 | K31: =C31 -> 100-41-4 | L31: =D31 -> Ethyl benzene | M31: =F31 -> 1220.98 | N31: 260 | O31: =IF(LEN(N31)>0,M31/N31,0) -> 4.6960769 | P31: {=IF(ISNA($J31),0,IF(INDEX('Target Organ'!C$3:C$186,$J31)="X",1,0))} -> 1 | Q31: {=IF(ISNA($J31),0,IF(INDEX('Target Organ'!D$3:D$186,$J31)="X",1,0))} -> 0 | R31: {=IF(ISNA($J31),0,IF(INDEX('Target Organ'!E$3:E$186,$J31)="X",1,0))} -> 0 | S31: {=IF(ISNA($J31),0,IF(INDEX('Target Organ'!F$3:F$186,$J31)="X",1,0))} -> 0 | T31: {=IF(ISNA($J31),0,IF(INDEX('Target Organ'!G$3:G$186,$J31)="X",1,0))} -> 0 | U31: {=IF(ISNA($J31),0,IF(INDEX('Target Organ'!H$3:H$186,$J31)="X",1,0))} -> 0 | V31: {=IF(ISNA($J31),0,IF(INDEX('Target Organ'!I$3:I$186,$J31)="X",1,0))} -> 0 | W31: {=IF(ISNA($J31),0,IF(INDEX('Target Organ'!J$3:J$186,$J31)="X",1,0))} -> 0 | ... AB31: {=IF(ISNA($J31),0,IF(INDEX('Target Organ'!O$3:O$186,$J31)="X",1,0))} -> 0
A32: =A31+1 -> 27 | B32: 97 | C32: 107-06-2 | D32: Ethylene dichloride (EDC, 1,2-Dichloroethane) | E32: - | F32: 90.2434 | G32: 0.247242 | H32: 0.0915407 | J32: =MATCH(K32,'Target Organ'!A$3:A$186,0) -> 71 | K32: =C32 -> 107-06-2 | L32: =D32 -> Ethylene dichloride (EDC, 1,2-Dichloroethane) | M32: =F32 -> 90.2434 | N32: 7 | O32: =IF(LEN(N32)>0,M32/N32,0) -> 12.891914 | P32: {=IF(ISNA($J32),0,IF(INDEX('Target Organ'!C$3:C$186,$J32)="X",1,0))} -> 0 | Q32: {=IF(ISNA($J32),0,IF(INDEX('Target Organ'!D$3:D$186,$J32)="X",1,0))} -> 0 | R32: {=IF(ISNA($J32),0,IF(INDEX('Target Organ'!E$3:E$186,$J32)="X",1,0))} -> 0 | S32: {=IF(ISNA($J32),0,IF(INDEX('Target Organ'!F$3:F$186,$J32)="X",1,0))} -> 0 | T32: {=IF(ISNA($J32),0,IF(INDEX('Target Organ'!G$3:G$186,$J32)="X",1,0))} -> 0 | U32: {=IF(ISNA($J32),0,IF(INDEX('Target Organ'!H$3:H$186,$J32)="X",1,0))} -> 0 | V32: {=IF(ISNA($J32),0,IF(INDEX('Target Organ'!I$3:I$186,$J32)="X",1,0))} -> 0 | W32: {=IF(ISNA($J32),0,IF(INDEX('Target Organ'!J$3:J$186,$J32)="X",1,0))} -> 1 | ... AB32: {=IF(ISNA($J32),0,IF(INDEX('Target Organ'!O$3:O$186,$J32)="X",1,0))} -> 0
A33: =A32+1 -> 28 | B33: 108 | C33: 50-00-0 | D33: Formaldehyde | E33: - | F33: 324.839 | G33: 0.88997 | H33: 0.329509 | J33: =MATCH(K33,'Target Organ'!A$3:A$186,0) -> 81 | K33: =C33 -> 50-00-0 | L33: =D33 -> Formaldehyde | M33: =F33 -> 324.839 | N33: 9 | O33: =IF(LEN(N33)>0,M33/N33,0) -> 36.093222 | P33: {=IF(ISNA($J33),0,IF(INDEX('Target Organ'!C$3:C$186,$J33)="X",1,0))} -> 0 | Q33: {=IF(ISNA($J33),0,IF(INDEX('Target Organ'!D$3:D$186,$J33)="X",1,0))} -> 0 | R33: {=IF(ISNA($J33),0,IF(INDEX('Target Organ'!E$3:E$186,$J33)="X",1,0))} -> 0 | S33: {=IF(ISNA($J33),0,IF(INDEX('Target Organ'!F$3:F$186,$J33)="X",1,0))} -> 0 | T33: {=IF(ISNA($J33),0,IF(INDEX('Target Organ'!G$3:G$186,$J33)="X",1,0))} -> 0 | U33: {=IF(ISNA($J33),0,IF(INDEX('Target Organ'!H$3:H$186,$J33)="X",1,0))} -> 0 | V33: {=IF(ISNA($J33),0,IF(INDEX('Target Organ'!I$3:I$186,$J33)="X",1,0))} -> 0 | W33: {=IF(ISNA($J33),0,IF(INDEX('Target Organ'!J$3:J$186,$J33)="X",1,0))} -> 0 | ... AB33: {=IF(ISNA($J33),0,IF(INDEX('Target Organ'!O$3:O$186,$J33)="X",1,0))} -> 0
A34: =A33+1 -> 29 | B34: 112 | C34: 118-74-1 | D34: Hexachlorobenzene | E34: - | F34: 3.18324 | G34: 0.00872122 | H34: 0.003229 | J34: =MATCH(K34,'Target Organ'!A$3:A$186,0) -> #N/A | K34: =C34 -> 118-74-1 | L34: =D34 -> Hexachlorobenzene | M34: =F34 -> 3.18324 | O34: =IF(LEN(N34)>0,M34/N34,0) -> 0 | P34: {=IF(ISNA($J34),0,IF(INDEX('Target Organ'!C$3:C$186,$J34)="X",1,0))} -> 0 | Q34: {=IF(ISNA($J34),0,IF(INDEX('Target Organ'!D$3:D$186,$J34)="X",1,0))} -> 0 | R34: {=IF(ISNA($J34),0,IF(INDEX('Target Organ'!E$3:E$186,$J34)="X",1,0))} -> 0 | S34: {=IF(ISNA($J34),0,IF(INDEX('Target Organ'!F$3:F$186,$J34)="X",1,0))} -> 0 | T34: {=IF(ISNA($J34),0,IF(INDEX('Target Organ'!G$3:G$186,$J34)="X",1,0))} -> 0 | U34: {=IF(ISNA($J34),0,IF(INDEX('Target Organ'!H$3:H$186,$J34)="X",1,0))} -> 0 | V34: {=IF(ISNA($J34),0,IF(INDEX('Target Organ'!I$3:I$186,$J34)="X",1,0))} -> 0 | W34: {=IF(ISNA($J34),0,IF(INDEX('Target Organ'!J$3:J$186,$J34)="X",1,0))} -> 0 | ... AB34: {=IF(ISNA($J34),0,IF(INDEX('Target Organ'!O$3:O$186,$J34)="X",1,0))} -> 0
A35: =A34+1 -> 30 | B35: 121 | C35: 110-54-3 | D35: Hexane | E35: - | F35: 890.226 | G35: 2.43898 | H35: 0.903023 | J35: =MATCH(K35,'Target Organ'!A$3:A$186,0) -> 86 | K35: =C35 -> 110-54-3 | L35: =D35 -> Hexane | M35: =F35 -> 890.226 | N35: 700 | O35: =IF(LEN(N35)>0,M35/N35,0) -> 1.2717514 | P35: {=IF(ISNA($J35),0,IF(INDEX('Target Organ'!C$3:C$186,$J35)="X",1,0))} -> 0 | Q35: {=IF(ISNA($J35),0,IF(INDEX('Target Organ'!D$3:D$186,$J35)="X",1,0))} -> 0 | R35: {=IF(ISNA($J35),0,IF(INDEX('Target Organ'!E$3:E$186,$J35)="X",1,0))} -> 0 | S35: {=IF(ISNA($J35),0,IF(INDEX('Target Organ'!F$3:F$186,$J35)="X",1,0))} -> 0 | T35: {=IF(ISNA($J35),0,IF(INDEX('Target Organ'!G$3:G$186,$J35)="X",1,0))} -> 0 | U35: {=IF(ISNA($J35),0,IF(INDEX('Target Organ'!H$3:H$186,$J35)="X",1,0))} -> 0 | V35: {=IF(ISNA($J35),0,IF(INDEX('Target Organ'!I$3:I$186,$J35)="X",1,0))} -> 0 | W35: {=IF(ISNA($J35),0,IF(INDEX('Target Organ'!J$3:J$186,$J35)="X",1,0))} -> 1 | ... AB35: {=IF(ISNA($J35),0,IF(INDEX('Target Organ'!O$3:O$186,$J35)="X",1,0))} -> 0
A36: =A35+1 -> 31 | B36: 123 | C36: 7647-01-0 | D36: Hydrochloric acid | E36: - | F36: 2917.87 | G36: 7.99417 | H36: 2.95982 | J36: =MATCH(K36,'Target Organ'!A$3:A$186,0) -> 88 | K36: =C36 -> 7647-01-0 | L36: =D36 -> Hydrochloric acid | M36: =F36 -> 2917.87 | N36: 20 | O36: =IF(LEN(N36)>0,M36/N36,0) -> 145.8935 | P36: {=IF(ISNA($J36),0,IF(INDEX('Target Organ'!C$3:C$186,$J36)="X",1,0))} -> 0 | Q36: {=IF(ISNA($J36),0,IF(INDEX('Target Organ'!D$3:D$186,$J36)="X",1,0))} -> 0 | R36: {=IF(ISNA($J36),0,IF(INDEX('Target Organ'!E$3:E$186,$J36)="X",1,0))} -> 0 | S36: {=IF(ISNA($J36),0,IF(INDEX('Target Organ'!F$3:F$186,$J36)="X",1,0))} -> 0 | T36: {=IF(ISNA($J36),0,IF(INDEX('Target Organ'!G$3:G$186,$J36)="X",1,0))} -> 0 | U36: {=IF(ISNA($J36),0,IF(INDEX('Target Organ'!H$3:H$186,$J36)="X",1,0))} -> 0 | V36: {=IF(ISNA($J36),0,IF(INDEX('Target Organ'!I$3:I$186,$J36)="X",1,0))} -> 0 | W36: {=IF(ISNA($J36),0,IF(INDEX('Target Organ'!J$3:J$186,$J36)="X",1,0))} -> 0 | ... AB36: {=IF(ISNA($J36),0,IF(INDEX('Target Organ'!O$3:O$186,$J36)="X",1,0))} -> 0
A37: =A36+1 -> 32 | B37: 124 | C37: 7664-39-3 | D37: Hydrogen fluoride | E37: - | F37: 726.274 | G37: 1.98979 | H37: 0.736714 | J37: =MATCH(K37,'Target Organ'!A$3:A$186,0) -> 89 | K37: =C37 -> 7664-39-3 | L37: =D37 -> Hydrogen fluoride | M37: =F37 -> 726.274 | N37: 2.1 | O37: =IF(LEN(N37)>0,M37/N37,0) -> 345.84476 | P37: {=IF(ISNA($J37),0,IF(INDEX('Target Organ'!C$3:C$186,$J37)="X",1,0))} -> 0 | Q37: {=IF(ISNA($J37),0,IF(INDEX('Target Organ'!D$3:D$186,$J37)="X",1,0))} -> 0 | R37: {=IF(ISNA($J37),0,IF(INDEX('Target Organ'!E$3:E$186,$J37)="X",1,0))} -> 0 | S37: {=IF(ISNA($J37),0,IF(INDEX('Target Organ'!F$3:F$186,$J37)="X",1,0))} -> 0 | T37: {=IF(ISNA($J37),0,IF(INDEX('Target Organ'!G$3:G$186,$J37)="X",1,0))} -> 0 | U37: {=IF(ISNA($J37),0,IF(INDEX('Target Organ'!H$3:H$186,$J37)="X",1,0))} -> 0 | V37: {=IF(ISNA($J37),0,IF(INDEX('Target Organ'!I$3:I$186,$J37)="X",1,0))} -> 0 | W37: {=IF(ISNA($J37),0,IF(INDEX('Target Organ'!J$3:J$186,$J37)="X",1,0))} -> 0 | ... AB37: {=IF(ISNA($J37),0,IF(INDEX('Target Organ'!O$3:O$186,$J37)="X",1,0))} -> 0
A38: =A37+1 -> 33 | B38: 127 | C38: 67-63-0 | D38: Isopropyl alcohol | E38: - | F38: 11249.5 | G38: 30.8206 | H38: 11.4112 | J38: =MATCH(K38,'Target Organ'!A$3:A$186,0) -> 92 | K38: =C38 -> 67-63-0 | L38: =D38 -> Isopropyl alcohol | M38: =F38 -> 11249.5 | N38: 200 | O38: =IF(LEN(N38)>0,M38/N38,0) -> 56.2475 | P38: {=IF(ISNA($J38),0,IF(INDEX('Target Organ'!C$3:C$186,$J38)="X",1,0))} -> 0 | Q38: {=IF(ISNA($J38),0,IF(INDEX('Target Organ'!D$3:D$186,$J38)="X",1,0))} -> 0 | R38: {=IF(ISNA($J38),0,IF(INDEX('Target Organ'!E$3:E$186,$J38)="X",1,0))} -> 0 | S38: {=IF(ISNA($J38),0,IF(INDEX('Target Organ'!F$3:F$186,$J38)="X",1,0))} -> 0 | T38: {=IF(ISNA($J38),0,IF(INDEX('Target Organ'!G$3:G$186,$J38)="X",1,0))} -> 0 | U38: {=IF(ISNA($J38),0,IF(INDEX('Target Organ'!H$3:H$186,$J38)="X",1,0))} -> 0 | V38: {=IF(ISNA($J38),0,IF(INDEX('Target Organ'!I$3:I$186,$J38)="X",1,0))} -> 0 | W38: {=IF(ISNA($J38),0,IF(INDEX('Target Organ'!J$3:J$186,$J38)="X",1,0))} -> 0 | ... AB38: {=IF(ISNA($J38),0,IF(INDEX('Target Organ'!O$3:O$186,$J38)="X",1,0))} -> 1
A39: =A38+1 -> 34 | B39: 128 | C39: 98-82-8 | D39: Isopropylbenzene (Cumene) | E39: - | F39: 54.7303 | G39: 0.149946 | H39: 0.055517 | J39: =MATCH(K39,'Target Organ'!A$3:A$186,0) -> 93 | K39: =C39 -> 98-82-8 | L39: =D39 -> Isopropylbenzene (Cumene) | M39: =F39 -> 54.7303 | N39: 400 | O39: =IF(LEN(N39)>0,M39/N39,0) -> 0.13682575 | P39: {=IF(ISNA($J39),0,IF(INDEX('Target Organ'!C$3:C$186,$J39)="X",1,0))} -> 1 | Q39: {=IF(ISNA($J39),0,IF(INDEX('Target Organ'!D$3:D$186,$J39)="X",1,0))} -> 0 | R39: {=IF(ISNA($J39),0,IF(INDEX('Target Organ'!E$3:E$186,$J39)="X",1,0))} -> 0 | S39: {=IF(ISNA($J39),0,IF(INDEX('Target Organ'!F$3:F$186,$J39)="X",1,0))} -> 1 | T39: {=IF(ISNA($J39),0,IF(INDEX('Target Organ'!G$3:G$186,$J39)="X",1,0))} -> 0 | U39: {=IF(ISNA($J39),0,IF(INDEX('Target Organ'!H$3:H$186,$J39)="X",1,0))} -> 0 | V39: {=IF(ISNA($J39),0,IF(INDEX('Target Organ'!I$3:I$186,$J39)="X",1,0))} -> 0 | W39: {=IF(ISNA($J39),0,IF(INDEX('Target Organ'!J$3:J$186,$J39)="X",1,0))} -> 0 | ... AB39: {=IF(ISNA($J39),0,IF(INDEX('Target Organ'!O$3:O$186,$J39)="X",1,0))} -> 0
A40: =A39+1 -> 35 | B40: 129 | C40: 7439-92-1 | D40: Lead and compounds | E40: Yes | F40: 16.1013 | G40: 0.0441131 | H40: 0.0295131 | J40: =MATCH(K40,'Target Organ'!A$3:A$186,0) -> 94 | K40: =C40 -> 7439-92-1 | L40: =D40 -> Lead and compounds | M40: =F40 -> 16.1013 | N40: 0.15 | O40: =IF(LEN(N40)>0,M40/N40,0) -> 107.342 | P40: {=IF(ISNA($J40),0,IF(INDEX('Target Organ'!C$3:C$186,$J40)="X",1,0))} -> 0 | Q40: {=IF(ISNA($J40),0,IF(INDEX('Target Organ'!D$3:D$186,$J40)="X",1,0))} -> 0 | R40: {=IF(ISNA($J40),0,IF(INDEX('Target Organ'!E$3:E$186,$J40)="X",1,0))} -> 0 | S40: {=IF(ISNA($J40),0,IF(INDEX('Target Organ'!F$3:F$186,$J40)="X",1,0))} -> 0 | T40: {=IF(ISNA($J40),0,IF(INDEX('Target Organ'!G$3:G$186,$J40)="X",1,0))} -> 0 | U40: {=IF(ISNA($J40),0,IF(INDEX('Target Organ'!H$3:H$186,$J40)="X",1,0))} -> 0 | V40: {=IF(ISNA($J40),0,IF(INDEX('Target Organ'!I$3:I$186,$J40)="X",1,0))} -> 0 | W40: {=IF(ISNA($J40),0,IF(INDEX('Target Organ'!J$3:J$186,$J40)="X",1,0))} -> 0 | ... AB40: {=IF(ISNA($J40),0,IF(INDEX('Target Organ'!O$3:O$186,$J40)="X",1,0))} -> 1
A41: =A40+1 -> 36 | B41: 131 | C41: 7439-96-5 | D41: Manganese and compounds | E41: Yes | F41: 282.229 | G41: 0.77323 | H41: 1.6448 | J41: =MATCH(K41,'Target Organ'!A$3:A$186,0) -> 96 | K41: =C41 -> 7439-96-5 | L41: =D41 -> Manganese and compounds | M41: =F41 -> 282.229 | N41: 0.09 | O41: =IF(LEN(N41)>0,M41/N41,0) -> 3135.8778 | P41: {=IF(ISNA($J41),0,IF(INDEX('Target Organ'!C$3:C$186,$J41)="X",1,0))} -> 0 | Q41: {=IF(ISNA($J41),0,IF(INDEX('Target Organ'!D$3:D$186,$J41)="X",1,0))} -> 0 | R41: {=IF(ISNA($J41),0,IF(INDEX('Target Organ'!E$3:E$186,$J41)="X",1,0))} -> 0 | S41: {=IF(ISNA($J41),0,IF(INDEX('Target Organ'!F$3:F$186,$J41)="X",1,0))} -> 0 | T41: {=IF(ISNA($J41),0,IF(INDEX('Target Organ'!G$3:G$186,$J41)="X",1,0))} -> 0 | U41: {=IF(ISNA($J41),0,IF(INDEX('Target Organ'!H$3:H$186,$J41)="X",1,0))} -> 0 | V41: {=IF(ISNA($J41),0,IF(INDEX('Target Organ'!I$3:I$186,$J41)="X",1,0))} -> 0 | W41: {=IF(ISNA($J41),0,IF(INDEX('Target Organ'!J$3:J$186,$J41)="X",1,0))} -> 1 | ... AB41: {=IF(ISNA($J41),0,IF(INDEX('Target Organ'!O$3:O$186,$J41)="X",1,0))} -> 0
A42: =A41+1 -> 37 | B42: 132 | C42: 7439-97-6 | D42: Mercury and compounds | E42: Yes | F42: 3.29117 | G42: 0.00901689 | H42: 0.0036845 | J42: =MATCH(K42,'Target Organ'!A$3:A$186,0) -> 97 | K42: =C42 -> 7439-97-6 | L42: =D42 -> Mercury and compounds | M42: =F42 -> 3.29117 | N42: 0.077 | O42: =IF(LEN(N42)>0,M42/N42,0) -> 42.742468 | P42: {=IF(ISNA($J42),0,IF(INDEX('Target Organ'!C$3:C$186,$J42)="X",1,0))} -> 0 | Q42: {=IF(ISNA($J42),0,IF(INDEX('Target Organ'!D$3:D$186,$J42)="X",1,0))} -> 0 | R42: {=IF(ISNA($J42),0,IF(INDEX('Target Organ'!E$3:E$186,$J42)="X",1,0))} -> 0 | S42: {=IF(ISNA($J42),0,IF(INDEX('Target Organ'!F$3:F$186,$J42)="X",1,0))} -> 0 | T42: {=IF(ISNA($J42),0,IF(INDEX('Target Organ'!G$3:G$186,$J42)="X",1,0))} -> 0 | U42: {=IF(ISNA($J42),0,IF(INDEX('Target Organ'!H$3:H$186,$J42)="X",1,0))} -> 0 | V42: {=IF(ISNA($J42),0,IF(INDEX('Target Organ'!I$3:I$186,$J42)="X",1,0))} -> 0 | W42: {=IF(ISNA($J42),0,IF(INDEX('Target Organ'!J$3:J$186,$J42)="X",1,0))} -> 1 | ... AB42: {=IF(ISNA($J42),0,IF(INDEX('Target Organ'!O$3:O$186,$J42)="X",1,0))} -> 0
...

Sheet Target Organ
A1: Table F-1 Chronic Target Organ Systems
A2: CASRN | B2: Chemical | C2: Kidney | D2: Liver | E2: Blood | F2: Endo | G2: Musc | H2: Eyes | I2: Skin | J2: Nerv | K2: Cardio | L2: Immune | M2: Resp | N2: Gastro | O2: Develop
A3: 75-07-0 | B3: Acetaldehyde | M3: X
A4: 67-64-1 | B4: Acetone | J4: X
A5: 75-05-8 | B5: Acetonitrile | J5: X | M5: X
A6: 107-02-8 | B6: Acrolein | M6: X
A7: 79-06-1 | B7: Acrylamide | J7: X
A8: 79-10-7 | B8: Acrylic acid | M8: X
A9: 107-13-1 | B9: Acrylonitrile | M9: X
A10: 107-05-1 | B10: Allyl chloride | J10: X
A11: 7429-90-5 | B11: Aluminum and compounds | J11: X
A12: 7664-41-7 | B12: Ammonia | M12: X
A13: 62-53-3 | B13: Aniline | L13: X
A14: 7440-36-0 | B14: Antimony and compounds | M14: X
A15: 7440-38-2 | B15: Arsenic and compounds | J15: X
A16: 7784-42-1 | B16: Arsine | J16: X
A17: 71-43-2 | B17: Benzene | E17: X
A18: 100-44-7 | B18: Benzyl chloride | M18: X
A19: 7440-41-7 | B19: Beryllium and compounds | L19: X | M19: X
A20: 111-44-4 | B20: Bis(2-chloroethyl) ether (BCEE)
A21: 542-88-1 | B21: Bis(chloromethyl) ether
A22: 74-83-9 | B22: Bromomethane (Methyl bromide) | M22: X
A23: 106-94-5 | B23: 1-Bromopropane (n-propyl bromide) | J23: X
A24: 106-99-0 | B24: 1,3-Butadiene | O24: X
A25: 78-93-3 | B25: 2-Butanone (Methyl ethyl ketone) | O25: X
A26: 78-92-2 | B26: sec-Butyl alcohol | O26: X
A27: 7440-43-9 | B27: Cadmium and compounds | C27: X
A28: 105-60-2 | B28: Caprolactam | M28: X
A29: 75-15-0 | B29: Carbon disulfide | J29: X
A30: 56-23-5 | B30: Carbon tetrachloride | D30: X
A31: 463-58-1 | B31: Carbonyl sulfide | J31: X
A32: 57-74-9 | B32: Chlordane | D32: X
A33: 7782-50-5 | B33: Chlorine | M33: X
A34: 10049-04-4 | B34: Chlorine dioxide | M34: X
A35: 532-27-4 | B35: 2-Chloroacetophenone | M35: X
A36: 108-90-7 | B36: Chlorobenzene | C36: X
A37: 75-68-3 | B37: 1-Chloro-1,1-difluoroethane | J37: X
A38: 75-45-6 | B38: Chlorodifluoromethane (Freon 22) | C38: X | F38: X
A39: 75-00-3 | B39: Chloroethane (Ethyl chloride) | G39: X | O39: X
A40: 67-66-3 | B40: Chloroform | C40: X | D40: X
...
