Workbook
Name _GoBack: 'Form Instructions'!#REF!
Name HAPs: 'DEQ Pollutant List'!$D$617:$D$625
Name OLE_LINK7: 'Form Instructions'!$A$1

Sheet Form Instructions
A5: Please save this file to your own computer before filling out this reporting form.
A6: Before completing this form please review the DEQ website for the most recent versions and instructions for this form:
A7: https://www.oregon.gov/deq/aq/aqPermits/Pages/CAO-reg.aspx
A9: All DEQ and Lane Regional Air Protection Agency permitted facilities, or facilities applying for Air Quality permits, will need to complete and submit this form as the first step in the Cleaner Air Oregon Air Toxics Program.
A12: Please fill out the following worksheets to complete an air toxic emissions inventory for your facility:
A14: Worksheet 1 | B14: Facility Information | C14: Record facility name and address, contact person, source number, and number of employees in the boxes.
A15: Worksheet 2 | B15: Emission Units & Activities | C15: Record all Toxics Emissions Units and activities that emit air toxics included in the list of associated Air Toxic contaminants. Provide both annual and maximum daily production and process rates, emission type, and control devices/efficiency for each emissions unit.
A16: Worksheet 3 | B16: Pollutant Emissions - EF | C16: Record all Air Toxic pollutants CAS/DEQ ID and chemical names, pollutant-specifc emissions factors and control efficiencies, and calculated emissions.
A17: Worksheet 4 | B17: Material Balance Activities | C17: Record all emission units and activities that emit air toxics included in the list of associated air toxic contaminants. Provide annual and maximum daily material usage and waste activities, material names and manufacturer, and emission type.
A18: Worksheet 5 | B18: Pollutant Emissions - MB | C18: Record all Air Toxic pollutants CAS/DEQ ID and chemical names associated with recorded materials, pollutant-specifc percent composition and control efficiencies, and calculated emissions.
A20: Note: Emissions information will be entered on Worksheets 2&3 for EF-based emissions, and Worksheets 4&5 for Material Balance-based emissions.
A23: What you need (Existing Sources):
A24: 1. Current Permit and Permit Review Report
A25: 2. Emission Detail Sheets
A26: 3. Safety Data Sheets, Certified Product Data Sheets, Environmental Data Sheets, or any lab data for each material used.
A27: 4. Most Recent Annual Report[s]
A28: 5. Any other documentation needed to help fulfill request - e.g. emissions factor references, source test review reports, etc.
A30: Worksheet 1: Facility Information
A32: Please provide the facility name and address, contact person, and source number which is the first 6 digits of the permit number (existing sources) in the boxes provided.
A34: Worksheet 2: Emission Units & Activities
A36: 1. List all Toxics Emissions Units (TEUs), Activity IDs and descriptions, and Control Devices for all emission units or activities that emit air toxics at the facility. Use emission unit or activity ID from permits and create new IDs as necessary. For Material Balance activities proceed to Worksheet 4.
A37: 2. Record emissions type (i.e. Stack or Fugitive) and corresponding emission type ID.
... A40: 4. Record quantities, units of measurements, and types of Annual and Maximum Daily activity/production/process rates for each TEU/Activity for "Actual", "Requested PTE", and "Capacity" production scenarios.
B42: Note: "Actual" is based on the reporting year (existing sources) or an estimate of typical production (new sources); "Requested PTE" is the level requested by the source, which may be
B43: higher than "Actual" production values; and "Capacity" is based on the 100% uptime and production for the facility - this may be used for de Minimus screening.
A45: Worksheet 3: Pollutant Emissions - EF
A47: 1. Provide a row for each Air Toxic emitted from a specified TEU. Either select a CAS number or DEQ ID from the dropdown list or cut and paste both the CAS/DEQ ID and Chemical Name for each pollutant.
A49: 2. Provide the Total Combined Control Efficiency for each pollutant from the specificied TEU - this value may be composed of multiple capture/transfer efficiencies and destruction/removal efficiencies. Note: These control efficiencies may differ for different pollutants from the same TEU.
A51: 3. Provide pollutant-specifc Emissions Factors (EF) for both Annual and Maximum Daily emissions (if different). Also provide the units for the EF values in pounds/activity units. Provide EF references (AP-42, WebFire, Source Tests, etc.) and any related notes (e.g. Control Efficiency references).
A53: 4. Calculate emissions using the following formula (Note: see the example calculations in red):
B54: E = (P)*(EF)*(1-CE)
B55: E | C55: = | D55: Annual or Maximum Daily air toxics emissions [Pounds/(Year|Day)]
B56: P | C56: = | D56: Production or Process Usage Rate [Activity Units/(Year|Day)]
B57: EF | C57: = | D57: Pollutant Emission Factor [Pounds/ Activity Unit]
B58: CE | C58: = | D58: Overall Control Efficiency expressed as a decimal.
A60: Worksheet 4: Material Balance Activities
A62: 1. List all TEU IDs and TEU/Activity descriptions with emissions from material balance activities. For Emission Factor-based activities proceed to Worksheet 2.
A64: 2. List all materials (e.g. paints, coating materials, thinners, solvents, etc.) containing pollutants from the provided Air Toxics list - include product name and manufacturer for each specified TEU/Activity.
A66: 3. Record emissions type (i.e. Stack or Fugitive) and corresponding emission type ID.
A68: 4. Record "Material Usage" quantities in pounds for both annual and maximum daily activity/production/process rates for each TEU/activity for "Actual", "Requested PTE", and "Capacity" production scenarios.
B70: Note: "Actual" is based on the reporting year (existing sources) or an estimate of typical production (new sources); "Requested PTE" is the level requested by the source, which may be
B71: higher than "Actual" production values; and "Capacity" is based on the 100% uptime and production for the facility - this may be used for de Minimus screening.
A73: 5. Record "Material Wasted" quantities in pounds for both annual and maximum daily activity/production/process rates for each TEU/activity for "Actual", "Requested PTE", and "Capacity" production scenarios.
B75: Note: "Material Wasted" may consist of waste collected and shipped off-site, materials that drain as liquid to a collection/treatment system, material that may be retained in the product,
B76: or any material that should beexcluded from emissions calculations.
A78: Worksheet 5: Pollutant Emissions - MB
A80: 1. Provide a row for each Air Toxic emitted from a specified material and its associated TEU/Activity. Either select a CAS number or DEQ ID from the dropdown list or cut and paste both the CAS/DEQ ID and Chemical Name for each pollutant.
A82: 2. Provide the Total Combined Control Efficiency for each pollutant contained in a specified material - this value may be composed of multiple capture/transfer efficiencies and destruction/removal efficiencies. Note: These control efficiencies may differ for different pollutants from the same material and TEU/Activity.
A84: 3. Provide the percent composition for the Air Toxic in the specified material as provided by the manufacturer supplied data (e.g. SDS).
B85: Note:
B86: If percent weight is a range, use the mid-point of the range. (e.g., if range is 10-50% use 30%, or if the SDS lists < 5% use 2.5%)
A88: 4. Provide any notes or references relevant to the pollutant emissions - e.g. technical references, details of control efficiencies, etc.
A90: 5. Calculate emissions using the following formula (Note: see the example calculations in red):
B91: E = [(CX–WX)*KX]*(1–CE)
B92: E | C92: = | D92: Annual or Maximum Daily air toxic emissions [Pounds/(Year|Day)]
B93: X | C93: = | D93: Subscript X represents a specific material
B94: C | C94: = | D94: Material usage [Pounds/(Year|Day)]
B95: W | C95: = | D95: Material waste [Pounds/(Year|Day)]
B96: K | C96: = | D96: Percent weight air toxic pollutant concentration expressed as a decimal
B97: CE | C97: = | D97: Control efficiency expressed as decimal

Sheet 1. Facility Information
A5: Facility Information
A6: Facility Name | B6: Seneca Sustainable Energy, LLC
A7: Facility Address | B7: 29650 East Enid Road
A8: City | B8: Eugene
A9: Zip Code | B9: 97402
A10: Source Number (for existing sources) | B10: 206470
A11: Facility Contact | B11: Brent Way
A12: Phone Number | B12: 541-762-0706

Sheet 2. Emissions Units & Activities
A10: Emissions Unit Information | D10: Stack/Fugitive Information | F10: Activity Information
A11: Toxics Emissions Unit ID | B11: Unit Description | C11: Control Device[s] | D11: Emission Type (e.g. Point or Fugitive) | E11: Stack or Fugitive ID | F11: Units (e.g. hours operation, tons material, gallons) | G11: Description/Type | H11: Annual - Chronic [units/year] | K11: Max Daily - Acute [units/day]
H12: Actual | I12: Requested PTE | J12: Capacity | K12: Actual | L12: Requested PTE | M12: Capacity
A13: TEU-1 | B13: Widget Maker 1 (EXAMPLE) | C13: Widget Waste RCO | D13: Point | E13: ST-1 | F13: tons | G13: Input Material X | H13: 100 | I13: 140 | J13: 200 | K13: 0.3 | L13: 0.5 | M13: 0.8
A15: EU-1 | B15: Wood-fired electrical cogeneration power plant | C15: multiclones, five-field electrostatic precipitator, urea injection selective non-catalytic reduction, flue gas recirculation and low-NOx combustion | D15: Point | E15: ST-1 | F15: MMBtu | G15: Heat input | I15: 3090528 | J15: 3090528 | L15: 8467.2 | M15: 8467.2

Sheet 3. Pollutant Emissions - EF
J9: Calculated Emissions
A10: Toxic Emissions Unit ID | B10: Pollutant Information | E10: Control Efficiency | F10: Emission Factor Information | J10: Annual - Chronic [lb/yr] | M10: Max Daily - Acute [lb/day]
F11: EF Values | H11: Units | I11: Reference/Notes
B12: CAS or DEQ ID | C12: Chemical Name | D12: DEQ Sequence ID | F12: Annual - Chronic | G12: Max Daily - Acute | J12: Actual | K12: Requested PTE | L12: Capacity | M12: Actual | N12: Requested PTE | O12: Capacity
A13: TEU-1 | B13: 61-82-5 | C13: =IFERROR(IF(B13="No CAS","",INDEX('DEQ Pollutant List'!$C$7:$C$614,MATCH('3. Pollutant Emissions - EF'!B13,'DEQ Pollutant List'!$B$7:$B$614,0))),"") -> Amitrole | D13: =IFERROR(IF(OR($B13="",$B13="No CAS",$B13="18540-29-9",$B13="7440-02-0"),INDEX('DEQ Pollutant List'!$A$7:$A$614,MATCH($C13,'DEQ Pollutant List'!$C$7:$C$614,0)),INDEX('DEQ Pollutant List'!$A$7:$A$614,MATCH($B13,'DEQ Pollutant List'!$B$7:$B$614,0))),"") -> 25 | E13: 0.975 | F13: 2.5 | H13: lb/ton | I13: Annual and max daily EF values are the same for this TEU and its pollutants | J13: =$F13*'2. Emissions Units & Activities'!H$13*(1-$E13) -> 6.25 | K13: =$F13*'2. Emissions Units & Activities'!I$13*(1-$E13) -> 8.75 | L13: =$F13*'2. Emissions Units & Activities'!J$13*(1-$E13) -> 12.5 | M13: =$F13*'2. Emissions Units & Activities'!K$13*(1-$E13) -> 0.01875 | N13: =$F13*'2. Emissions Units & Activities'!L$13*(1-$E13) -> 0.03125 | O13: =$F13*'2. Emissions Units & Activities'!M$13*(1-$E13) -> 0.05
A14: TEU-1 | B14: 7440-38-2 | C14: =IFERROR(IF(B14="No CAS","",INDEX('DEQ Pollutant List'!$C$7:$C$614,MATCH('3. Pollutant Emissions - EF'!B14,'DEQ Pollutant List'!$B$7:$B$614,0))),"") -> Arsenic and compounds | D14: =IFERROR(IF(OR($B14="",$B14="No CAS"),INDEX('DEQ Pollutant List'!$A$7:$A$614,MATCH($C14,'DEQ Pollutant List'!$C$7:$C$614,0)),INDEX('DEQ Pollutant List'!$A$7:$A$614,MATCH($B14,'DEQ Pollutant List'!$B$7:$B$614,0))),"") -> 37 | E14: 0 | F14: 0.1 | H14: lb/ton | I14: The control efficiency does not apply to this pollutant | J14: =$F14*'2. Emissions Units & Activities'!H$13*(1-$E14) -> 10 | K14: =$F14*'2. Emissions Units & Activities'!I$13*(1-$E14) -> 14 | L14: =$F14*'2. Emissions Units & Activities'!J$13*(1-$E14) -> 20 | M14: =$F14*'2. Emissions Units & Activities'!K$13*(1-$E14) -> 0.03 | N14: =$F14*'2. Emissions Units & Activities'!L$13*(1-$E14) -> 0.05 | O14: =$F14*'2. Emissions Units & Activities'!M$13*(1-$E14) -> 0.08
C15: =IFERROR(IF(B15="No CAS","",INDEX('DEQ Pollutant List'!$C$7:$C$614,MATCH('3. Pollutant Emissions - EF'!B15,'DEQ Pollutant List'!$B$7:$B$614,0))),"") | D15: =IFERROR(IF(OR($B15="",$B15="No CAS"),INDEX('DEQ Pollutant List'!$A$7:$A$614,MATCH($C15,'DEQ Pollutant List'!$C$7:$C$614,0)),INDEX('DEQ Pollutant List'!$A$7:$A$614,MATCH($B15,'DEQ Pollutant List'!$B$7:$B$614,0))),"")
A16: EU-1 | B16: 35822-46-9 | C16: 1,2,3,4,6,7,8-heptachlorodibenzo-p-dioxin | D16: =IFERROR(IF(OR($B16="",$B16="No CAS"),INDEX('DEQ Pollutant List'!$A$7:$A$614,MATCH($C16,'DEQ Pollutant List'!$C$7:$C$614,0)),INDEX('DEQ Pollutant List'!$A$7:$A$614,MATCH($B16,'DEQ Pollutant List'!$B$7:$B$614,0))),"") -> 532 | F16: 5.5245428e-11 | G16: 5.5245428e-11 | H16: lb/MMBtu | I16: CATEF | K16: ='2. Emissions Units & Activities'!I$15*$F16 -> 0.00017073754 | L16: ='2. Emissions Units & Activities'!J$15*$F16 -> 0.00017073754 | N16: ='2. Emissions Units & Activities'!L$15*$G16 -> 4.6777409e-07 | O16: ='2. Emissions Units & Activities'!M$15*$G16 -> 4.6777409e-07
A17: EU-1 | B17: 3268-87-9 | C17: 1,2,3,4,6,7,8,9-octachlorodibenzo-p-dioxin | D17: =IFERROR(IF(OR($B17="",$B17="No CAS"),INDEX('DEQ Pollutant List'!$A$7:$A$614,MATCH($C17,'DEQ Pollutant List'!$C$7:$C$614,0)),INDEX('DEQ Pollutant List'!$A$7:$A$614,MATCH($B17,'DEQ Pollutant List'!$B$7:$B$614,0))),"") -> 533 | F17: 7.5649663e-10 | G17: 7.5649663e-10 | H17: lb/MMBtu | I17: CATEF | K17: ='2. Emissions Units & Activities'!I$15*$F17 -> 0.002337974 | L17: ='2. Emissions Units & Activities'!J$15*$F17 -> 0.002337974 | N17: ='2. Emissions Units & Activities'!L$15*$G17 -> 6.4054083e-06 | O17: ='2. Emissions Units & Activities'!M$15*$G17 -> 6.4054083e-06
A18: EU-1 | B18: 39227-28-6 | C18: 1,2,3,4,7,8-hexachlorodibenzo-p-dioxin | D18: =IFERROR(IF(OR($B18="",$B18="No CAS"),INDEX('DEQ Pollutant List'!$A$7:$A$614,MATCH($C18,'DEQ Pollutant List'!$C$7:$C$614,0)),INDEX('DEQ Pollutant List'!$A$7:$A$614,MATCH($B18,'DEQ Pollutant List'!$B$7:$B$614,0))),"") -> 529 | F18: 2.4639076e-12 | G18: 2.4639076e-12 | H18: lb/MMBtu | I18: CATEF | K18: ='2. Emissions Units & Activities'!I$15*$F18 -> 7.6147754e-06 | L18: ='2. Emissions Units & Activities'!J$15*$F18 -> 7.6147754e-06 | N18: ='2. Emissions Units & Activities'!L$15*$G18 -> 2.0862398e-08 | O18: ='2. Emissions Units & Activities'!M$15*$G18 -> 2.0862398e-08
A19: EU-1 | B19: 57653-85-7 | C19: 1,2,3,6,7,8-hexachlorodibenzo-p-dioxin | D19: =IFERROR(IF(OR($B19="",$B19="No CAS"),INDEX('DEQ Pollutant List'!$A$7:$A$614,MATCH($C19,'DEQ Pollutant List'!$C$7:$C$614,0)),INDEX('DEQ Pollutant List'!$A$7:$A$614,MATCH($B19,'DEQ Pollutant List'!$B$7:$B$614,0))),"") -> 530 | F19: 3.599615e-12 | G19: 3.599615e-12 | H19: lb/MMBtu | I19: CATEF | K19: ='2. Emissions Units & Activities'!I$15*$F19 -> 1.1124711e-05 | L19: ='2. Emissions Units & Activities'!J$15*$F19 -> 1.1124711e-05 | N19: ='2. Emissions Units & Activities'!L$15*$G19 -> 3.047866e-08 | O19: ='2. Emissions Units & Activities'!M$15*$G19 -> 3.047866e-08
A20: EU-1 | B20: 40321-76-4 | C20: 1,2,3,7,8-pentachlorodibenzo-p-dioxin | D20: =IFERROR(IF(OR($B20="",$B20="No CAS"),INDEX('DEQ Pollutant List'!$A$7:$A$614,MATCH($C20,'DEQ Pollutant List'!$C$7:$C$614,0)),INDEX('DEQ Pollutant List'!$A$7:$A$614,MATCH($B20,'DEQ Pollutant List'!$B$7:$B$614,0))),"") -> 528 | F20: 1.5110683e-12 | G20: 1.5110683e-12 | H20: lb/MMBtu | I20: CATEF | K20: ='2. Emissions Units & Activities'!I$15*$F20 -> 4.669999e-06 | L20: ='2. Emissions Units & Activities'!J$15*$F20 -> 4.669999e-06 | N20: ='2. Emissions Units & Activities'!L$15*$G20 -> 1.2794518e-08 | O20: ='2. Emissions Units & Activities'!M$15*$G20 -> 1.2794518e-08
A21: EU-1 | B21: 19408-74-3 | C21: 1,2,3,7,8,9-hexachlorodibenzo-p-dioxin | D21: =IFERROR(IF(OR($B21="",$B21="No CAS"),INDEX('DEQ Pollutant List'!$A$7:$A$614,MATCH($C21,'DEQ Pollutant List'!$C$7:$C$614,0)),INDEX('DEQ Pollutant List'!$A$7:$A$614,MATCH($B21,'DEQ Pollutant List'!$B$7:$B$614,0))),"") -> 531 | F21: 2.5409047e-12 | G21: 2.5409047e-12 | H21: lb/MMBtu | I21: CATEF | K21: ='2. Emissions Units & Activities'!I$15*$F21 -> 7.8527372e-06 | L21: ='2. Emissions Units & Activities'!J$15*$F21 -> 7.8527372e-06 | N21: ='2. Emissions Units & Activities'!L$15*$G21 -> 2.1514348e-08 | O21: ='2. Emissions Units & Activities'!M$15*$G21 -> 2.1514348e-08
A22: EU-1 | B22: 1746-01-6 | C22: 2,3,7,8-tetrachlorodibenzo-p-dioxin | D22: =IFERROR(IF(OR($B22="",$B22="No CAS"),INDEX('DEQ Pollutant List'!$A$7:$A$614,MATCH($C22,'DEQ Pollutant List'!$C$7:$C$614,0)),INDEX('DEQ Pollutant List'!$A$7:$A$614,MATCH($B22,'DEQ Pollutant List'!$B$7:$B$614,0))),"") -> 527 | F22: 6.506256e-13 | G22: 6.506256e-13 | H22: lb/MMBtu | I22: CATEF | K22: ='2. Emissions Units & Activities'!I$15*$F22 -> 2.0107766e-06 | L22: ='2. Emissions Units & Activities'!J$15*$F22 -> 2.0107766e-06 | N22: ='2. Emissions Units & Activities'!L$15*$G22 -> 5.5089771e-09 | O22: ='2. Emissions Units & Activities'!M$15*$G22 -> 5.5089771e-09
A23: EU-1 | B23: 67562-39-4 | C23: 1,2,3,4,6,7,8-heptachlorodibenzofuran | D23: =IFERROR(IF(OR($B23="",$B23="No CAS"),INDEX('DEQ Pollutant List'!$A$7:$A$614,MATCH($C23,'DEQ Pollutant List'!$C$7:$C$614,0)),INDEX('DEQ Pollutant List'!$A$7:$A$614,MATCH($B23,'DEQ Pollutant List'!$B$7:$B$614,0))),"") -> 546 | F23: 1.9056785e-11 | G23: 1.9056785e-11 | H23: lb/MMBtu | I23: CATEF | K23: ='2. Emissions Units & Activities'!I$15*$F23 -> 5.8895529e-05 | L23: ='2. Emissions Units & Activities'!J$15*$F23 -> 5.8895529e-05 | N23: ='2. Emissions Units & Activities'!L$15*$G23 -> 1.6135761e-07 | O23: ='2. Emissions Units & Activities'!M$15*$G23 -> 1.6135761e-07
A24: EU-1 | B24: 39001-02-0 | C24: 1,2,3,4,6,7,8,9-octachlorodibenzofuran | D24: =IFERROR(IF(OR($B24="",$B24="No CAS"),INDEX('DEQ Pollutant List'!$A$7:$A$614,MATCH($C24,'DEQ Pollutant List'!$C$7:$C$614,0)),INDEX('DEQ Pollutant List'!$A$7:$A$614,MATCH($B24,'DEQ Pollutant List'!$B$7:$B$614,0))),"") -> 548 | F24: 4.7353224e-11 | G24: 4.7353224e-11 | H24: lb/MMBtu | I24: CATEF | K24: ='2. Emissions Units & Activities'!I$15*$F24 -> 0.00014634647 | L24: ='2. Emissions Units & Activities'!J$15*$F24 -> 0.00014634647 | N24: ='2. Emissions Units & Activities'!L$15*$G24 -> 4.0094922e-07 | O24: ='2. Emissions Units & Activities'!M$15*$G24 -> 4.0094922e-07
A25: EU-1 | B25: 70648-26-9 | C25: 1,2,3,4,7,8-hexachlorodibenzofuran | D25: =IFERROR(IF(OR($B25="",$B25="No CAS"),INDEX('DEQ Pollutant List'!$A$7:$A$614,MATCH($C25,'DEQ Pollutant List'!$C$7:$C$614,0)),INDEX('DEQ Pollutant List'!$A$7:$A$614,MATCH($B25,'DEQ Pollutant List'!$B$7:$B$614,0))),"") -> 542 | F25: 2.5794033e-12 | G25: 2.5794033e-12 | H25: lb/MMBtu | I25: CATEF | K25: ='2. Emissions Units & Activities'!I$15*$F25 -> 7.971718e-06 | L25: ='2. Emissions Units & Activities'!J$15*$F25 -> 7.971718e-06 | N25: ='2. Emissions Units & Activities'!L$15*$G25 -> 2.1840323e-08 | O25: ='2. Emissions Units & Activities'!M$15*$G25 -> 2.1840323e-08
A26: EU-1 | B26: 55673-89-7 | C26: 1,2,3,4,7,8,9-heptachlorodibenzofuran | D26: =IFERROR(IF(OR($B26="",$B26="No CAS"),INDEX('DEQ Pollutant List'!$A$7:$A$614,MATCH($C26,'DEQ Pollutant List'!$C$7:$C$614,0)),INDEX('DEQ Pollutant List'!$A$7:$A$614,MATCH($B26,'DEQ Pollutant List'!$B$7:$B$614,0))),"") -> 547 | F26: 1.5688162e-12 | G26: 1.5688162e-12 | H26: lb/MMBtu | I26: CATEF | K26: ='2. Emissions Units & Activities'!I$15*$F26 -> 4.8484703e-06 | L26: ='2. Emissions Units & Activities'!J$15*$F26 -> 4.8484703e-06 | N26: ='2. Emissions Units & Activities'!L$15*$G26 -> 1.328348e-08 | O26: ='2. Emissions Units & Activities'!M$15*$G26 -> 1.328348e-08
A27: EU-1 | B27: 57117-44-9 | C27: 1,2,3,6,7,8-hexachlorodibenzofuran | D27: =IFERROR(IF(OR($B27="",$B27="No CAS"),INDEX('DEQ Pollutant List'!$A$7:$A$614,MATCH($C27,'DEQ Pollutant List'!$C$7:$C$614,0)),INDEX('DEQ Pollutant List'!$A$7:$A$614,MATCH($B27,'DEQ Pollutant List'!$B$7:$B$614,0))),"") -> 543 | F27: 2.6179018e-12 | G27: 2.6179018e-12 | H27: lb/MMBtu | I27: CATEF | K27: ='2. Emissions Units & Activities'!I$15*$F27 -> 8.0906989e-06 | L27: ='2. Emissions Units & Activities'!J$15*$F27 -> 8.0906989e-06 | N27: ='2. Emissions Units & Activities'!L$15*$G27 -> 2.2166298e-08 | O27: ='2. Emissions Units & Activities'!M$15*$G27 -> 2.2166298e-08
... A98: EU-1 | B98: 100-02-7 | C98: 4-Nitrophenol | D98: =IFERROR(IF(OR($B98="",$B98="No CAS"),INDEX('DEQ Pollutant List'!$A$7:$A$614,MATCH($C98,'DEQ Pollutant List'!$C$7:$C$614,0)),INDEX('DEQ Pollutant List'!$A$7:$A$614,MATCH($B98,'DEQ Pollutant List'!$B$7:$B$614,0))),"") -> 388 | F98: 3.3e-07 | G98: 3.3e-07 | H98: lb/MMBtu | I98: NCASI TB 858 | K98: ='2. Emissions Units & Activities'!I$15*$F98 -> 1.0198742 | L98: ='2. Emissions Units & Activities'!J$15*$F98 -> 1.0198742 | N98: ='2. Emissions Units & Activities'!L$15*$G98 -> 0.002794176 | O98: ='2. Emissions Units & Activities'!M$15*$G98 -> 0.002794176
A99: EU-1 | C99: PCB (decachlorobiphenyl) | D99: =IFERROR(IF(OR($B99="",$B99="No CAS"),INDEX('DEQ Pollutant List'!$A$7:$A$614,MATCH($C99,'DEQ Pollutant List'!$C$7:$C$614,0)),INDEX('DEQ Pollutant List'!$A$7:$A$614,MATCH($B99,'DEQ Pollutant List'!$B$7:$B$614,0))),"") | F99: 3.1087584e-11 | G99: 3.1087584e-11 | H99: lb/MMBtu | I99: CATEF | K99: ='2. Emissions Units & Activities'!I$15*$F99 -> 9.6077049e-05 | L99: ='2. Emissions Units & Activities'!J$15*$F99 -> 9.6077049e-05 | N99: ='2. Emissions Units & Activities'!L$15*$G99 -> 2.6322479e-07 | O99: ='2. Emissions Units & Activities'!M$15*$G99 -> 2.6322479e-07
A100: EU-1 | C100: PCB (dichlorobiphenyl) | D100: =IFERROR(IF(OR($B100="",$B100="No CAS"),INDEX('DEQ Pollutant List'!$A$7:$A$614,MATCH($C100,'DEQ Pollutant List'!$C$7:$C$614,0)),INDEX('DEQ Pollutant List'!$A$7:$A$614,MATCH($B100,'DEQ Pollutant List'!$B$7:$B$614,0))),"") | F100: 8.4408085e-10 | G100: 8.4408085e-10 | H100: lb/MMBtu | I100: CATEF | K100: ='2. Emissions Units & Activities'!I$15*$F100 -> 0.0026086555 | L100: ='2. Emissions Units & Activities'!J$15*$F100 -> 0.0026086555 | N100: ='2. Emissions Units & Activities'!L$15*$G100 -> 7.1470013e-06 | O100: ='2. Emissions Units & Activities'!M$15*$G100 -> 7.1470013e-06
A101: EU-1 | C101: PCB (heptachlorobiphenyl) | D101: =IFERROR(IF(OR($B101="",$B101="No CAS"),INDEX('DEQ Pollutant List'!$A$7:$A$614,MATCH($C101,'DEQ Pollutant List'!$C$7:$C$614,0)),INDEX('DEQ Pollutant List'!$A$7:$A$614,MATCH($B101,'DEQ Pollutant List'!$B$7:$B$614,0))),"") | F101: 1.2223292e-10 | G101: 1.2223292e-10 | H101: lb/MMBtu | I101: CATEF | K101: ='2. Emissions Units & Activities'!I$15*$F101 -> 0.00037776425 | L101: ='2. Emissions Units & Activities'!J$15*$F101 -> 0.00037776425 | N101: ='2. Emissions Units & Activities'!L$15*$G101 -> 1.0349705e-06 | O101: ='2. Emissions Units & Activities'!M$15*$G101 -> 1.0349705e-06
A102: EU-1 | C102: PCB (hexachlorobiphenyl) | D102: =IFERROR(IF(OR($B102="",$B102="No CAS"),INDEX('DEQ Pollutant List'!$A$7:$A$614,MATCH($C102,'DEQ Pollutant List'!$C$7:$C$614,0)),INDEX('DEQ Pollutant List'!$A$7:$A$614,MATCH($B102,'DEQ Pollutant List'!$B$7:$B$614,0))),"") | F102: 4.9470645e-10 | G102: 4.9470645e-10 | H102: lb/MMBtu | I102: CATEF | K102: ='2. Emissions Units & Activities'!I$15*$F102 -> 0.0015289041 | L102: ='2. Emissions Units & Activities'!J$15*$F102 -> 0.0015289041 | N102: ='2. Emissions Units & Activities'!L$15*$G102 -> 4.1887784e-06 | O102: ='2. Emissions Units & Activities'!M$15*$G102 -> 4.1887784e-06
A103: EU-1 | C103: PCB (pentachlorobiphenyl) | D103: =IFERROR(IF(OR($B103="",$B103="No CAS"),INDEX('DEQ Pollutant List'!$A$7:$A$614,MATCH($C103,'DEQ Pollutant List'!$C$7:$C$614,0)),INDEX('DEQ Pollutant List'!$A$7:$A$614,MATCH($B103,'DEQ Pollutant List'!$B$7:$B$614,0))),"") | F103: 1.1068335e-09 | G103: 1.1068335e-09 | H103: lb/MMBtu | I103: CATEF | K103: ='2. Emissions Units & Activities'!I$15*$F103 -> 0.0034206999 | L103: ='2. Emissions Units & Activities'!J$15*$F103 -> 0.0034206999 | N103: ='2. Emissions Units & Activities'!L$15*$G103 -> 9.3717806e-06 | O103: ='2. Emissions Units & Activities'!M$15*$G103 -> 9.3717806e-06
A104: EU-1 | C104: PCB (tetrachlorobiphenyl) | D104: =IFERROR(IF(OR($B104="",$B104="No CAS"),INDEX('DEQ Pollutant List'!$A$7:$A$614,MATCH($C104,'DEQ Pollutant List'!$C$7:$C$614,0)),INDEX('DEQ Pollutant List'!$A$7:$A$614,MATCH($B104,'DEQ Pollutant List'!$B$7:$B$614,0))),"") | F104: 2.7430221e-09 | G104: 2.7430221e-09 | H104: lb/MMBtu | I104: CATEF | K104: ='2. Emissions Units & Activities'!I$15*$F104 -> 0.0084773867 | L104: ='2. Emissions Units & Activities'!J$15*$F104 -> 0.0084773867 | N104: ='2. Emissions Units & Activities'!L$15*$G104 -> 2.3225717e-05 | O104: ='2. Emissions Units & Activities'!M$15*$G104 -> 2.3225717e-05
A105: EU-1 | C105: PCB (trichlorobiphenyl) | D105: =IFERROR(IF(OR($B105="",$B105="No CAS"),INDEX('DEQ Pollutant List'!$A$7:$A$614,MATCH($C105,'DEQ Pollutant List'!$C$7:$C$614,0)),INDEX('DEQ Pollutant List'!$A$7:$A$614,MATCH($B105,'DEQ Pollutant List'!$B$7:$B$614,0))),"") | F105: 3.0413859e-09 | G105: 3.0413859e-09 | H105: lb/MMBtu | I105: CATEF | K105: ='2. Emissions Units & Activities'!I$15*$F105 -> 0.0093994884 | L105: ='2. Emissions Units & Activities'!J$15*$F105 -> 0.0093994884 | N105: ='2. Emissions Units & Activities'!L$15*$G105 -> 2.5752023e-05 | O105: ='2. Emissions Units & Activities'!M$15*$G105 -> 2.5752023e-05
A106: EU-1 | C106: PCB (nonachlorinatedbiphenyls) | D106: =IFERROR(IF(OR($B106="",$B106="No CAS"),INDEX('DEQ Pollutant List'!$A$7:$A$614,MATCH($C106,'DEQ Pollutant List'!$C$7:$C$614,0)),INDEX('DEQ Pollutant List'!$A$7:$A$614,MATCH($B106,'DEQ Pollutant List'!$B$7:$B$614,0))),"") | F106: 1.0009625e-11 | G106: 1.0009625e-11 | H106: lb/MMBtu | I106: CATEF | K106: ='2. Emissions Units & Activities'!I$15*$F106 -> 3.0935025e-05 | L106: ='2. Emissions Units & Activities'!J$15*$F106 -> 3.0935025e-05 | N106: ='2. Emissions Units & Activities'!L$15*$G106 -> 8.4753494e-08 | O106: ='2. Emissions Units & Activities'!M$15*$G106 -> 8.4753494e-08
A107: EU-1 | C107: PCB (octachlorinatedbiphenyls) | D107: =IFERROR(IF(OR($B107="",$B107="No CAS"),INDEX('DEQ Pollutant List'!$A$7:$A$614,MATCH($C107,'DEQ Pollutant List'!$C$7:$C$614,0)),INDEX('DEQ Pollutant List'!$A$7:$A$614,MATCH($B107,'DEQ Pollutant List'!$B$7:$B$614,0))),"") | F107: 1.6843118e-11 | G107: 1.6843118e-11 | H107: lb/MMBtu | I107: CATEF | K107: ='2. Emissions Units & Activities'!I$15*$F107 -> 5.2054129e-05 | L107: ='2. Emissions Units & Activities'!J$15*$F107 -> 5.2054129e-05 | N107: ='2. Emissions Units & Activities'!L$15*$G107 -> 1.4261405e-07 | O107: ='2. Emissions Units & Activities'!M$15*$G107 -> 1.4261405e-07
A108: EU-1 | B108: 1336-36-3 | C108: Total PCBs | D108: =IFERROR(IF(OR($B108="",$B108="No CAS"),INDEX('DEQ Pollutant List'!$A$7:$A$614,MATCH($C108,'DEQ Pollutant List'!$C$7:$C$614,0)),INDEX('DEQ Pollutant List'!$A$7:$A$614,MATCH($B108,'DEQ Pollutant List'!$B$7:$B$614,0))),"") -> 456 | F108: =SUM(F99:F107) -> 8.4102021e-09 | G108: =SUM(G99:G107) -> 8.4102021e-09 | H108: lb/MMBtu | I108: CATEF | K108: ='2. Emissions Units & Activities'!I$15*$F108 -> 0.025991965 | L108: ='2. Emissions Units & Activities'!J$15*$F108 -> 0.025991965 | N108: ='2. Emissions Units & Activities'!L$15*$G108 -> 7.1210863e-05 | O108: ='2. Emissions Units & Activities'!M$15*$G108 -> 7.1210863e-05
A109: EU-1 | B109: 87-86-5 | C109: Pentachlorophenol | D109: =IFERROR(IF(OR($B109="",$B109="No CAS"),INDEX('DEQ Pollutant List'!$A$7:$A$614,MATCH($C109,'DEQ Pollutant List'!$C$7:$C$614,0)),INDEX('DEQ Pollutant List'!$A$7:$A$614,MATCH($B109,'DEQ Pollutant List'!$B$7:$B$614,0))),"") -> 124 | F109: 4.6e-08 | G109: 4.6e-08 | H109: lb/MMBtu | I109: NCASI TB 858 | K109: ='2. Emissions Units & Activities'!I$15*$F109 -> 0.14216429 | L109: ='2. Emissions Units & Activities'!J$15*$F109 -> 0.14216429 | N109: ='2. Emissions Units & Activities'!L$15*$G109 -> 0.0003894912 | O109: ='2. Emissions Units & Activities'!M$15*$G109 -> 0.0003894912
A110: EU-1 | B110: 127-18-4 | C110: Perchloroethylene | D110: =IFERROR(IF(OR($B110="",$B110="No CAS"),INDEX('DEQ Pollutant List'!$A$7:$A$614,MATCH($C110,'DEQ Pollutant List'!$C$7:$C$614,0)),INDEX('DEQ Pollutant List'!$A$7:$A$614,MATCH($B110,'DEQ Pollutant List'!$B$7:$B$614,0))),"") -> 488 | F110: 5.2e-05 | G110: 5.2e-05 | H110: lb/MMBtu | I110: NCASI TB 858 | K110: ='2. Emissions Units & Activities'!I$15*$F110 -> 160.70746 | L110: ='2. Emissions Units & Activities'!J$15*$F110 -> 160.70746 | N110: ='2. Emissions Units & Activities'!L$15*$G110 -> 0.4402944 | O110: ='2. Emissions Units & Activities'!M$15*$G110 -> 0.4402944
A111: EU-1 | B111: 198-55-0 | C111: Perylene | D111: =IFERROR(IF(OR($B111="",$B111="No CAS"),INDEX('DEQ Pollutant List'!$A$7:$A$614,MATCH($C111,'DEQ Pollutant List'!$C$7:$C$614,0)),INDEX('DEQ Pollutant List'!$A$7:$A$614,MATCH($B111,'DEQ Pollutant List'!$B$7:$B$614,0))),"") -> 429 | F111: 1.0587103e-09 | G111: 1.0587103e-09 | H111: lb/MMBtu | I111: CATEF | K111: ='2. Emissions Units & Activities'!I$15*$F111 -> 0.0032719738 | L111: ='2. Emissions Units & Activities'!J$15*$F111 -> 0.0032719738 | N111: ='2. Emissions Units & Activities'!L$15*$G111 -> 8.9643118e-06 | O111: ='2. Emissions Units & Activities'!M$15*$G111 -> 8.9643118e-06
A112: EU-1 | B112: 85-01-8 | C112: Phenanthrene | D112: =IFERROR(IF(OR($B112="",$B112="No CAS"),INDEX('DEQ Pollutant List'!$A$7:$A$614,MATCH($C112,'DEQ Pollutant List'!$C$7:$C$614,0)),INDEX('DEQ Pollutant List'!$A$7:$A$614,MATCH($B112,'DEQ Pollutant List'!$B$7:$B$614,0))),"") -> 430 | F112: 2.0019249e-07 | G112: 2.0019249e-07 | H112: lb/MMBtu | I112: CATEF | K112: ='2. Emissions Units & Activities'!I$15*$F112 -> 0.6187005 | L112: ='2. Emissions Units & Activities'!J$15*$F112 -> 0.6187005 | N112: ='2. Emissions Units & Activities'!L$15*$G112 -> 0.0016950699 | O112: ='2. Emissions Units & Activities'!M$15*$G112 -> 0.0016950699
A113: EU-1 | B113: 108-95-2 | C113: Phenol | D113: =IFERROR(IF(OR($B113="",$B113="No CAS"),INDEX('DEQ Pollutant List'!$A$7:$A$614,MATCH($C113,'DEQ Pollutant List'!$C$7:$C$614,0)),INDEX('DEQ Pollutant List'!$A$7:$A$614,MATCH($B113,'DEQ Pollutant List'!$B$7:$B$614,0))),"") -> 497 | F113: 1.4e-05 | G113: 1.4e-05 | H113: lb/MMBtu | I113: NCASI TB 858 | K113: ='2. Emissions Units & Activities'!I$15*$F113 -> 43.267392 | L113: ='2. Emissions Units & Activities'!J$15*$F113 -> 43.267392 | N113: ='2. Emissions Units & Activities'!L$15*$G113 -> 0.1185408 | O113: ='2. Emissions Units & Activities'!M$15*$G113 -> 0.1185408
A114: EU-1 | B114: 123-38-6 | C114: Propionaldehyde | D114: =IFERROR(IF(OR($B114="",$B114="No CAS"),INDEX('DEQ Pollutant List'!$A$7:$A$614,MATCH($C114,'DEQ Pollutant List'!$C$7:$C$614,0)),INDEX('DEQ Pollutant List'!$A$7:$A$614,MATCH($B114,'DEQ Pollutant List'!$B$7:$B$614,0))),"") -> 559 | F114: 6.1e-05 | G114: 6.1e-05 | H114: lb/MMBtu | I114: NCASI TB 858 | K114: ='2. Emissions Units & Activities'!I$15*$F114 -> 188.52221 | L114: ='2. Emissions Units & Activities'!J$15*$F114 -> 188.52221 | N114: ='2. Emissions Units & Activities'!L$15*$G114 -> 0.5164992 | O114: ='2. Emissions Units & Activities'!M$15*$G114 -> 0.5164992
A115: EU-1 | B115: 129-00-0 | C115: Pyrene | D115: =IFERROR(IF(OR($B115="",$B115="No CAS"),INDEX('DEQ Pollutant List'!$A$7:$A$614,MATCH($C115,'DEQ Pollutant List'!$C$7:$C$614,0)),INDEX('DEQ Pollutant List'!$A$7:$A$614,MATCH($B115,'DEQ Pollutant List'!$B$7:$B$614,0))),"") -> 431 | F115: 5.2743022e-08 | G115: 5.2743022e-08 | H115: lb/MMBtu | I115: CATEF | K115: ='2. Emissions Units & Activities'!I$15*$F115 -> 0.16300379 | L115: ='2. Emissions Units & Activities'!J$15*$F115 -> 0.16300379 | N115: ='2. Emissions Units & Activities'!L$15*$G115 -> 0.00044658572 | O115: ='2. Emissions Units & Activities'!M$15*$G115 -> 0.00044658572
A116: EU-1 | B116: 7782-49-2 | C116: Selenium | D116: =IFERROR(IF(OR($B116="",$B116="No CAS"),INDEX('DEQ Pollutant List'!$A$7:$A$614,MATCH($C116,'DEQ Pollutant List'!$C$7:$C$614,0)),INDEX('DEQ Pollutant List'!$A$7:$A$614,MATCH($B116,'DEQ Pollutant List'!$B$7:$B$614,0))),"") -> 575 | F116: 3e-06 | G116: 3e-06 | H116: lb/MMBtu | I116: NCASI TB 858 | K116: ='2. Emissions Units & Activities'!I$15*$F116 -> 9.271584 | L116: ='2. Emissions Units & Activities'!J$15*$F116 -> 9.271584 | N116: ='2. Emissions Units & Activities'!L$15*$G116 -> 0.0254016 | O116: ='2. Emissions Units & Activities'!M$15*$G116 -> 0.0254016
A117: EU-1 | B117: 100-42-5 | C117: Styrene | D117: =IFERROR(IF(OR($B117="",$B117="No CAS"),INDEX('DEQ Pollutant List'!$A$7:$A$614,MATCH($C117,'DEQ Pollutant List'!$C$7:$C$614,0)),INDEX('DEQ Pollutant List'!$A$7:$A$614,MATCH($B117,'DEQ Pollutant List'!$B$7:$B$614,0))),"") -> 585 | F117: 1e-05 | G117: 1e-05 | H117: lb/MMBtu | I117: Seneca Tests | K117: ='2. Emissions Units & Activities'!I$15*$F117 -> 30.90528 | L117: ='2. Emissions Units & Activities'!J$15*$F117 -> 30.90528 | N117: ='2. Emissions Units & Activities'!L$15*$G117 -> 0.084672 | O117: ='2. Emissions Units & Activities'!M$15*$G117 -> 0.084672
A118: EU-1 | B118: 108-88-3 | C118: Toluene | D118: =IFERROR(IF(OR($B118="",$B118="No CAS"),INDEX('DEQ Pollutant List'!$A$7:$A$614,MATCH($C118,'DEQ Pollutant List'!$C$7:$C$614,0)),INDEX('DEQ Pollutant List'!$A$7:$A$614,MATCH($B118,'DEQ Pollutant List'!$B$7:$B$614,0))),"") -> 600 | F118: 1e-05 | G118: 1e-05 | H118: lb/MMBtu | I118: Seneca Tests | K118: ='2. Emissions Units & Activities'!I$15*$F118 -> 30.90528 | L118: ='2. Emissions Units & Activities'!J$15*$F118 -> 30.90528 | N118: ='2. Emissions Units & Activities'!L$15*$G118 -> 0.084672 | O118: ='2. Emissions Units & Activities'!M$15*$G118 -> 0.084672
A119: EU-1 | B119: 120-82-1 | C119: 1,2,4-Trichlorobenzene | D119: =IFERROR(IF(OR($B119="",$B119="No CAS"),INDEX('DEQ Pollutant List'!$A$7:$A$614,MATCH($C119,'DEQ Pollutant List'!$C$7:$C$614,0)),INDEX('DEQ Pollutant List'!$A$7:$A$614,MATCH($B119,'DEQ Pollutant List'!$B$7:$B$614,0))),"") -> 113 | F119: 5.5e-05 | G119: 5.5e-05 | H119: lb/MMBtu | I119: NCASI TB 858 | K119: ='2. Emissions Units & Activities'!I$15*$F119 -> 169.97904 | L119: ='2. Emissions Units & Activities'!J$15*$F119 -> 169.97904 | N119: ='2. Emissions Units & Activities'!L$15*$G119 -> 0.465696 | O119: ='2. Emissions Units & Activities'!M$15*$G119 -> 0.465696
A120: EU-1 | B120: 79-00-5 | C120: 1,1,2-Trichloroethane | D120: =IFERROR(IF(OR($B120="",$B120="No CAS"),INDEX('DEQ Pollutant List'!$A$7:$A$614,MATCH($C120,'DEQ Pollutant List'!$C$7:$C$614,0)),INDEX('DEQ Pollutant List'!$A$7:$A$614,MATCH($B120,'DEQ Pollutant List'!$B$7:$B$614,0))),"") -> 607 | F120: 0.00012 | G120: 0.00012 | H120: lb/MMBtu | I120: NCASI TB 858 | K120: ='2. Emissions Units & Activities'!I$15*$F120 -> 370.86336 | L120: ='2. Emissions Units & Activities'!J$15*$F120 -> 370.86336 | N120: ='2. Emissions Units & Activities'!L$15*$G120 -> 1.016064 | O120: ='2. Emissions Units & Activities'!M$15*$G120 -> 1.016064
... A127: EU-1 | B127: 7440-66-6 | C127: Zinc | D127: =IFERROR(IF(OR($B127="",$B127="No CAS"),INDEX('DEQ Pollutant List'!$A$7:$A$614,MATCH($C127,'DEQ Pollutant List'!$C$7:$C$614,0)),INDEX('DEQ Pollutant List'!$A$7:$A$614,MATCH($B127,'DEQ Pollutant List'!$B$7:$B$614,0))),"") -> 632 | F127: 4.5e-05 | G127: 4.5e-05 | H127: lb/MMBtu | I127: NCASI TB 858 | K127: ='2. Emissions Units & Activities'!I$15*$F127 -> 139.07376 | L127: ='2. Emissions Units & Activities'!J$15*$F127 -> 139.07376 | N127: ='2. Emissions Units & Activities'!L$15*$G127 -> 0.381024 | O127: ='2. Emissions Units & Activities'!M$15*$G127 -> 0.381024
C128: =IFERROR(IF(B128="No CAS","",INDEX('DEQ Pollutant List'!$C$7:$C$614,MATCH('3. Pollutant Emissions - EF'!B128,'DEQ Pollutant List'!$B$7:$B$614,0))),"") | D128: =IFERROR(IF(OR($B128="",$B128="No CAS"),INDEX('DEQ Pollutant List'!$A$7:$A$614,MATCH($C128,'DEQ Pollutant List'!$C$7:$C$614,0)),INDEX('DEQ Pollutant List'!$A$7:$A$614,MATCH($B128,'DEQ Pollutant List'!$B$7:$B$614,0))),"")
C129: =IFERROR(IF(B129="No CAS","",INDEX('DEQ Pollutant List'!$C$7:$C$614,MATCH('3. Pollutant Emissions - EF'!B129,'DEQ Pollutant List'!$B$7:$B$614,0))),"") | D129: =IFERROR(IF(OR($B129="",$B129="No CAS"),INDEX('DEQ Pollutant List'!$A$7:$A$614,MATCH($C129,'DEQ Pollutant List'!$C$7:$C$614,0)),INDEX('DEQ Pollutant List'!$A$7:$A$614,MATCH($B129,'DEQ Pollutant List'!$B$7:$B$614,0))),"")
C130: =IFERROR(IF(B130="No CAS","",INDEX('DEQ Pollutant List'!$C$7:$C$614,MATCH('3. Pollutant Emissions - EF'!B130,'DEQ Pollutant List'!$B$7:$B$614,0))),"") | D130: =IFERROR(IF(OR($B130="",$B130="No CAS"),INDEX('DEQ Pollutant List'!$A$7:$A$614,MATCH($C130,'DEQ Pollutant List'!$C$7:$C$614,0)),INDEX('DEQ Pollutant List'!$A$7:$A$614,MATCH($B130,'DEQ Pollutant List'!$B$7:$B$614,0))),"")
C131: =IFERROR(IF(B131="No CAS","",INDEX('DEQ Pollutant List'!$C$7:$C$614,MATCH('3. Pollutant Emissions - EF'!B131,'DEQ Pollutant List'!$B$7:$B$614,0))),"") | D131: =IFERROR(IF(OR($B131="",$B131="No CAS"),INDEX('DEQ Pollutant List'!$A$7:$A$614,MATCH($C131,'DEQ Pollutant List'!$C$7:$C$614,0)),INDEX('DEQ Pollutant List'!$A$7:$A$614,MATCH($B131,'DEQ Pollutant List'!$B$7:$B$614,0))),"")
C132: =IFERROR(IF(B132="No CAS","",INDEX('DEQ Pollutant List'!$C$7:$C$614,MATCH('3. Pollutant Emissions - EF'!B132,'DEQ Pollutant List'!$B$7:$B$614,0))),"") | D132: =IFERROR(IF(OR($B132="",$B132="No CAS"),INDEX('DEQ Pollutant List'!$A$7:$A$614,MATCH($C132,'DEQ Pollutant List'!$C$7:$C$614,0)),INDEX('DEQ Pollutant List'!$A$7:$A$614,MATCH($B132,'DEQ Pollutant List'!$B$7:$B$614,0))),"")
C133: =IFERROR(IF(B133="No CAS","",INDEX('DEQ Pollutant List'!$C$7:$C$614,MATCH('3. Pollutant Emissions - EF'!B133,'DEQ Pollutant List'!$B$7:$B$614,0))),"") | D133: =IFERROR(IF(OR($B133="",$B133="No CAS"),INDEX('DEQ Pollutant List'!$A$7:$A$614,MATCH($C133,'DEQ Pollutant List'!$C$7:$C$614,0)),INDEX('DEQ Pollutant List'!$A$7:$A$614,MATCH($B133,'DEQ Pollutant List'!$B$7:$B$614,0))),"")
C134: =IFERROR(IF(B134="No CAS","",INDEX('DEQ Pollutant List'!$C$7:$C$614,MATCH('3. Pollutant Emissions - EF'!B134,'DEQ Pollutant List'!$B$7:$B$614,0))),"") | D134: =IFERROR(IF(OR($B134="",$B134="No CAS"),INDEX('DEQ Pollutant List'!$A$7:$A$614,MATCH($C134,'DEQ Pollutant List'!$C$7:$C$614,0)),INDEX('DEQ Pollutant List'!$A$7:$A$614,MATCH($B134,'DEQ Pollutant List'!$B$7:$B$614,0))),"")
C135: =IFERROR(IF(B135="No CAS","",INDEX('DEQ Pollutant List'!$C$7:$C$614,MATCH('3. Pollutant Emissions - EF'!B135,'DEQ Pollutant List'!$B$7:$B$614,0))),"") | D135: =IFERROR(IF(OR($B135="",$B135="No CAS"),INDEX('DEQ Pollutant List'!$A$7:$A$614,MATCH($C135,'DEQ Pollutant List'!$C$7:$C$614,0)),INDEX('DEQ Pollutant List'!$A$7:$A$614,MATCH($B135,'DEQ Pollutant List'!$B$7:$B$614,0))),"")
C136: =IFERROR(IF(B136="No CAS","",INDEX('DEQ Pollutant List'!$C$7:$C$614,MATCH('3. Pollutant Emissions - EF'!B136,'DEQ Pollutant List'!$B$7:$B$614,0))),"") | D136: =IFERROR(IF(OR($B136="",$B136="No CAS"),INDEX('DEQ Pollutant List'!$A$7:$A$614,MATCH($C136,'DEQ Pollutant List'!$C$7:$C$614,0)),INDEX('DEQ Pollutant List'!$A$7:$A$614,MATCH($B136,'DEQ Pollutant List'!$B$7:$B$614,0))),"")
C137: =IFERROR(IF(B137="No CAS","",INDEX('DEQ Pollutant List'!$C$7:$C$614,MATCH('3. Pollutant Emissions - EF'!B137,'DEQ Pollutant List'!$B$7:$B$614,0))),"") | D137: =IFERROR(IF(OR($B137="",$B137="No CAS"),INDEX('DEQ Pollutant List'!$A$7:$A$614,MATCH($C137,'DEQ Pollutant List'!$C$7:$C$614,0)),INDEX('DEQ Pollutant List'!$A$7:$A$614,MATCH($B137,'DEQ Pollutant List'!$B$7:$B$614,0))),"")
C138: =IFERROR(IF(B138="No CAS","",INDEX('DEQ Pollutant List'!$C$7:$C$614,MATCH('3. Pollutant Emissions - EF'!B138,'DEQ Pollutant List'!$B$7:$B$614,0))),"") | D138: =IFERROR(IF(OR($B138="",$B138="No CAS"),INDEX('DEQ Pollutant List'!$A$7:$A$614,MATCH($C138,'DEQ Pollutant List'!$C$7:$C$614,0)),INDEX('DEQ Pollutant List'!$A$7:$A$614,MATCH($B138,'DEQ Pollutant List'!$B$7:$B$614,0))),"")
C139: =IFERROR(IF(B139="No CAS","",INDEX('DEQ Pollutant List'!$C$7:$C$614,MATCH('3. Pollutant Emissions - EF'!B139,'DEQ Pollutant List'!$B$7:$B$614,0))),"") | D139: =IFERROR(IF(OR($B139="",$B139="No CAS"),INDEX('DEQ Pollutant List'!$A$7:$A$614,MATCH($C139,'DEQ Pollutant List'!$C$7:$C$614,0)),INDEX('DEQ Pollutant List'!$A$7:$A$614,MATCH($B139,'DEQ Pollutant List'!$B$7:$B$614,0))),"")
... C500: =IFERROR(IF(B500="No CAS","",INDEX('DEQ Pollutant List'!$C$7:$C$614,MATCH('3. Pollutant Emissions - EF'!B500,'DEQ Pollutant List'!$B$7:$B$614,0))),"") | D500: =IFERROR(IF(OR($B500="",$B500="No CAS"),INDEX('DEQ Pollutant List'!$A$7:$A$614,MATCH($C500,'DEQ Pollutant List'!$C$7:$C$614,0)),INDEX('DEQ Pollutant List'!$A$7:$A$614,MATCH($B500,'DEQ Pollutant List'!$B$7:$B$614,0))),"")
A501: INSERT ROWS ABOVE THIS LINE INSERT ROWS ABOVE THIS LINE INSERT ROWS ABOVE THIS LINE INSERT ROWS ABOVE THIS LINE

Sheet 4. Material Balance Activities
A10: Emissions Unit/Product Information | E10: Stack/Fugitive Information | G10: Material Usage | M10: Material Waste
A11: Toxics Emissions Unit ID | B11: Emission Unit or Activity Description | C11: Material Name | D11: Manufacturer | E11: Emission Type (e.g. Point or Fugitive) | F11: Stack or Fugitive ID | G11: Annual - Chronic [lb/year] | J11: Max Daily - Acute [lb/day] | M11: Annual - Chronic [lb/year] | P11: Max Daily - Acute [lb/day]
G12: Actual | H12: Requested PTE | I12: Capacity | J12: Actual | K12: Requested PTE | L12: Capacity | M12: Actual | N12: Requested PTE | O12: Capacity | P12: Actual | Q12: Requested PTE | R12: Capacity
A13: TEU-Booth | B13: Widget Paint Booth - atomizer spray guns (EXAMPLE) | C13: Widget Paint-A | D13: Widget Paint Co. | E13: Point | F13: ST-4 | G13: 12000 | H13: 14000 | I13: 20000 | J13: 36 | K13: 40 | L13: 52 | M13: 2000 | N13: 2600 | O13: 5000 | P13: 5 | Q13: 7 | R13: 14
A14: TEU-Booth | B14: Widget Paint Booth - atomizer spray guns (EXAMPLE) | C14: Widget Paint-B | D14: Widget Paint Co. | E14: Point | F14: ST-4 | G14: 950 | H14: 1200 | I14: 1500 | J14: 5 | K14: 10 | L14: 15 | M14: 15 | N14: 30 | O14: 40 | P14: 0.5 | Q14: 1 | R14: 2

Sheet 5. Pollutant Emissions - MB
I9: Calculated Emissions
A10: Toxics Emissions Unit ID | B10: Material Name | C10: Pollutant Information | F10: Emissions Data | I10: Annual Emissions - Chronic [lb/yr] | L10: Total Daily Emissions - Acute [lb/day]
C11: CAS or DEQ ID | D11: Chemical Name | E11: DEQ Sequence ID | F11: Control Efficiency | G11: Percent Composition | H11: Reference/Notes | I11: Actual | J11: Requested PTE | K11: Capacity | L11: Actual | M11: Requested PTE | N11: Capacity
A12: TEU-BOOTH | B12: Widget Paint-A | C12: 67-56-1 | D12: =IFERROR(IF(C12="No CAS","",INDEX('DEQ Pollutant List'!$C$7:$C$614,MATCH('5. Pollutant Emissions - MB'!C12,'DEQ Pollutant List'!$B$7:$B$614,0))),"") -> Methanol | E12: =IFERROR(IF(OR($C12="",$C12="No CAS"),INDEX('DEQ Pollutant List'!$A$7:$A$614,MATCH($D12,'DEQ Pollutant List'!$C$7:$C$614,0)),INDEX('DEQ Pollutant List'!$A$7:$A$614,MATCH($C12,'DEQ Pollutant List'!$B$7:$B$614,0))),"") -> 321 | F12: 0 | G12: 0.35 | I12: =(INDEX('4. Material Balance Activities'!$G:$G,MATCH($B12,'4. Material Balance Activities'!$C:$C,0))-INDEX('4. Material Balance Activities'!$M:$M,MATCH($B12,'4. Material Balance Activities'!$C:$C,0)))*$G12*(1-$F12) -> 3500 | J12: =(INDEX('4. Material Balance Activities'!$H:$H,MATCH($B12,'4. Material Balance Activities'!$C:$C,0))-INDEX('4. Material Balance Activities'!$N:$N,MATCH($B12,'4. Material Balance Activities'!$C:$C,0)))*$G12*(1-$F12) -> 3990 | K12: =(INDEX('4. Material Balance Activities'!$I:$I,MATCH($B12,'4. Material Balance Activities'!$C:$C,0))-INDEX('4. Material Balance Activities'!$O:$O,MATCH($B12,'4. Material Balance Activities'!$C:$C,0)))*$G12*(1-$F12) -> 5250 | L12: =(INDEX('4. Material Balance Activities'!$J:$J,MATCH($B12,'4. Material Balance Activities'!$C:$C,0))-INDEX('4. Material Balance Activities'!$P:$P,MATCH($B12,'4. Material Balance Activities'!$C:$C,0)))*$G12*(1-$F12) -> 10.85 | M12: =(INDEX('4. Material Balance Activities'!$K:$K,MATCH($B12,'4. Material Balance Activities'!$C:$C,0))-INDEX('4. Material Balance Activities'!$Q:$Q,MATCH($B12,'4. Material Balance Activities'!$C:$C,0)))*$G12*(1-$F12) -> 11.55 | N12: =(INDEX('4. Material Balance Activities'!$L:$L,MATCH($B12,'4. Material Balance Activities'!$C:$C,0))-INDEX('4. Material Balance Activities'!$R:$R,MATCH($B12,'4. Material Balance Activities'!$C:$C,0)))*$G12*(1-$F12) -> 13.3
A13: TEU-BOOTH | B13: Widget Paint-A | C13: 100-40-3 | D13: =IFERROR(IF(C13="No CAS","",INDEX('DEQ Pollutant List'!$C$7:$C$614,MATCH('5. Pollutant Emissions - MB'!C13,'DEQ Pollutant List'!$B$7:$B$614,0))),"") -> 4-Vinylcyclohexene | E13: =IFERROR(IF(OR($C13="",$C13="No CAS"),INDEX('DEQ Pollutant List'!$A$7:$A$614,MATCH($D13,'DEQ Pollutant List'!$C$7:$C$614,0)),INDEX('DEQ Pollutant List'!$A$7:$A$614,MATCH($C13,'DEQ Pollutant List'!$B$7:$B$614,0))),"") -> 625 | F13: 0 | G13: 0.48 | I13: =(INDEX('4. Material Balance Activities'!$G:$G,MATCH($B13,'4. Material Balance Activities'!$C:$C,0))-INDEX('4. Material Balance Activities'!$M:$M,MATCH($B13,'4. Material Balance Activities'!$C:$C,0)))*$G13*(1-$F13) -> 4800 | J13: =(INDEX('4. Material Balance Activities'!$H:$H,MATCH($B13,'4. Material Balance Activities'!$C:$C,0))-INDEX('4. Material Balance Activities'!$N:$N,MATCH($B13,'4. Material Balance Activities'!$C:$C,0)))*$G13*(1-$F13) -> 5472 | K13: =(INDEX('4. Material Balance Activities'!$I:$I,MATCH($B13,'4. Material Balance Activities'!$C:$C,0))-INDEX('4. Material Balance Activities'!$O:$O,MATCH($B13,'4. Material Balance Activities'!$C:$C,0)))*$G13*(1-$F13) -> 7200 | L13: =(INDEX('4. Material Balance Activities'!$J:$J,MATCH($B13,'4. Material Balance Activities'!$C:$C,0))-INDEX('4. Material Balance Activities'!$P:$P,MATCH($B13,'4. Material Balance Activities'!$C:$C,0)))*$G13*(1-$F13) -> 14.88 | M13: =(INDEX('4. Material Balance Activities'!$K:$K,MATCH($B13,'4. Material Balance Activities'!$C:$C,0))-INDEX('4. Material Balance Activities'!$Q:$Q,MATCH($B13,'4. Material Balance Activities'!$C:$C,0)))*$G13*(1-$F13) -> 15.84 | N13: =(INDEX('4. Material Balance Activities'!$L:$L,MATCH($B13,'4. Material Balance Activities'!$C:$C,0))-INDEX('4. Material Balance Activities'!$R:$R,MATCH($B13,'4. Material Balance Activities'!$C:$C,0)))*$G13*(1-$F13) -> 18.24
A14: TEU-BOOTH | B14: Widget Paint-A | C14: 18540-29-9 | D14: =IFERROR(IF(C14="No CAS","",INDEX('DEQ Pollutant List'!$C$7:$C$614,MATCH('5. Pollutant Emissions - MB'!C14,'DEQ Pollutant List'!$B$7:$B$614,0))),"") -> Chromium VI, chromate, and dichromate particulate | E14: =IFERROR(IF(OR($C14="",$C14="No CAS"),INDEX('DEQ Pollutant List'!$A$7:$A$614,MATCH($D14,'DEQ Pollutant List'!$C$7:$C$614,0)),INDEX('DEQ Pollutant List'!$A$7:$A$614,MATCH($C14,'DEQ Pollutant List'!$B$7:$B$614,0))),"") -> 136 | F14: =1-((1-0.72)*(1-0.99)) -> 0.9972 | G14: 0.05 | H14: Includes Transfer Efficiency (72%) and Filter Removal Efficiency (99%) | I14: =(INDEX('4. Material Balance Activities'!$G:$G,MATCH($B14,'4. Material Balance Activities'!$C:$C,0))-INDEX('4. Material Balance Activities'!$M:$M,MATCH($B14,'4. Material Balance Activities'!$C:$C,0)))*$G14*(1-$F14) -> 1.4 | J14: =(INDEX('4. Material Balance Activities'!$H:$H,MATCH($B14,'4. Material Balance Activities'!$C:$C,0))-INDEX('4. Material Balance Activities'!$N:$N,MATCH($B14,'4. Material Balance Activities'!$C:$C,0)))*$G14*(1-$F14) -> 1.596 | K14: =(INDEX('4. Material Balance Activities'!$I:$I,MATCH($B14,'4. Material Balance Activities'!$C:$C,0))-INDEX('4. Material Balance Activities'!$O:$O,MATCH($B14,'4. Material Balance Activities'!$C:$C,0)))*$G14*(1-$F14) -> 2.1 | L14: =(INDEX('4. Material Balance Activities'!$J:$J,MATCH($B14,'4. Material Balance Activities'!$C:$C,0))-INDEX('4. Material Balance Activities'!$P:$P,MATCH($B14,'4. Material Balance Activities'!$C:$C,0)))*$G14*(1-$F14) -> 0.00434 | M14: =(INDEX('4. Material Balance Activities'!$K:$K,MATCH($B14,'4. Material Balance Activities'!$C:$C,0))-INDEX('4. Material Balance Activities'!$Q:$Q,MATCH($B14,'4. Material Balance Activities'!$C:$C,0)))*$G14*(1-$F14) -> 0.00462 | N14: =(INDEX('4. Material Balance Activities'!$L:$L,MATCH($B14,'4. Material Balance Activities'!$C:$C,0))-INDEX('4. Material Balance Activities'!$R:$R,MATCH($B14,'4. Material Balance Activities'!$C:$C,0)))*$G14*(1-$F14) -> 0.00532
A15: TEU-BOOTH | B15: Widget Paint-B | C15: 90-43-7 | D15: =IFERROR(IF(C15="No CAS","",INDEX('DEQ Pollutant List'!$C$7:$C$614,MATCH('5. Pollutant Emissions - MB'!C15,'DEQ Pollutant List'!$B$7:$B$614,0))),"") -> 2-Phenylphenol | E15: =IFERROR(IF(OR($C15="",$C15="No CAS"),INDEX('DEQ Pollutant List'!$A$7:$A$614,MATCH($D15,'DEQ Pollutant List'!$C$7:$C$614,0)),INDEX('DEQ Pollutant List'!$A$7:$A$614,MATCH($C15,'DEQ Pollutant List'!$B$7:$B$614,0))),"") -> 502 | F15: 0 | G15: 0.005 | I15: =(INDEX('4. Material Balance Activities'!$G:$G,MATCH($B15,'4. Material Balance Activities'!$C:$C,0))-INDEX('4. Material Balance Activities'!$M:$M,MATCH($B15,'4. Material Balance Activities'!$C:$C,0)))*$G15*(1-$F15) -> 4.675 | J15: =(INDEX('4. Material Balance Activities'!$H:$H,MATCH($B15,'4. Material Balance Activities'!$C:$C,0))-INDEX('4. Material Balance Activities'!$N:$N,MATCH($B15,'4. Material Balance Activities'!$C:$C,0)))*$G15*(1-$F15) -> 5.85 | K15: =(INDEX('4. Material Balance Activities'!$I:$I,MATCH($B15,'4. Material Balance Activities'!$C:$C,0))-INDEX('4. Material Balance Activities'!$O:$O,MATCH($B15,'4. Material Balance Activities'!$C:$C,0)))*$G15*(1-$F15) -> 7.3 | L15: =(INDEX('4. Material Balance Activities'!$J:$J,MATCH($B15,'4. Material Balance Activities'!$C:$C,0))-INDEX('4. Material Balance Activities'!$P:$P,MATCH($B15,'4. Material Balance Activities'!$C:$C,0)))*$G15*(1-$F15) -> 0.0225 | M15: =(INDEX('4. Material Balance Activities'!$K:$K,MATCH($B15,'4. Material Balance Activities'!$C:$C,0))-INDEX('4. Material Balance Activities'!$Q:$Q,MATCH($B15,'4. Material Balance Activities'!$C:$C,0)))*$G15*(1-$F15) -> 0.045 | N15: =(INDEX('4. Material Balance Activities'!$L:$L,MATCH($B15,'4. Material Balance Activities'!$C:$C,0))-INDEX('4. Material Balance Activities'!$R:$R,MATCH($B15,'4. Material Balance Activities'!$C:$C,0)))*$G15*(1-$F15) -> 0.065
A16: TEU-BOOTH | B16: Widget Paint-B | C16: 50-00-0 | D16: =IFERROR(IF(C16="No CAS","",INDEX('DEQ Pollutant List'!$C$7:$C$614,MATCH('5. Pollutant Emissions - MB'!C16,'DEQ Pollutant List'!$B$7:$B$614,0))),"") -> Formaldehyde | E16: =IFERROR(IF(OR($C16="",$C16="No CAS"),INDEX('DEQ Pollutant List'!$A$7:$A$614,MATCH($D16,'DEQ Pollutant List'!$C$7:$C$614,0)),INDEX('DEQ Pollutant List'!$A$7:$A$614,MATCH($C16,'DEQ Pollutant List'!$B$7:$B$614,0))),"") -> 250 | F16: 0 | G16: 0.7 | I16: =(INDEX('4. Material Balance Activities'!$G:$G,MATCH($B16,'4. Material Balance Activities'!$C:$C,0))-INDEX('4. Material Balance Activities'!$M:$M,MATCH($B16,'4. Material Balance Activities'!$C:$C,0)))*$G16*(1-$F16) -> 654.5 | J16: =(INDEX('4. Material Balance Activities'!$H:$H,MATCH($B16,'4. Material Balance Activities'!$C:$C,0))-INDEX('4. Material Balance Activities'!$N:$N,MATCH($B16,'4. Material Balance Activities'!$C:$C,0)))*$G16*(1-$F16) -> 819 | K16: =(INDEX('4. Material Balance Activities'!$I:$I,MATCH($B16,'4. Material Balance Activities'!$C:$C,0))-INDEX('4. Material Balance Activities'!$O:$O,MATCH($B16,'4. Material Balance Activities'!$C:$C,0)))*$G16*(1-$F16) -> 1022 | L16: =(INDEX('4. Material Balance Activities'!$J:$J,MATCH($B16,'4. Material Balance Activities'!$C:$C,0))-INDEX('4. Material Balance Activities'!$P:$P,MATCH($B16,'4. Material Balance Activities'!$C:$C,0)))*$G16*(1-$F16) -> 3.15 | M16: =(INDEX('4. Material Balance Activities'!$K:$K,MATCH($B16,'4. Material Balance Activities'!$C:$C,0))-INDEX('4. Material Balance Activities'!$Q:$Q,MATCH($B16,'4. Material Balance Activities'!$C:$C,0)))*$G16*(1-$F16) -> 6.3 | N16: =(INDEX('4. Material Balance Activities'!$L:$L,MATCH($B16,'4. Material Balance Activities'!$C:$C,0))-INDEX('4. Material Balance Activities'!$R:$R,MATCH($B16,'4. Material Balance Activities'!$C:$C,0)))*$G16*(1-$F16) -> 9.1
A17: TEU-BOOTH | B17: Widget Paint-B | C17: 7440-36-0 | D17: =IFERROR(IF(C17="No CAS","",INDEX('DEQ Pollutant List'!$C$7:$C$614,MATCH('5. Pollutant Emissions - MB'!C17,'DEQ Pollutant List'!$B$7:$B$614,0))),"") -> Antimony and compounds | E17: =IFERROR(IF(OR($C17="",$C17="No CAS"),INDEX('DEQ Pollutant List'!$A$7:$A$614,MATCH($D17,'DEQ Pollutant List'!$C$7:$C$614,0)),INDEX('DEQ Pollutant List'!$A$7:$A$614,MATCH($C17,'DEQ Pollutant List'!$B$7:$B$614,0))),"") -> 33 | F17: =1-((1-0.72)*(1-0.99)) -> 0.9972 | G17: 0.05 | H17: Includes Transfer Efficiency (72%) and Filter Removal Efficiency (99%) | I17: =(INDEX('4. Material Balance Activities'!$G:$G,MATCH($B17,'4. Material Balance Activities'!$C:$C,0))-INDEX('4. Material Balance Activities'!$M:$M,MATCH($B17,'4. Material Balance Activities'!$C:$C,0)))*$G17*(1-$F17) -> 0.1309 | J17: =(INDEX('4. Material Balance Activities'!$H:$H,MATCH($B17,'4. Material Balance Activities'!$C:$C,0))-INDEX('4. Material Balance Activities'!$N:$N,MATCH($B17,'4. Material Balance Activities'!$C:$C,0)))*$G17*(1-$F17) -> 0.1638 | K17: =(INDEX('4. Material Balance Activities'!$I:$I,MATCH($B17,'4. Material Balance Activities'!$C:$C,0))-INDEX('4. Material Balance Activities'!$O:$O,MATCH($B17,'4. Material Balance Activities'!$C:$C,0)))*$G17*(1-$F17) -> 0.2044 | L17: =(INDEX('4. Material Balance Activities'!$J:$J,MATCH($B17,'4. Material Balance Activities'!$C:$C,0))-INDEX('4. Material Balance Activities'!$P:$P,MATCH($B17,'4. Material Balance Activities'!$C:$C,0)))*$G17*(1-$F17) -> 0.00063 | M17: =(INDEX('4. Material Balance Activities'!$K:$K,MATCH($B17,'4. Material Balance Activities'!$C:$C,0))-INDEX('4. Material Balance Activities'!$Q:$Q,MATCH($B17,'4. Material Balance Activities'!$C:$C,0)))*$G17*(1-$F17) -> 0.00126 | N17: =(INDEX('4. Material Balance Activities'!$L:$L,MATCH($B17,'4. Material Balance Activities'!$C:$C,0))-INDEX('4. Material Balance Activities'!$R:$R,MATCH($B17,'4. Material Balance Activities'!$C:$C,0)))*$G17*(1-$F17) -> 0.00182
D18: =IFERROR(IF(C18="No CAS","",INDEX('DEQ Pollutant List'!$C$7:$C$614,MATCH('5. Pollutant Emissions - MB'!C18,'DEQ Pollutant List'!$B$7:$B$614,0))),"") | E18: =IFERROR(IF(OR($C18="",$C18="No CAS"),INDEX('DEQ Pollutant List'!$A$7:$A$614,MATCH($D18,'DEQ Pollutant List'!$C$7:$C$614,0)),INDEX('DEQ Pollutant List'!$A$7:$A$614,MATCH($C18,'DEQ Pollutant List'!$B$7:$B$614,0))),"")
D19: =IFERROR(IF(C19="No CAS","",INDEX('DEQ Pollutant List'!$C$7:$C$614,MATCH('5. Pollutant Emissions - MB'!C19,'DEQ Pollutant List'!$B$7:$B$614,0))),"") | E19: =IFERROR(IF(OR($C19="",$C19="No CAS"),INDEX('DEQ Pollutant List'!$A$7:$A$614,MATCH($D19,'DEQ Pollutant List'!$C$7:$C$614,0)),INDEX('DEQ Pollutant List'!$A$7:$A$614,MATCH($C19,'DEQ Pollutant List'!$B$7:$B$614,0))),"")
D20: =IFERROR(IF(C20="No CAS","",INDEX('DEQ Pollutant List'!$C$7:$C$614,MATCH('5. Pollutant Emissions - MB'!C20,'DEQ Pollutant List'!$B$7:$B$614,0))),"") | E20: =IFERROR(IF(OR($C20="",$C20="No CAS"),INDEX('DEQ Pollutant List'!$A$7:$A$614,MATCH($D20,'DEQ Pollutant List'!$C$7:$C$614,0)),INDEX('DEQ Pollutant List'!$A$7:$A$614,MATCH($C20,'DEQ Pollutant List'!$B$7:$B$614,0))),"")
D21: =IFERROR(IF(C21="No CAS","",INDEX('DEQ Pollutant List'!$C$7:$C$614,MATCH('5. Pollutant Emissions - MB'!C21,'DEQ Pollutant List'!$B$7:$B$614,0))),"") | E21: =IFERROR(IF(OR($C21="",$C21="No CAS"),INDEX('DEQ Pollutant List'!$A$7:$A$614,MATCH($D21,'DEQ Pollutant List'!$C$7:$C$614,0)),INDEX('DEQ Pollutant List'!$A$7:$A$614,MATCH($C21,'DEQ Pollutant List'!$B$7:$B$614,0))),"")
D22: =IFERROR(IF(C22="No CAS","",INDEX('DEQ Pollutant List'!$C$7:$C$614,MATCH('5. Pollutant Emissions - MB'!C22,'DEQ Pollutant List'!$B$7:$B$614,0))),"") | E22: =IFERROR(IF(OR($C22="",$C22="No CAS"),INDEX('DEQ Pollutant List'!$A$7:$A$614,MATCH($D22,'DEQ Pollutant List'!$C$7:$C$614,0)),INDEX('DEQ Pollutant List'!$A$7:$A$614,MATCH($C22,'DEQ Pollutant List'!$B$7:$B$614,0))),"")
D23: =IFERROR(IF(C23="No CAS","",INDEX('DEQ Pollutant List'!$C$7:$C$614,MATCH('5. Pollutant Emissions - MB'!C23,'DEQ Pollutant List'!$B$7:$B$614,0))),"") | E23: =IFERROR(IF(OR($C23="",$C23="No CAS"),INDEX('DEQ Pollutant List'!$A$7:$A$614,MATCH($D23,'DEQ Pollutant List'!$C$7:$C$614,0)),INDEX('DEQ Pollutant List'!$A$7:$A$614,MATCH($C23,'DEQ Pollutant List'!$B$7:$B$614,0))),"")
D24: =IFERROR(IF(C24="No CAS","",INDEX('DEQ Pollutant List'!$C$7:$C$614,MATCH('5. Pollutant Emissions - MB'!C24,'DEQ Pollutant List'!$B$7:$B$614,0))),"") | E24: =IFERROR(IF(OR($C24="",$C24="No CAS"),INDEX('DEQ Pollutant List'!$A$7:$A$614,MATCH($D24,'DEQ Pollutant List'!$C$7:$C$614,0)),INDEX('DEQ Pollutant List'!$A$7:$A$614,MATCH($C24,'DEQ Pollutant List'!$B$7:$B$614,0))),"")
D25: =IFERROR(IF(C25="No CAS","",INDEX('DEQ Pollutant List'!$C$7:$C$614,MATCH('5. Pollutant Emissions - MB'!C25,'DEQ Pollutant List'!$B$7:$B$614,0))),"") | E25: =IFERROR(IF(OR($C25="",$C25="No CAS"),INDEX('DEQ Pollutant List'!$A$7:$A$614,MATCH($D25,'DEQ Pollutant List'!$C$7:$C$614,0)),INDEX('DEQ Pollutant List'!$A$7:$A$614,MATCH($C25,'DEQ Pollutant List'!$B$7:$B$614,0))),"")
D26: =IFERROR(IF(C26="No CAS","",INDEX('DEQ Pollutant List'!$C$7:$C$614,MATCH('5. Pollutant Emissions - MB'!C26,'DEQ Pollutant List'!$B$7:$B$614,0))),"") | E26: =IFERROR(IF(OR($C26="",$C26="No CAS"),INDEX('DEQ Pollutant List'!$A$7:$A$614,MATCH($D26,'DEQ Pollutant List'!$C$7:$C$614,0)),INDEX('DEQ Pollutant List'!$A$7:$A$614,MATCH($C26,'DEQ Pollutant List'!$B$7:$B$614,0))),"")
D27: =IFERROR(IF(C27="No CAS","",INDEX('DEQ Pollutant List'!$C$7:$C$614,MATCH('5. Pollutant Emissions - MB'!C27,'DEQ Pollutant List'!$B$7:$B$614,0))),"") | E27: =IFERROR(IF(OR($C27="",$C27="No CAS"),INDEX('DEQ Pollutant List'!$A$7:$A$614,MATCH($D27,'DEQ Pollutant List'!$C$7:$C$614,0)),INDEX('DEQ Pollutant List'!$A$7:$A$614,MATCH($C27,'DEQ Pollutant List'!$B$7:$B$614,0))),"")
D28: =IFERROR(IF(C28="No CAS","",INDEX('DEQ Pollutant List'!$C$7:$C$614,MATCH('5. Pollutant Emissions - MB'!C28,'DEQ Pollutant List'!$B$7:$B$614,0))),"") | E28: =IFERROR(IF(OR($C28="",$C28="No CAS"),INDEX('DEQ Pollutant List'!$A$7:$A$614,MATCH($D28,'DEQ Pollutant List'!$C$7:$C$614,0)),INDEX('DEQ Pollutant List'!$A$7:$A$614,MATCH($C28,'DEQ Pollutant List'!$B$7:$B$614,0))),"")
D29: =IFERROR(IF(C29="No CAS","",INDEX('DEQ Pollutant List'!$C$7:$C$614,MATCH('5. Pollutant Emissions - MB'!C29,'DEQ Pollutant List'!$B$7:$B$614,0))),"") | E29: =IFERROR(IF(OR($C29="",$C29="No CAS"),INDEX('DEQ Pollutant List'!$A$7:$A$614,MATCH($D29,'DEQ Pollutant List'!$C$7:$C$614,0)),INDEX('DEQ Pollutant List'!$A$7:$A$614,MATCH($C29,'DEQ Pollutant List'!$B$7:$B$614,0))),"")
... D500: =IFERROR(IF(C500="No CAS","",INDEX('DEQ Pollutant List'!$C$7:$C$614,MATCH('5. Pollutant Emissions - MB'!C500,'DEQ Pollutant List'!$B$7:$B$614,0))),"") | E500: =IFERROR(IF(OR($C500="",$C500="No CAS"),INDEX('DEQ Pollutant List'!$A$7:$A$614,MATCH($D500,'DEQ Pollutant List'!$C$7:$C$614,0)),INDEX('DEQ Pollutant List'!$A$7:$A$614,MATCH($C500,'DEQ Pollutant List'!$B$7:$B$614,0))),"")
A501: INSERT ROWS ABOVE THIS LINE INSERT ROWS ABOVE THIS LINE INSERT ROWS ABOVE THIS LINE INSERT ROWS ABOVE THIS LINE

Sheet DEQ Pollutant List
A6: DEQ Pollutant ID | B6: CAS or DEQ ID | C6: ChemicalName | D6: HAP
A7: 1 | B7: 75-07-0 | C7: Acetaldehyde | D7: Y
A8: 2 | B8: 60-35-5 | C8: Acetamide | D8: Y
A9: 634 | B9: 67-64-1 | C9: Acetone
A10: 3 | B10: 75-05-8 | C10: Acetonitrile | D10: Y
A11: 4 | B11: 98-86-2 | C11: Acetophenone | D11: Y
A12: 5 | B12: 107-02-8 | C12: Acrolein | D12: Y
A13: 6 | B13: 79-06-1 | C13: Acrylamide | D13: Y
A14: 7 | B14: 79-10-7 | C14: Acrylic acid | D14: Y
A15: 8 | B15: 107-13-1 | C15: Acrylonitrile | D15: Y
A16: 9 | B16: 50-76-0 | C16: Actinomycin D
A17: 10 | B17: 1596-84-5 | C17: Alar
A18: 11 | B18: 309-00-2 | C18: Aldrin
A19: 12 | B19: 107-05-1 | C19: Allyl chloride | D19: Y
A20: 13 | B20: 7429-90-5 | C20: Aluminum and compounds
A21: 14 | B21: 1344-28-1 | C21: Aluminum oxide (fibrous forms)
A22: 16 | B22: 97-56-3 | C22: ortho-Aminoazotoluene
A23: 18 | B23: 6109-97-3 | C23: 3-Amino-9-ethylcarbazole hydrochloride
A24: 19 | B24: 68006-83-7 | C24: 2-Amino-3-methyl-9H pyrido[2,3-b]indole
A25: 20 | B25: 82-28-0 | C25: 1-Amino-2-methylanthraquinone
A26: 21 | B26: 76180-96-6 | C26: 2-Amino-3-methylimidazo-[4,5-f]quinoline
A27: 22 | B27: 712-68-5 | C27: 2-Amino-5-(5-Nitro-2-Furyl)-1,3,4-Thiadiazol
A28: 23 | B28: 26148-68-5 | C28: A-alpha-c(2-amino-9h-pyrido[2,3-b]indole)
A29: 24 | B29: 92-67-1 | C29: 4-Aminobiphenyl | D29: Y
A30: 25 | B30: 61-82-5 | C30: Amitrole
A31: 26 | B31: 7664-41-7 | C31: Ammonia
A32: 27 | B32: 7803-63-6 | C32: Ammonium bisulfate
A33: 28 | B33: 6484-52-2 | C33: Ammonium nitrate
A34: 29 | B34: 7783-20-2 | C34: Ammonium sulfate
A35: 30 | B35: 62-53-3 | C35: Aniline | D35: Y
A36: 31 | B36: 90-04-0 | C36: o-Anisidine | D36: Y
A37: 32 | B37: 134-29-2 | C37: o-Anisidine hydrochloride
A38: 33 | B38: 7440-36-0 | C38: Antimony and compounds | D38: Y
A39: 35 | B39: 1309-64-4 | C39: Antimony trioxide | D39: Y
A40: 36 | B40: 140-57-8 | C40: Aramite
A41: 37 | B41: 7440-38-2 | C41: Arsenic and compounds | D41: Y
A42: 39 | B42: 7784-42-1 | C42: Arsine | D42: Y
A43: 356 | B43: 1332-21-4 | C43: Asbestos | D43: Y
A44: 40 | B44: 492-80-8 | C44: Auramine
A45: 41 | B45: 115-02-6 | C45: Azaserine
A46: 42 | B46: 446-86-6 | C46: Azathioprine
A47: 43 | B47: 52-24-4 | C47: Tris-(1-Aziridinyl)phosphine sulfide
A48: 44 | B48: 103-33-3 | C48: Azobenzene
A49: 45 | B49: 7440-39-3 | C49: Barium and compounds
A50: 46 | B50: 71-43-2 | C50: Benzene | D50: Y
A51: 47 | B51: 92-87-5 | C51: Benzidine (and its salts) | D51: Y
A52: 52 | B52: 271-89-6 | C52: Benzofuran
A53: 53 | B53: 98-07-7 | C53: Benzoic trichloride (Benzotrichloride) | D53: Y
A54: 54 | B54: 98-88-4 | C54: Benzoyl chloride
A55: 55 | B55: 94-36-0 | C55: Benzoyl peroxide
A56: 56 | B56: 100-44-7 | C56: Benzyl chloride | D56: Y
A57: 57 | B57: 1694-09-3 | C57: Benzyl Violet 4B
A58: 58 | B58: 7440-41-7 | C58: Beryllium and compounds | D58: Y
A59: 60 | B59: 1304-56-9 | C59: Beryllium Oxide | D59: Y
A60: 61 | B60: 13510-49-1 | C60: Beryllium Sulfate | D60: Y
A61: 62 | B61: 92-52-4 | C61: Biphenyl | D61: Y
A62: 63 | B62: 111-44-4 | C62: Bis(2-chloroethyl) ether (DCEE) | D62: Y
A63: 64 | B63: 542-88-1 | C63: Bis(chloromethyl) ether | D63: Y
A64: 65 | B64: 103-23-1 | C64: Bis(2-ethylhexyl) adipate
A65: 522 | B65: 117-81-7 | C65: Bis(2-ethylhexyl) phthalate (DEHP) | D65: Y
A66: 66 | B66: 7726-95-6 | C66: Bromine and compounds
A67: 68 | B67: 7789-30-2 | C67: Bromine pentafluoride
A68: 71 | B68: 75-27-4 | C68: Bromodichloromethane
A69: 72 | B69: 75-25-2 | C69: Bromoform | D69: Y
A70: 324 | B70: 74-83-9 | C70: Bromomethane (Methyl bromide) | D70: Y
A71: 73 | B71: 106-94-5 | C71: 1-Bromopropane (n-propyl bromide)
A72: 74 | B72: 126-72-7 | C72: Tris(2,3-dibromopropyl)phosphate
A73: 75 | B73: 106-99-0 | C73: 1,3-Butadiene | D73: Y
A74: 333 | B74: 78-93-3 | C74: 2-Butanone (Methyl ethyl ketone)
A75: 76 | B75: 540-88-5 | C75: t-Butyl acetate
A76: 77 | B76: 141-32-2 | C76: Butyl acrylate
A77: 78 | B77: 71-36-3 | C77: n-Butyl alcohol
A78: 79 | B78: 78-92-2 | C78: sec-Butyl alcohol
A79: 80 | B79: 75-65-0 | C79: tert-Butyl alcohol
A80: 519 | B80: 85-68-7 | C80: Butyl benzyl phthalate | D80: Y
A81: 81 | B81: 25013-16-5 | C81: Butylated hydroxyanisole
A82: 82 | B82: 3068-88-0 | C82: beta-Butyrolactone
A83: 83 | B83: 7440-43-9 | C83: Cadmium and compounds | D83: Y
A84: 85 | B84: 156-62-7 | C84: Calcium cyanamide | D84: Y
A85: 86 | B85: 105-60-2 | C85: Caprolactam
A86: 87 | B86: 2425-06-1 | C86: Captafol
A87: 88 | B87: 133-06-2 | C87: Captan | D87: Y
A88: 89 | B88: 89 | C88: Carbon black extracts
A89: 90 | B89: 75-15-0 | C89: Carbon disulfide | D89: Y
A90: 91 | B90: 56-23-5 | C90: Carbon tetrachloride | D90: Y
A91: 92 | B91: 463-58-1 | C91: Carbonyl sulfide | D91: Y
A92: 93 | B92: 9000-07-1 | C92: Carrageenan (degraded)
A93: 94 | B93: 120-80-9 | C93: Catechol | D93: Y
A94: 351 | B94: 351 | C94: Ceramic fibers
A95: 95 | B95: 133-90-4 | C95: Chloramben | D95: Y
A96: 96 | B96: 305-03-3 | C96: Chlorambucil
A97: 97 | B97: 57-74-9 | C97: Chlordane | D97: Y
A98: 98 | B98: 143-50-0 | C98: Chlordecone
A99: 99 | B99: 115-28-6 | C99: Chlorendic Acid
A100: 243 | B100: 76-13-1 | C100: Chlorinated fluorocarbon (1,1,2-Trichloro-1,2,2-trifluoroethane, CFC-113)
A101: 100 | B101: 108171-26-2 | C101: Chlorinated paraffins
A102: 101 | B102: 7782-50-5 | C102: Chlorine | D102: Y
A103: 102 | B103: 10049-04-4 | C103: Chlorine dioxide
A104: 103 | B104: 79-11-8 | C104: Chloroacetic acid | D104: Y
A105: 104 | B105: 532-27-4 | C105: 2-Chloroacetophenone | D105: Y
...

Sheet RevHistory
C3: Rev | D3: Author | E3: Comments
C4: 0 | D4: J.Giska | E4: Initial draft
C5: 1 | D5: J.Giska & J.Westersund | E5: Adjusted EF and MB calculation tabs to have individual rows for pollutants. Added control efficiency cells for each individual pollutant. Removed stack parameters.
C6: 1.2 | D6: J.Giska & J.Westersund | E6: Added chronic and acute activity levels and emissions unit ID column. Added DEQ Sequence ID.
C7: 1.3 | D7: J.Giska, J.Inahara, and PW | E7: Updated Emissions Unit to "Toxic Emissions Units." Added conditional formatting for DEQ Sequence ID. Moved EF reference to cell adjacent to EF value cell. For efficiency values changed unit to "decimal fraction". Asdgfdsg
C8: 1.4 | D8: J.Giska | E8: Added colors to column headings and instructions. Froze panes and locked calculation sheets for DEQ Sequence ID.
C9: 1.5 | D9: J.Giska, C. Coulter | E9: Chris discovered a mis-numbering in DEQSeqID from added chemicals; also PAH SeqID was changed from 447 back to 432 (typo) and KBr extra entry was removed. Also removed unneccessary columns from "DEQ Pollutant List" Worksheet; removed duplicate cumene from DEQ list.
C10: 1.51 | D10: J.Giska | E10: Corrected conditional formatting for HAP cell shading.
C11: 1.52 | D11: J.Giska | E11: formatting
C12: 1.53 | D12: J.Giska | E12: date update and unlocking facility information cells
C13: 1.54 | D13: J.Giska | E13: added DEQ IDs to TACs with no CAS
