Workbook

Sheet 1. Facility Information
A5: Facility Information
A6: Facility Name | B6: International Paper Springfield Mill
A7: Facility Address | B7: 801 42nd St.
A8: City | B8: Springfield
A9: Zip Code | B9: 97478
A10: Source Number (for existing sources) | B10: 208850
A11: Facility Contact | B11: Nikita Kowal, Environmental Engineer
A12: Phone Number | B12: 541-741-5810

Sheet 2. Emissions Units & Activities
A1: Toxics Emissions Unit ID | B1: Unit Description | C1: Control Device[s] | D1: Emission Type (e.g. Point or Fugitive) | E1: Stack or Fugitive ID | F1: Units (e.g. hours operation, tons material, gallons) | G1: Description/Type | H1: Annual - Chronic [units/year] | K1: Max Daily - Acute [units/day]
H2: Actual | I2: Requested PTE | J2: Capacity | K2: Actual | L2: Requested PTE | M2: Capacity
A3: TEU-1 | B3: Widget Maker 1 (EXAMPLE) | C3: Widget Waste RCO | D3: Point | E3: ST-1 | F3: tons | G3: Input Material X | H3: 100 | I3: 140 | J3: 200 | K3: 0.3 | L3: 0.5 | M3: 0.8
A5: EU-150A-PS150-001-FuelOil2-MMBtu | B5: Power Boiler (EU-150A)(PS150-001) | D5: Point | F5: MMBtu | G5: FuelOil2 | H5: 0 | I5: 26112 | J5: 26112 | K5: 0 | L5: =I5/365 -> 71.539726 | M5: =J5/365 -> 71.539726
A6: EU-150A-PS150-001-FuelOil2-Mgal | B6: Power Boiler (EU-150A)(PS150-001) | D6: Point | F6: Mgal | G6: FuelOil2 | H6: 0 | I6: 189 | J6: 189 | K6: 0 | L6: =I6/365 -> 0.51780822 | M6: =J6/365 -> 0.51780822
A7: EU-150A-PS150-001-NatGas-MMBTU | B7: Power Boiler (EU-150A)(PS150-001) | D7: Point | F7: MMBtu | G7: Natural Gas | H7: 1259158.5 | I7: 4739328 | J7: 4739328 | K7: 7102.04 | L7: =I7/365 -> 12984.46 | M7: =J7/365 -> 12984.46
A8: EU-150A-PS150-001-NatGas-MMSCF | B8: Power Boiler (EU-150A)(PS150-001) | D8: Point | F8: MMSCF | G8: Natural Gas | H8: 1169.759 | I8: 4619 | J8: 4619 | K8: 6.6 | L8: =I8/365 -> 12.654795 | M8: =J8/365 -> 12.654795
A9: EU-150B-PS150-300-FuelOil2-MGal | B9: Package Boiler (EU-150B)(PS150-300) | C9: FA150-306 | D9: Point | F9: Mgal | G9: FuelOil2 | H9: 0 | I9: 118 | J9: 118 | K9: 0 | L9: =I9/365 -> 0.32328767 | M9: =J9/365 -> 0.32328767
A10: EU-150B-PS150-300-FuelOil2-MMBTU | B10: Package Boiler (EU-150B)(PS150-300) | C10: FA150-306 | D10: Point | F10: MMBtu | G10: FuelOil2 | H10: 0 | I10: 16320 | J10: 16320 | K10: 0 | L10: =I10/365 -> 44.712329 | M10: =J10/365 -> 44.712329
A11: EU-150B-PS150-300-NatGas-MMBTU | B11: Package Boiler (EU-150B)(PS150-300) | C11: FA150-306 | D11: Point | F11: MMBtu | G11: Natural Gas | H11: 27466.11 | I11: 2962080 | J11: 2962080 | K11: 3328.41 | L11: =I11/365 -> 8115.2877 | M11: =J11/365 -> 8115.2877
A12: EU-150B-PS150-300-NatGas-MMSCF | B12: Package Boiler (EU-150B)(PS150-300) | C12: FA150-306 | D12: Point | F12: MMSCF | G12: Natural Gas | H12: 25.791 | I12: 2879.6767 | J12: 2879.6767 | K12: 3.1 | L12: =I12/365 -> 7.8895252 | M12: =J12/365 -> 7.8895252
A13: EU-185-FU185-299-ADFTP | B13: ASB (WEST) (EU-185)(FU185-299) | D13: Fugitive | F13: ADFTP | G13: Paper | H13: 558200.13 | I13: 924500 | J13: 924500 | K13: 2399.57 | L13: =I13/365 -> 2532.8767 | M13: =J13/365 -> 2532.8767
A14: EU-185-FU185-299-ADTUBP | B14: ASB (WEST) (EU-185)(FU185-299) | D14: Fugitive | F14: ADTUBP | G14: Pulp | H14: 381874.6 | I14: 530000 | J14: 530000 | K14: 1397.4 | L14: =I14/365 -> 1452.0548 | M14: =J14/365 -> 1452.0548
A15: EU-185-FU185-500-ADFTP | B15: ASB (EAST) (EU-185)(FU185-500) | D15: Fugitive | F15: ADFTP | G15: Paper | H15: 558200.13 | I15: 924500 | J15: 924500 | K15: 2399.57 | L15: =I15/365 -> 2532.8767 | M15: =J15/365 -> 2532.8767
A16: EU-185-FU185-500-ADTUBP | B16: ASB (EAST) (EU-185)(FU185-500) | D16: Fugitive | F16: ADTUBP | G16: Pulp | H16: 381874.6 | I16: 530000 | J16: 530000 | K16: 1397.4 | L16: =I16/365 -> 1452.0548 | M16: =J16/365 -> 1452.0548
A17: EU-185-TA185-126 & FU185-801-ADTFP | B17: Primary Clarifier & Surge Pond (EU-185)(TA185-126 & FU185-801) | D17: Fugitive | F17: ADFTP | G17: Paper | H17: 558200.13 | I17: 924500 | J17: 924500 | K17: 2399.57 | L17: =I17/365 -> 2532.8767 | M17: =J17/365 -> 2532.8767
A18: EU-185-TA185-126 & FU185-801-ADTUBP | B18: Primary Clarifier & Surge Pond (EU-185)(TA185-126 & FU185-801) | D18: Fugitive | F18: ADTUBP | G18: Pulp | H18: 381874.6 | I18: 530000 | J18: 530000 | K18: 1397.4 | L18: =I18/365 -> 1452.0548 | M18: =J18/365 -> 1452.0548
A19: EU-185-TA185-177-ADFTP | B19: Flotator (EU-185)(TA185-177) | D19: Fugitive | F19: ADFTP | G19: Paper | H19: 558200.13 | I19: 924500 | J19: 924500 | K19: 2399.57 | L19: =I19/365 -> 2532.8767 | M19: =J19/365 -> 2532.8767
A20: EU-185-TA185-177-ADTUBP | B20: Flotator (EU-185)(TA185-177) | D20: Fugitive | F20: ADTUBP | G20: Pulp | H20: 381874.6 | I20: 530000 | J20: 530000 | K20: 1397.4 | L20: =I20/365 -> 1452.0548 | M20: =J20/365 -> 1452.0548
A21: EU-275C-FU401-098-ODTons | B21: Chip Bins 1&2 (Kamyr) (EU-275C)(FU401-098) | D21: Fugitive | F21: ODTons | G21: Chips | H21: 626316.3 | I21: 883333 | J21: 883333 | K21: 2253.74 | L21: =I21/365 -> 2420.0904 | M21: =J21/365 -> 2420.0904
A22: EU-275C-FU401-098-ADTUBP | B22: Chip Bins 1&2 (Kamyr) (EU-275C)(FU401-098) | D22: Fugitive | F22: ADTUBP | G22: Pulp | H22: 381874.6 | I22: 530000 | J22: 530000 | K22: 1397.4 | L22: =I22/365 -> 1452.0548 | M22: =J22/365 -> 1452.0548
A23: EU-275C-PS420-107-ADTUBP | B23: BSW Diff System (Kamyr) (EU-275C)(PS420-107) | D23: Point | F23: ADTUBP | G23: Pulp | H23: 381874.6 | I23: 530000 | J23: 530000 | K23: 1397.4 | L23: =I23/365 -> 1452.0548 | M23: =J23/365 -> 1452.0548
A24: EU-275C-PS420-999-ADTUBP | B24: BSW Drum System (Kamyr) (EU-275C)(PS420-999) | D24: Point | F24: ADTUBP | G24: Pulp | H24: 381874.6 | I24: 530000 | J24: 530000 | K24: 1397.4 | L24: =I24/365 -> 1452.0548 | M24: =J24/365 -> 1452.0548
A25: EU-275C-TA186-120-ADTUBP | B25: EVAPS (VCE compressor fugitives) (EU-275C)(TA186-120) | D25: Fugitive | F25: ADTUBP | G25: Pulp | H25: 381874.6 | I25: 530000 | J25: 530000 | K25: 1397.4 | L25: =I25/365 -> 1452.0548 | M25: =J25/365 -> 1452.0548
A26: EU-275C-TA186-120-RunHours | B26: EVAPS (VCE compressor fugitives) (EU-275C)(TA186-120) | D26: Fugitive | F26: Run.Hrs | G26: Operating Hours | H26: 8760 | I26: 8760 | J26: 8760 | K26: =H26/365 -> 24 | L26: =I26/365 -> 24 | M26: =J26/365 -> 24
A27: EU-275C-TA440-003,004,130; TA420-037)-ADTUBP | B27: WBL-Tanks 3,4,MultiPurpose&Spill (EU-275C)(TA440-003,004,130; TA420-037)) | D27: Fugitive | F27: ADTUBP | G27: Pulp | H27: 381874.6 | I27: 530000 | J27: 530000 | K27: 1397.4 | L27: =I27/365 -> 1452.0548 | M27: =J27/365 -> 1452.0548
A28: EU-275C-TA440-003,004,130; TA420-037-RunHours | B28: WBL-Tanks 3,4,MultiPurpose&Spill (EU-275C)(TA440-003,004,130; TA420-037)) | D28: Fugitive | F28: Run.Hrs | G28: Operating Hours | H28: =8760*4 -> 35040 | I28: =8760*4 -> 35040 | J28: =8760*4 -> 35040 | K28: =(8760*4)/365 -> 96 | L28: =(8760*4)/365 -> 96 | M28: =(8760*4)/365 -> 96
A29: EU-275C-TA445-300,400-090-RunHours | B29: HBL-Tanks #7 Str Bl Liq Tank & Str Bl Liq Surge Tank (EU-275C)(TA445-300&TA440-090) | D29: Fugitive | F29: Run.Hrs | G29: Operating Hours | H29: 35040 | I29: =8760*4 -> 35040 | J29: =I29 -> 35040 | K29: =H29/365 -> 96 | L29: =I29/365 -> 96 | M29: =J29/365 -> 96
A30: EU-275C-TA445-300,440-090-ADTUBP | B30: HBL-Tanks #7 Str Bl Liq Tank & Str Bl Liq Surge Tank (EU-275C)(TA445-300&TA440-090) | D30: Fugitive | F30: ADTUBP | G30: Pulp | H30: 381874.6 | I30: 530000 | J30: 530000 | K30: 1397.4 | L30: =I30/365 -> 1452.0548 | M30: =J30/365 -> 1452.0548
A31: EU-275D-EQ420-070-ADTUBP | B31: Kamyr 480 Bauer Refiner Chest Vent(EU-275D)(EQ420-070) | D31: Point | F31: ADTUBP | G31: Pulp | H31: 381874.6 | I31: 530000 | J31: 530000 | K31: 1397.4 | L31: =I31/365 -> 1452.0548 | M31: =J31/365 -> 1452.0548
A32: EU-275D-EQ420-070-RunHours | B32: Kamyr 480 Bauer Refiner Chest Vent(EU-275D)(EQ420-070) | D32: Point | F32: Run.Hrs | G32: Operating Hours | H32: 8760 | I32: 8760 | J32: 8760 | K32: =H32/365 -> 24 | L32: =I32/365 -> 24 | M32: =J32/365 -> 24
A33: EU-275D-TA420-014;035-ADTUBP | B33: Recaust Hot Water and Kamyr Contaminated Hot Water (EU-275D)(TA420-014;035) | D33: Point | F33: ADTUBP | G33: Pulp | H33: 381874.6 | I33: 530000 | J33: 530000 | K33: 1397.4 | L33: =I33/365 -> 1452.0548 | M33: =J33/365 -> 1452.0548
A34: EU-275D-TA455-012,456-010,456-015,455-013,455-011-ADTUBP | B34: Causticizers5,6,3,2 &1 (EU-275D)(TA455-012,456-010, 456-015, 455-013, 455-011) | D34: Point | F34: Tons.CaO | G34: Lime | H34: 63224.8 | I34: 99110 | J34: 99110 | K34: 242.1 | L34: =I34/365 -> 271.53425 | M34: =J34/365 -> 271.53425
A35: EU-275D-TA455-012,456-010,456-015,455-013,455-011-TCaO | B35: Causticizers5,6,3,2 &1 (EU-275D)(TA455-012,456-010, 456-015, 455-013, 455-011) | D35: Point | F35: Tons.CaO | G35: Lime | H35: 381874.6 | I35: 530000 | J35: 99110 | K35: 242.1 | L35: =I35/365 -> 1452.0548 | M35: =J35/365 -> 271.53425
A36: EU-275D-TA455-127-TCaO | B36: Slaker4 (EU-275D)(TA455-127) | D36: Fugitive | F36: Tons.CaO | G36: Lime | H36: 63224.8 | I36: 99110 | J36: 99110 | K36: 242.1 | L36: =I36/365 -> 271.53425 | M36: =J36/365 -> 271.53425
A37: EU-420-FU420-999-ADTUBP | B37: Screen Rejects System (Kamyr) (EU-420)(FU420-999) | D37: Fugitive | F37: ADTUBP | G37: Pulp | H37: 381874.6 | I37: 530000 | J37: 530000 | K37: 1397.4 | L37: =I37/365 -> 1452.0548 | M37: =J37/365 -> 1452.0548
A38: EU-455-PS455-999-NatGas.MMSCF | B38: Lime Kilns 2&3 (post-ESP)(EU-455) (PS455-999) | C38: CD456-110 | D38: Point | F38: MMSCF | G38: Natural Gas | H38: 22.5399 | K38: 0.15 | L38: =I38/365 -> 0 | M38: =J38/365 -> 0
A39: EU-455-PS455-999-TCaO | B39: Lime Kilns 2&3 (post-ESP)(EU-455) (PS455-999) | C39: CD456-110 | D39: Point | F39: Tons.CaO | G39: Lime | H39: 63224.8 | I39: 99110 | J39: 99110 | K39: 242.1 | L39: =I39/365 -> 271.53425 | M39: =J39/365 -> 271.53425
A40: EU-445C-EQ445-321-RB4-FuelOil2-MMBTU | B40: RB4 (EU-445C)(EQ445-321) | C40: CD445-480 | D40: Point | F40: MMBtu | G40: FuelOil2 | H40: 0 | I40: 2146 | K40: 0 | L40: =I40/365 -> 5.8794521 | M40: 5.88
A41: EU-445C-EQ445-321-RB4-FuelOil2-NonCo-MGal | B41: RB4 (EU-445C)(EQ445-321) | C41: CD445-480 | D41: Point | F41: Mgal | G41: FuelOil2 | H41: 0 | I41: 16 | J41: 16 | K41: 0 | L41: =I41/365 -> 0.043835616 | M41: =J41/365 -> 0.043835616
A42: EU-445C-EQ445-321-RB4-NatGas-MMSCF | B42: RB4 (EU-445C)(EQ445-321) | C42: CD445-480 | D42: Point | F42: MMSCF | G42: Natural Gas | H42: 301.5 | I42: 111.8 | J42: 111.8 | K42: 7.22 | L42: =I42/365 -> 0.30630137 | M42: =J42/365 -> 0.30630137
A43: EU-445C-EQ445-321-RB4-TBLS | B43: RB4 (EU-445C)(EQ445-321) | C43: CD445-480 | D43: Point | F43: TBLS | G43: Black Liquor Solids | H43: 415688.4 | I43: 651900 | J43: 651900 | K43: 1553.2 | L43: =I43/365 -> 1786.0274 | M43: =J43/365 -> 1786.0274
A44: EU-445D-TA445-350,445-563,445-336-TBLS | B44: SDT4 (EU-445D)(TA445-350, TA445-563, TA445-336) | C44: CD445-447 | D44: Point | F44: TBLS | G44: Black Liquor Solids | H44: 415688.4 | I44: 651900 | J44: 651900 | K44: 1553.2 | L44: =I44/365 -> 1786.0274 | M44: =J44/365 -> 1786.0274
A45: EU-456-GE454-052,GE455-153-TCaO | B45: LM Precoat Filters 2&3 (EU-456)(GE454-052,GE455-153) | D45: Fugitive | F45: Tons.CaO | G45: Lime | H45: 63224.8 | I45: 99110 | J45: 99110 | K45: 242.1 | L45: =I45/365 -> 271.53425 | M45: =J45/365 -> 271.53425
A46: EU-456-TA455-001,TA456-001-TCaO | B46: GL Clarifiers (N&S) (EU-456)(TA455-001,TA456-001) | D46: Fugitive | F46: Tons.CaO | G46: Lime | H46: 63224.8 | I46: 99110 | J46: 99110 | K46: 242.1 | L46: =I46/365 -> 271.53425 | M46: =J46/365 -> 271.53425
A47: EU-456-TA455-158&PU455-056-TCaO | B47: LM Precoat Filters 2&3 VacPumps&Seal Tanks -(EU-456)(TA455-158&PU455-056) | D47: Fugitive | F47: Tons.CaO | G47: Lime | H47: 63224.8 | I47: 99110 | J47: 99110 | K47: 242.1 | L47: =I47/365 -> 271.53425 | M47: =J47/365 -> 271.53425
A48: EU-456-TA455-165-TCaO | B48: GL New Dregs Filter (EU-456)(TA455-165) | D48: Fugitive | F48: Tons.CaO | G48: Lime | H48: 63224.8 | I48: 99110 | J48: 99110 | K48: 242.1 | L48: =I48/365 -> 271.53425 | M48: =J48/365 -> 271.53425
A49: EU-456-TA456-020&TA455-018-Run.Hours | B49: WL Clarifiers N&S (EU-456)(TA456-020&TA455-018) | D49: Fugitive | F49: Tons.CaO | G49: Lime | H49: 63224.8 | I49: 99110 | J49: 99110 | K49: 242.1 | L49: =I49/365 -> 271.53425 | M49: =J49/365 -> 271.53425
A50: EU-456-TA456-028,TA455-025-TCaO | B50: LM Washers N&S (EU-456)(TA456-028,TA455-025) | D50: Fugitive | F50: Tons.CaO | G50: Lime | H50: 63224.8 | I50: 99110 | J50: 99110 | K50: 242.1 | L50: =I50/365 -> 271.53425 | M50: =J50/365 -> 271.53425
A51: EU-456-TA456-034-TCaO | B51: LM Washer Mix Tank (EU-456)(TA456-034) | D51: Fugitive | F51: Tons.CaO | G51: Lime | H51: 63224.8 | I51: 99110 | J51: 99110 | K51: 242.1 | L51: =I51/365 -> 271.53425 | M51: =J51/365 -> 271.53425
A52: EU-456-TA456-036,TA455-050-TcaO | B52: LM Tanks N&S (EU-456)(TA456-036,TA455-050) | D52: Fugitive | F52: Tons.CaO | G52: Lime | H52: 63224.8 | I52: 99110 | J52: 99110 | K52: 242.1 | L52: =I52/365 -> 271.53425 | M52: =J52/365 -> 271.53425
A53: EU-456-TA456-128-TCaO | B53: LK 2&3 ESP Slurry Tank (EU-456)(TA456-128) | D53: Fugitive | F53: Tons.CaO | G53: Lime | H53: 63224.8 | I53: 99110 | J53: 99110 | K53: 242.1 | L53: =I53/365 -> 271.53425 | M53: =J53/365 -> 271.53425
A54: EU-600-FA601-121,225; TA601-003,167, 012,031,134)-OCC-ADFTP | B54: OCC Plant (EU-600)(FA601-121,225; TA601-003,167, 012,031,134) | D54: Point | F54: ADFTP | G54: Paper | H54: 175402.2 | I54: 354700 | J54: 354700 | K54: 896.1 | L54: =I54/365 -> 971.78082 | M54: =J54/365 -> 971.78082
A55: EU-715A&B-PS715-999A&B;EQ705-018; FA705-032,107,174;FA730-026,104;TA705-020,134,066,078-ADTFP | B55: PM2 (Wet&Dry PM Vents) (EU-715A&B)(PS715-999A&B;EQ705-018; FA705-032,107,174;FA730-026,104;TA705-020,134,066,078) | C55: CD710-005&CD730-105 | D55: Point | F55: ADFTP | G55: Paper | H55: 558200.13 | I55: 924500 | J55: 924500 | K55: 2399.57 | L55: =I55/365 -> 2532.8767 | M55: =J55/365 -> 2532.8767
A56: EU-715A-TA705-002,3,93,94,99,130,208,&215-TankHours | B56: HD-Tanks 3,4,5,6,7,8&10, LD8 (EU-715A)(TA705-002,3,93,94,99,130,208,&215) | D56: Fugitive | F56: Run.Hrs | G56: Operating Hours | H56: 8760 | I56: 8760 | J56: 8760 | K56: =J56/365 -> 24 | L56: =I56/365 -> 24 | M56: =J56/365 -> 24
A57: EU-715A-TA705-002,3,93,94,99,130,208,&215-RunHours | B57: HD-Tanks 3,4,5,6,7,8&10, LD8 (EU-715A)(TA705-002,3,93,94,99,130,208,&215) | D57: Fugitive | F57: Run.Hrs | G57: Paper | H57: 70080 | I57: 70080 | J57: 70080 | K57: =H57/365 -> 192 | L57: =I57/365 -> 192 | M57: =J57/365 -> 192
A58: IC-Engine-(140-126)-RP-Emergency | B58: Emergency River Pump Generator (140-126) | D58: Point | F58: MMBtu | G58: MMBtu-Diesel-Emergency | H58: 0 | I58: 0 | J58: 0 | L58: =I58/365 -> 0 | M58: =J58/365 -> 0
A59: IC-Engine-(140-126)-RP-Routine | B59: Emergency River Pump Generator (140-126) | D59: Point | F59: MMBtu | G59: MMBTU-Diesel-Routine | H59: 23.2 | I59: 80 | J59: 80 | L59: =I59/365 -> 0.21917808 | M59: =J59/365 -> 0.21917808
A60: IC-Engine-(195-003)-NFP-Emergency | B60: New Emergency Fire Pump (195-003) | D60: Point | F60: MMBtu | G60: MMBtu-Diesel-Emergency | H60: 0 | I60: 0 | J60: 0 | L60: =I60/365 -> 0 | M60: =J60/365 -> 0
A61: IC-Engine-(195-003)-NFP-Routine | B61: New Emergency Fire Pump (195-003) | D61: Point | F61: MMBtu | G61: MMBTU-Diesel-Routine | H61: 14.5 | I61: 80 | J61: 80 | L61: =I61/365 -> 0.21917808 | M61: =J61/365 -> 0.21917808
A62: IC-Engine-(454-032)-LK2-Emergency | B62: No. 2 Lime Kiln Emergency Backup Drive (454-032) | D62: Point | F62: MMBtu | G62: MMBtu-Gasoline-Emergency | H62: 0 | I62: 0 | J62: 0 | L62: =I62/365 -> 0 | M62: =J62/365 -> 0
A63: IC-Engine-(454-032)-LK2-Routine | B63: No. 2 Lime Kiln Emergency Backup Drive (454-032) | D63: Point | F63: MMBtu | G63: MMBtu-Gasoline-Routine | H63: 1.2 | I63: 8.1 | J63: 8.1 | L63: =I63/365 -> 0.022191781 | M63: =J63/365 -> 0.022191781
A64: IC-Engine-(455-063)-LK3-Emergency | B64: No. 3 Lime Kiln Emergency Backup Drive (455-063) | D64: Point | F64: MMBtu | G64: MMBtu-Diesel-Emergency | H64: 0 | I64: 0 | J64: 0 | L64: =I64/365 -> 0 | M64: =J64/365 -> 0
A65: IC-Engine-(455-063)-LK3-Routine | B65: No. 3 Lime Kiln Emergency Backup Drive (455-063) | D65: Point | F65: MMBtu | G65: MMBTU-Diesel-Routine | H65: 5.2 | I65: 22 | J65: 22 | L65: =I65/365 -> 0.060273973 | M65: =J65/365 -> 0.060273973
A66: IC-Engine-(808-052)-FP-Emergency | B66: Emergency Fire Pump (808-052) | D66: Point | F66: MMBtu | G66: MMBtu-Diesel-Emergency | H66: 0 | I66: 0 | J66: 0 | L66: =I66/365 -> 0 | M66: =J66/365 -> 0
A67: IC-Engine-(808-052)-FP-Routine | B67: Emergency Fire Pump (808-052) | D67: Point | F67: MMBtu | G67: MMBTU-Diesel-Routine | H67: 0.2 | I67: 97 | J67: 97 | L67: =I67/365 -> 0.26575342 | M67: =J67/365 -> 0.26575342

Sheet 3. Pollutant Emissions - EF
J1: Calculated Emissions
A2: Toxic Emissions Unit ID | B2: Pollutant Information | E2: Control Efficiency | F2: Emission Factor Information | J2: Annual - Chronic [lb/yr] | M2: Max Daily - Acute [lb/day]
F3: EF Values | H3: Units | I3: Reference/Notes
B4: CAS or DEQ ID | C4: Chemical Name | D4: DEQ Sequence ID | F4: Annual - Chronic | G4: Max Daily - Acute | J4: Actual | K4: Requested PTE | L4: Capacity | M4: Actual | N4: Requested PTE | O4: Capacity
A5: TEU-1 | B5: 61-82-5 | C5: =IFERROR(IF(B5="No CAS","",INDEX('[1]DEQ Pollutant List'!$C$7:$C$611,MATCH('[1]3. Pollutant Emissions - EF'!B5,'[1]DEQ Pollutant List'!$B$7:$B$611,0))),"") | D5: =IFERROR(IF(OR($B5="",$B5="No CAS",$B5="18540-29-9",$B5="7440-02-0"),INDEX('[1]DEQ Pollutant List'!$A$7:$A$611,MATCH($C5,'[1]DEQ Pollutant List'!$C$7:$C$611,0)),INDEX('[1]DEQ Pollutant List'!$A$7:$A$611,MATCH($B5,'[1]DEQ Pollutant List'!$B$7:$B$611,0))),"") -> 25 | E5: 0.975 | F5: 2.5 | H5: lb/ton | I5: Annual and max daily EF values are the same for this TEU and its pollutants | J5: =$F5*'[1]2. Emissions Units & Activities'!H$13*(1-$E5) -> 6.25 | K5: =$F5*'[1]2. Emissions Units & Activities'!I$13*(1-$E5) -> 8.75 | L5: =$F5*'[1]2. Emissions Units & Activities'!J$13*(1-$E5) -> 12.5 | M5: =$F5*'[1]2. Emissions Units & Activities'!K$13*(1-$E5) -> 0.01875 | N5: =$F5*'[1]2. Emissions Units & Activities'!L$13*(1-$E5) -> 0.03125 | O5: =$F5*'[1]2. Emissions Units & Activities'!M$13*(1-$E5) -> 0.05
A6: TEU-1 | B6: 7440-38-2 | C6: =IFERROR(IF(B6="No CAS","",INDEX('[1]DEQ Pollutant List'!$C$7:$C$611,MATCH('[1]3. Pollutant Emissions - EF'!B6,'[1]DEQ Pollutant List'!$B$7:$B$611,0))),"") | D6: =IFERROR(IF(OR($B6="",$B6="No CAS"),INDEX('[1]DEQ Pollutant List'!$A$7:$A$611,MATCH($C6,'[1]DEQ Pollutant List'!$C$7:$C$611,0)),INDEX('[1]DEQ Pollutant List'!$A$7:$A$611,MATCH($B6,'[1]DEQ Pollutant List'!$B$7:$B$611,0))),"") -> 37 | E6: 0 | F6: 0.1 | H6: lb/ton | I6: The control efficiency does not apply to this pollutant | J6: =$F6*'[1]2. Emissions Units & Activities'!H$13*(1-$E6) -> 10 | K6: =$F6*'[1]2. Emissions Units & Activities'!I$13*(1-$E6) -> 14 | L6: =$F6*'[1]2. Emissions Units & Activities'!J$13*(1-$E6) -> 20 | M6: =$F6*'[1]2. Emissions Units & Activities'!K$13*(1-$E6) -> 0.03 | N6: =$F6*'[1]2. Emissions Units & Activities'!L$13*(1-$E6) -> 0.05 | O6: =$F6*'[1]2. Emissions Units & Activities'!M$13*(1-$E6) -> 0.08
C7: =IFERROR(IF(B7="No CAS","",INDEX(#REF!,MATCH('[1]3. Pollutant Emissions - EF'!B7,#REF!,0))),"") | D7: =IFERROR(IF(OR($B7="",$B7="No CAS"),INDEX('[1]DEQ Pollutant List'!$A$7:$A$611,MATCH($C7,'[1]DEQ Pollutant List'!$C$7:$C$611,0)),INDEX('[1]DEQ Pollutant List'!$A$7:$A$611,MATCH($B7,'[1]DEQ Pollutant List'!$B$7:$B$611,0))),"")
A8: EU-150A-PS150-001-FuelOil2-MMBtu | B8: 7439-92-1 | C8: Lead and compounds | D8: =IFERROR(IF(OR($B8="",$B8="No CAS"),INDEX('[1]DEQ Pollutant List'!$A$7:$A$611,MATCH($C8,'[1]DEQ Pollutant List'!$C$7:$C$611,0)),INDEX('[1]DEQ Pollutant List'!$A$7:$A$611,MATCH($B8,'[1]DEQ Pollutant List'!$B$7:$B$611,0))),"") -> 305 | F8: 9e-06 | G8: 9e-06 | H8: lb/FuelOil2-MMBTU | I8: Facility Specific Emission Factor | J8: 0 | K8: 0.23436415 | L8: 0.23436415 | M8: =VLOOKUP('3. Pollutant Emissions - EF'!A8,'2. Emissions Units & Activities'!A:M,11,FALSE)*G8 -> 0 | N8: =VLOOKUP('3. Pollutant Emissions - EF'!A8,'2. Emissions Units & Activities'!A:M,12,FALSE)*G8 -> 0.00064385753 | O8: =VLOOKUP('3. Pollutant Emissions - EF'!A8,'2. Emissions Units & Activities'!A:M,13,FALSE)*G8 -> 0.00064385753
A9: EU-150A-PS150-001-FuelOil2-Mgal | B9: 35822-46-9 | C9: 1,2,3,4,6,7,8-Heptachlorodibenzo-p-dioxin (HpCDD) | D9: =IFERROR(IF(OR($B9="",$B9="No CAS"),INDEX('[1]DEQ Pollutant List'!$A$7:$A$611,MATCH($C9,'[1]DEQ Pollutant List'!$C$7:$C$611,0)),INDEX('[1]DEQ Pollutant List'!$A$7:$A$611,MATCH($B9,'[1]DEQ Pollutant List'!$B$7:$B$611,0))),"") -> 532 | F9: 2.226e-10 | G9: 2.226e-10 | H9: lb/FuelOil2.MGal | I9: Trade Group Emission Factor (NCASI) | J9: 0 | K9: 4.20714e-08 | L9: 4.20714e-08 | M9: =VLOOKUP('3. Pollutant Emissions - EF'!A9,'2. Emissions Units & Activities'!A:M,11,FALSE)*G9 -> 0 | N9: =VLOOKUP('3. Pollutant Emissions - EF'!A9,'2. Emissions Units & Activities'!A:M,12,FALSE)*G9 -> 1.1526411e-10 | O9: =VLOOKUP('3. Pollutant Emissions - EF'!A9,'2. Emissions Units & Activities'!A:M,13,FALSE)*G9 -> 1.1526411e-10
A10: EU-150A-PS150-001-FuelOil2-Mgal | B10: 67562-39-4 | C10: 1,2,3,4,6,7,8-Heptachlorodibenzofuran (HpCDF) | D10: =IFERROR(IF(OR($B10="",$B10="No CAS"),INDEX('[1]DEQ Pollutant List'!$A$7:$A$611,MATCH($C10,'[1]DEQ Pollutant List'!$C$7:$C$611,0)),INDEX('[1]DEQ Pollutant List'!$A$7:$A$611,MATCH($B10,'[1]DEQ Pollutant List'!$B$7:$B$611,0))),"") -> 546 | F10: 3.766e-10 | G10: 3.766e-10 | H10: lb/FuelOil2.MGal | I10: Trade Group Emission Factor (NCASI) | J10: 0 | K10: 7.11774e-08 | L10: 7.11774e-08 | M10: =VLOOKUP('3. Pollutant Emissions - EF'!A10,'2. Emissions Units & Activities'!A:M,11,FALSE)*G10 -> 0 | N10: =VLOOKUP('3. Pollutant Emissions - EF'!A10,'2. Emissions Units & Activities'!A:M,12,FALSE)*G10 -> 1.9500658e-10 | O10: =VLOOKUP('3. Pollutant Emissions - EF'!A10,'2. Emissions Units & Activities'!A:M,13,FALSE)*G10 -> 1.9500658e-10
A11: EU-150A-PS150-001-FuelOil2-Mgal | B11: 55673-89-7 | C11: 1,2,3,4,7,8,9-Heptachlorodibenzofuran (HpCDF) | D11: =IFERROR(IF(OR($B11="",$B11="No CAS"),INDEX('[1]DEQ Pollutant List'!$A$7:$A$611,MATCH($C11,'[1]DEQ Pollutant List'!$C$7:$C$611,0)),INDEX('[1]DEQ Pollutant List'!$A$7:$A$611,MATCH($B11,'[1]DEQ Pollutant List'!$B$7:$B$611,0))),"") -> 547 | F11: 2.8e-11 | G11: 2.8e-11 | H11: lb/FuelOil2.MGal | I11: Trade Group Emission Factor (NCASI) | J11: 0 | K11: 5.292e-09 | L11: 5.292e-09 | M11: =VLOOKUP('3. Pollutant Emissions - EF'!A11,'2. Emissions Units & Activities'!A:M,11,FALSE)*G11 -> 0 | N11: =VLOOKUP('3. Pollutant Emissions - EF'!A11,'2. Emissions Units & Activities'!A:M,12,FALSE)*G11 -> 1.449863e-11 | O11: =VLOOKUP('3. Pollutant Emissions - EF'!A11,'2. Emissions Units & Activities'!A:M,13,FALSE)*G11 -> 1.449863e-11
A12: EU-150A-PS150-001-FuelOil2-Mgal | B12: 39227-28-6 | C12: 1,2,3,4,7,8-Hexachlorodibenzo-p-dioxin (HxCDD) | D12: =IFERROR(IF(OR($B12="",$B12="No CAS"),INDEX('[1]DEQ Pollutant List'!$A$7:$A$611,MATCH($C12,'[1]DEQ Pollutant List'!$C$7:$C$611,0)),INDEX('[1]DEQ Pollutant List'!$A$7:$A$611,MATCH($B12,'[1]DEQ Pollutant List'!$B$7:$B$611,0))),"") -> 529 | F12: 2.408e-11 | G12: 2.408e-11 | H12: lb/FuelOil2.MGal | I12: Trade Group Emission Factor (NCASI) | J12: 0 | K12: 4.55112e-09 | L12: 4.55112e-09 | M12: =VLOOKUP('3. Pollutant Emissions - EF'!A12,'2. Emissions Units & Activities'!A:M,11,FALSE)*G12 -> 0 | N12: =VLOOKUP('3. Pollutant Emissions - EF'!A12,'2. Emissions Units & Activities'!A:M,12,FALSE)*G12 -> 1.2468822e-11 | O12: =VLOOKUP('3. Pollutant Emissions - EF'!A12,'2. Emissions Units & Activities'!A:M,13,FALSE)*G12 -> 1.2468822e-11
A13: EU-150A-PS150-001-FuelOil2-Mgal | B13: 70648-26-9 | C13: 1,2,3,4,7,8-Hexachlorodibenzofuran (HxCDF) | D13: =IFERROR(IF(OR($B13="",$B13="No CAS"),INDEX('[1]DEQ Pollutant List'!$A$7:$A$611,MATCH($C13,'[1]DEQ Pollutant List'!$C$7:$C$611,0)),INDEX('[1]DEQ Pollutant List'!$A$7:$A$611,MATCH($B13,'[1]DEQ Pollutant List'!$B$7:$B$611,0))),"") -> 542 | F13: 1.0332e-10 | G13: 1.0332e-10 | H13: lb/FuelOil2.MGal | I13: Trade Group Emission Factor (NCASI) | J13: 0 | K13: 1.95275e-08 | L13: 1.95275e-08 | M13: =VLOOKUP('3. Pollutant Emissions - EF'!A13,'2. Emissions Units & Activities'!A:M,11,FALSE)*G13 -> 0 | N13: =VLOOKUP('3. Pollutant Emissions - EF'!A13,'2. Emissions Units & Activities'!A:M,12,FALSE)*G13 -> 5.3499945e-11 | O13: =VLOOKUP('3. Pollutant Emissions - EF'!A13,'2. Emissions Units & Activities'!A:M,13,FALSE)*G13 -> 5.3499945e-11
A14: EU-150A-PS150-001-FuelOil2-Mgal | B14: 57653-85-7 | C14: 1,2,3,6,7,8-Hexachlorodibenzo-p-dioxin (HxCDD) | D14: =IFERROR(IF(OR($B14="",$B14="No CAS"),INDEX('[1]DEQ Pollutant List'!$A$7:$A$611,MATCH($C14,'[1]DEQ Pollutant List'!$C$7:$C$611,0)),INDEX('[1]DEQ Pollutant List'!$A$7:$A$611,MATCH($B14,'[1]DEQ Pollutant List'!$B$7:$B$611,0))),"") -> 530 | F14: 3.192e-11 | G14: 3.192e-11 | H14: lb/FuelOil2.MGal | I14: Trade Group Emission Factor (NCASI) | J14: 0 | K14: 6.03288e-09 | L14: 6.03288e-09 | M14: =VLOOKUP('3. Pollutant Emissions - EF'!A14,'2. Emissions Units & Activities'!A:M,11,FALSE)*G14 -> 0 | N14: =VLOOKUP('3. Pollutant Emissions - EF'!A14,'2. Emissions Units & Activities'!A:M,12,FALSE)*G14 -> 1.6528438e-11 | O14: =VLOOKUP('3. Pollutant Emissions - EF'!A14,'2. Emissions Units & Activities'!A:M,13,FALSE)*G14 -> 1.6528438e-11
A15: EU-150A-PS150-001-FuelOil2-Mgal | B15: 57117-44-9 | C15: 1,2,3,6,7,8-Hexachlorodibenzofuran (HxCDF) | D15: =IFERROR(IF(OR($B15="",$B15="No CAS"),INDEX('[1]DEQ Pollutant List'!$A$7:$A$611,MATCH($C15,'[1]DEQ Pollutant List'!$C$7:$C$611,0)),INDEX('[1]DEQ Pollutant List'!$A$7:$A$611,MATCH($B15,'[1]DEQ Pollutant List'!$B$7:$B$611,0))),"") -> 543 | F15: 1.057e-10 | G15: 1.057e-10 | H15: lb/FuelOil2.MGal | I15: Trade Group Emission Factor (NCASI) | J15: 0 | K15: 1.99773e-08 | L15: 1.99773e-08 | M15: =VLOOKUP('3. Pollutant Emissions - EF'!A15,'2. Emissions Units & Activities'!A:M,11,FALSE)*G15 -> 0 | N15: =VLOOKUP('3. Pollutant Emissions - EF'!A15,'2. Emissions Units & Activities'!A:M,12,FALSE)*G15 -> 5.4732329e-11 | O15: =VLOOKUP('3. Pollutant Emissions - EF'!A15,'2. Emissions Units & Activities'!A:M,13,FALSE)*G15 -> 5.4732329e-11
A16: EU-150A-PS150-001-FuelOil2-Mgal | B16: 19408-74-3 | C16: 1,2,3,7,8,9-Hexachlorodibenzo-p-dioxin (HxCDD) | D16: =IFERROR(IF(OR($B16="",$B16="No CAS"),INDEX('[1]DEQ Pollutant List'!$A$7:$A$611,MATCH($C16,'[1]DEQ Pollutant List'!$C$7:$C$611,0)),INDEX('[1]DEQ Pollutant List'!$A$7:$A$611,MATCH($B16,'[1]DEQ Pollutant List'!$B$7:$B$611,0))),"") -> 531 | F16: 2.352e-11 | G16: 2.352e-11 | H16: lb/FuelOil2.MGal | I16: Trade Group Emission Factor (NCASI) | J16: 0 | K16: 4.44528e-09 | L16: 4.44528e-09 | M16: =VLOOKUP('3. Pollutant Emissions - EF'!A16,'2. Emissions Units & Activities'!A:M,11,FALSE)*G16 -> 0 | N16: =VLOOKUP('3. Pollutant Emissions - EF'!A16,'2. Emissions Units & Activities'!A:M,12,FALSE)*G16 -> 1.2178849e-11 | O16: =VLOOKUP('3. Pollutant Emissions - EF'!A16,'2. Emissions Units & Activities'!A:M,13,FALSE)*G16 -> 1.2178849e-11
A17: EU-150A-PS150-001-FuelOil2-Mgal | B17: 40321-76-4 | C17: 1,2,3,7,8-Pentachlorodibenzo-p-dioxin (PeCDD) | D17: =IFERROR(IF(OR($B17="",$B17="No CAS"),INDEX('[1]DEQ Pollutant List'!$A$7:$A$611,MATCH($C17,'[1]DEQ Pollutant List'!$C$7:$C$611,0)),INDEX('[1]DEQ Pollutant List'!$A$7:$A$611,MATCH($B17,'[1]DEQ Pollutant List'!$B$7:$B$611,0))),"") -> 528 | F17: 2.114e-11 | G17: 2.114e-11 | H17: lb/FuelOil2.MGal | I17: Trade Group Emission Factor (NCASI) | J17: 0 | K17: 3.99546e-09 | L17: 3.99546e-09 | M17: =VLOOKUP('3. Pollutant Emissions - EF'!A17,'2. Emissions Units & Activities'!A:M,11,FALSE)*G17 -> 0 | N17: =VLOOKUP('3. Pollutant Emissions - EF'!A17,'2. Emissions Units & Activities'!A:M,12,FALSE)*G17 -> 1.0946466e-11 | O17: =VLOOKUP('3. Pollutant Emissions - EF'!A17,'2. Emissions Units & Activities'!A:M,13,FALSE)*G17 -> 1.0946466e-11
A18: EU-150A-PS150-001-FuelOil2-Mgal | B18: 57117-41-6 | C18: 1,2,3,7,8-Pentachlorodibenzofuran (PeCDF) | D18: =IFERROR(IF(OR($B18="",$B18="No CAS"),INDEX('[1]DEQ Pollutant List'!$A$7:$A$611,MATCH($C18,'[1]DEQ Pollutant List'!$C$7:$C$611,0)),INDEX('[1]DEQ Pollutant List'!$A$7:$A$611,MATCH($B18,'[1]DEQ Pollutant List'!$B$7:$B$611,0))),"") -> 540 | F18: 7.588e-11 | G18: 7.588e-11 | H18: lb/FuelOil2.MGal | I18: Trade Group Emission Factor (NCASI) | J18: 0 | K18: 1.43413e-08 | L18: 1.43413e-08 | M18: =VLOOKUP('3. Pollutant Emissions - EF'!A18,'2. Emissions Units & Activities'!A:M,11,FALSE)*G18 -> 0 | N18: =VLOOKUP('3. Pollutant Emissions - EF'!A18,'2. Emissions Units & Activities'!A:M,12,FALSE)*G18 -> 3.9291288e-11 | O18: =VLOOKUP('3. Pollutant Emissions - EF'!A18,'2. Emissions Units & Activities'!A:M,13,FALSE)*G18 -> 3.9291288e-11
A19: EU-150A-PS150-001-FuelOil2-Mgal | B19: 60851-34-5 | C19: 2,3,4,6,7,8-Hexachlorodibenzofuran (HxCDF) | D19: =IFERROR(IF(OR($B19="",$B19="No CAS"),INDEX('[1]DEQ Pollutant List'!$A$7:$A$611,MATCH($C19,'[1]DEQ Pollutant List'!$C$7:$C$611,0)),INDEX('[1]DEQ Pollutant List'!$A$7:$A$611,MATCH($B19,'[1]DEQ Pollutant List'!$B$7:$B$611,0))),"") -> 545 | F19: 5.418e-11 | G19: 5.418e-11 | H19: lb/FuelOil2.MGal | I19: Trade Group Emission Factor (NCASI) | J19: 0 | K19: 1.024e-08 | L19: 1.024e-08 | M19: =VLOOKUP('3. Pollutant Emissions - EF'!A19,'2. Emissions Units & Activities'!A:M,11,FALSE)*G19 -> 0 | N19: =VLOOKUP('3. Pollutant Emissions - EF'!A19,'2. Emissions Units & Activities'!A:M,12,FALSE)*G19 -> 2.8054849e-11 | O19: =VLOOKUP('3. Pollutant Emissions - EF'!A19,'2. Emissions Units & Activities'!A:M,13,FALSE)*G19 -> 2.8054849e-11
... A600: EU-445C-EQ445-321-RB4-TBLS | B600: 78-93-3 | C600: 2-Butanone (Methyl ethyl ketone) | D600: =IFERROR(IF(OR($B600="",$B600="No CAS"),INDEX('[1]DEQ Pollutant List'!$A$7:$A$611,MATCH($C600,'[1]DEQ Pollutant List'!$C$7:$C$611,0)),INDEX('[1]DEQ Pollutant List'!$A$7:$A$611,MATCH($B600,'[1]DEQ Pollutant List'!$B$7:$B$611,0))),"") -> 333 | F600: 0.00288 | G600: 0.00288 | H600: lb/TBLS | I600: Trade Group Emission Factor (NCASI) | J600: 1197.1826 | K600: 1877.472 | L600: 1877.472 | M600: =VLOOKUP('3. Pollutant Emissions - EF'!A600,'2. Emissions Units & Activities'!A:M,11,FALSE)*G600 -> 4.473216 | N600: =VLOOKUP('3. Pollutant Emissions - EF'!A600,'2. Emissions Units & Activities'!A:M,12,FALSE)*G600 -> 5.1437589 | O600: =VLOOKUP('3. Pollutant Emissions - EF'!A600,'2. Emissions Units & Activities'!A:M,13,FALSE)*G600 -> 5.1437589
A601: EU-445C-EQ445-321-RB4-TBLS | B601: 91-57-6 | C601: 2-Methyl naphthalene | D601: =IFERROR(IF(OR($B601="",$B601="No CAS"),INDEX('[1]DEQ Pollutant List'!$A$7:$A$611,MATCH($C601,'[1]DEQ Pollutant List'!$C$7:$C$611,0)),INDEX('[1]DEQ Pollutant List'!$A$7:$A$611,MATCH($B601,'[1]DEQ Pollutant List'!$B$7:$B$611,0))),"") -> 427 | F601: 1.76e-06 | G601: 1.76e-06 | H601: lb/TBLS | I601: Trade Group Emission Factor (NCASI) | J601: 0.73161158 | K601: =G601*'2. Emissions Units & Activities'!I43 -> 1.147344 | L601: 1.147344 | M601: =VLOOKUP('3. Pollutant Emissions - EF'!A601,'2. Emissions Units & Activities'!A:M,11,FALSE)*G601 -> 0.002733632 | N601: =VLOOKUP('3. Pollutant Emissions - EF'!A601,'2. Emissions Units & Activities'!A:M,12,FALSE)*G601 -> 0.0031434082 | O601: =VLOOKUP('3. Pollutant Emissions - EF'!A601,'2. Emissions Units & Activities'!A:M,13,FALSE)*G601 -> 0.0031434082
A602: EU-445C-EQ445-321-RB4-TBLS | B602: 83-32-9 | C602: Acenaphthene | D602: =IFERROR(IF(OR($B602="",$B602="No CAS"),INDEX('[1]DEQ Pollutant List'!$A$7:$A$611,MATCH($C602,'[1]DEQ Pollutant List'!$C$7:$C$611,0)),INDEX('[1]DEQ Pollutant List'!$A$7:$A$611,MATCH($B602,'[1]DEQ Pollutant List'!$B$7:$B$611,0))),"") -> 402 | F602: 3.44e-07 | G602: 3.44e-07 | H602: lb/TBLS | I602: Trade Group Emission Factor (NCASI) | J602: 0.14299681 | K602: 0.2242536 | L602: 0.2242536 | M602: =VLOOKUP('3. Pollutant Emissions - EF'!A602,'2. Emissions Units & Activities'!A:M,11,FALSE)*G602 -> 0.0005343008 | N602: =VLOOKUP('3. Pollutant Emissions - EF'!A602,'2. Emissions Units & Activities'!A:M,12,FALSE)*G602 -> 0.00061439342 | O602: =VLOOKUP('3. Pollutant Emissions - EF'!A602,'2. Emissions Units & Activities'!A:M,13,FALSE)*G602 -> 0.00061439342
A603: EU-445C-EQ445-321-RB4-TBLS | B603: 208-96-8 | C603: Acenaphthylene | D603: =IFERROR(IF(OR($B603="",$B603="No CAS"),INDEX('[1]DEQ Pollutant List'!$A$7:$A$611,MATCH($C603,'[1]DEQ Pollutant List'!$C$7:$C$611,0)),INDEX('[1]DEQ Pollutant List'!$A$7:$A$611,MATCH($B603,'[1]DEQ Pollutant List'!$B$7:$B$611,0))),"") -> 403 | F603: 9.69e-06 | G603: 9.69e-06 | H603: lb/TBLS | I603: Trade Group Emission Factor (NCASI) | J603: 4.0280206 | K603: 6.316911 | L603: 6.316911 | M603: =VLOOKUP('3. Pollutant Emissions - EF'!A603,'2. Emissions Units & Activities'!A:M,11,FALSE)*G603 -> 0.015050508 | N603: =VLOOKUP('3. Pollutant Emissions - EF'!A603,'2. Emissions Units & Activities'!A:M,12,FALSE)*G603 -> 0.017306605 | O603: =VLOOKUP('3. Pollutant Emissions - EF'!A603,'2. Emissions Units & Activities'!A:M,13,FALSE)*G603 -> 0.017306605
A604: EU-445C-EQ445-321-RB4-TBLS | B604: 75-07-0 | C604: Acetaldehyde | D604: =IFERROR(IF(OR($B604="",$B604="No CAS"),INDEX('[1]DEQ Pollutant List'!$A$7:$A$611,MATCH($C604,'[1]DEQ Pollutant List'!$C$7:$C$611,0)),INDEX('[1]DEQ Pollutant List'!$A$7:$A$611,MATCH($B604,'[1]DEQ Pollutant List'!$B$7:$B$611,0))),"") -> 1 | F604: 0.00486 | G604: 0.00486 | H604: lb/TBLS | I604: Trade Group Emission Factor (NCASI) | J604: 2020.2456 | K604: 3168.234 | L604: 3168.234 | M604: =VLOOKUP('3. Pollutant Emissions - EF'!A604,'2. Emissions Units & Activities'!A:M,11,FALSE)*G604 -> 7.548552 | N604: =VLOOKUP('3. Pollutant Emissions - EF'!A604,'2. Emissions Units & Activities'!A:M,12,FALSE)*G604 -> 8.6800932 | O604: =VLOOKUP('3. Pollutant Emissions - EF'!A604,'2. Emissions Units & Activities'!A:M,13,FALSE)*G604 -> 8.6800932
A605: EU-445C-EQ445-321-RB4-TBLS | B605: 67-64-1 | C605: Acetone | D605: =IFERROR(IF(OR($B605="",$B605="No CAS"),INDEX('[1]DEQ Pollutant List'!$A$7:$A$611,MATCH($C605,'[1]DEQ Pollutant List'!$C$7:$C$611,0)),INDEX('[1]DEQ Pollutant List'!$A$7:$A$611,MATCH($B605,'[1]DEQ Pollutant List'!$B$7:$B$611,0))),"") -> 634 | F605: 0.00527 | G605: 0.00527 | H605: lb/TBLS | I605: Trade Group Emission Factor (NCASI) | J605: 2190.6779 | K605: 3435.513 | L605: 3435.513 | M605: =VLOOKUP('3. Pollutant Emissions - EF'!A605,'2. Emissions Units & Activities'!A:M,11,FALSE)*G605 -> 8.185364 | N605: =VLOOKUP('3. Pollutant Emissions - EF'!A605,'2. Emissions Units & Activities'!A:M,12,FALSE)*G605 -> 9.4123644 | O605: =VLOOKUP('3. Pollutant Emissions - EF'!A605,'2. Emissions Units & Activities'!A:M,13,FALSE)*G605 -> 9.4123644
A606: EU-445C-EQ445-321-RB4-TBLS | B606: 120-12-7 | C606: Anthracene | D606: =IFERROR(IF(OR($B606="",$B606="No CAS"),INDEX('[1]DEQ Pollutant List'!$A$7:$A$611,MATCH($C606,'[1]DEQ Pollutant List'!$C$7:$C$611,0)),INDEX('[1]DEQ Pollutant List'!$A$7:$A$611,MATCH($B606,'[1]DEQ Pollutant List'!$B$7:$B$611,0))),"") -> 404 | F606: 1.77e-06 | G606: 1.77e-06 | H606: lb/TBLS | I606: Trade Group Emission Factor (NCASI) | J606: 0.73576847 | K606: 1.153863 | L606: 1.153863 | M606: =VLOOKUP('3. Pollutant Emissions - EF'!A606,'2. Emissions Units & Activities'!A:M,11,FALSE)*G606 -> 0.002749164 | N606: =VLOOKUP('3. Pollutant Emissions - EF'!A606,'2. Emissions Units & Activities'!A:M,12,FALSE)*G606 -> 0.0031612685 | O606: =VLOOKUP('3. Pollutant Emissions - EF'!A606,'2. Emissions Units & Activities'!A:M,13,FALSE)*G606 -> 0.0031612685
A607: EU-445C-EQ445-321-RB4-TBLS | B607: 7440-36-0 | C607: Antimony and compounds | D607: =IFERROR(IF(OR($B607="",$B607="No CAS"),INDEX('[1]DEQ Pollutant List'!$A$7:$A$611,MATCH($C607,'[1]DEQ Pollutant List'!$C$7:$C$611,0)),INDEX('[1]DEQ Pollutant List'!$A$7:$A$611,MATCH($B607,'[1]DEQ Pollutant List'!$B$7:$B$611,0))),"") -> 33 | F607: 2.69e-07 | G607: 2.69e-07 | H607: lb/TBLS | I607: Trade Group Emission Factor (NCASI) | J607: 0.11182018 | K607: 0.1753611 | L607: 0.1753611 | M607: =VLOOKUP('3. Pollutant Emissions - EF'!A607,'2. Emissions Units & Activities'!A:M,11,FALSE)*G607 -> 0.0004178108 | N607: =VLOOKUP('3. Pollutant Emissions - EF'!A607,'2. Emissions Units & Activities'!A:M,12,FALSE)*G607 -> 0.00048044137 | O607: =VLOOKUP('3. Pollutant Emissions - EF'!A607,'2. Emissions Units & Activities'!A:M,13,FALSE)*G607 -> 0.00048044137
A608: EU-445C-EQ445-321-RB4-TBLS | B608: 7440-38-2 | C608: Arsenic and compounds | D608: =IFERROR(IF(OR($B608="",$B608="No CAS"),INDEX('[1]DEQ Pollutant List'!$A$7:$A$611,MATCH($C608,'[1]DEQ Pollutant List'!$C$7:$C$611,0)),INDEX('[1]DEQ Pollutant List'!$A$7:$A$611,MATCH($B608,'[1]DEQ Pollutant List'!$B$7:$B$611,0))),"") -> 37 | F608: 1.48e-06 | G608: 1.48e-06 | H608: lb/TBLS | I608: Trade Group Emission Factor (NCASI) | J608: 0.61521883 | K608: 0.964812 | L608: 0.964812 | M608: =VLOOKUP('3. Pollutant Emissions - EF'!A608,'2. Emissions Units & Activities'!A:M,11,FALSE)*G608 -> 0.002298736 | N608: =VLOOKUP('3. Pollutant Emissions - EF'!A608,'2. Emissions Units & Activities'!A:M,12,FALSE)*G608 -> 0.0026433205 | O608: =VLOOKUP('3. Pollutant Emissions - EF'!A608,'2. Emissions Units & Activities'!A:M,13,FALSE)*G608 -> 0.0026433205
A609: EU-445C-EQ445-321-RB4-TBLS | B609: 7440-39-3 | C609: Barium and compounds | D609: =IFERROR(IF(OR($B609="",$B609="No CAS"),INDEX('[1]DEQ Pollutant List'!$A$7:$A$611,MATCH($C609,'[1]DEQ Pollutant List'!$C$7:$C$611,0)),INDEX('[1]DEQ Pollutant List'!$A$7:$A$611,MATCH($B609,'[1]DEQ Pollutant List'!$B$7:$B$611,0))),"") -> 45 | F609: 2.35e-05 | G609: 2.35e-05 | H609: lb/TBLS | I609: Trade Group Emission Factor (NCASI) | J609: 9.7686774 | K609: 15.31965 | L609: 15.31965 | M609: =VLOOKUP('3. Pollutant Emissions - EF'!A609,'2. Emissions Units & Activities'!A:M,11,FALSE)*G609 -> 0.0365002 | N609: =VLOOKUP('3. Pollutant Emissions - EF'!A609,'2. Emissions Units & Activities'!A:M,12,FALSE)*G609 -> 0.041971644 | O609: =VLOOKUP('3. Pollutant Emissions - EF'!A609,'2. Emissions Units & Activities'!A:M,13,FALSE)*G609 -> 0.041971644
A610: EU-445C-EQ445-321-RB4-TBLS | B610: 56-55-3 | C610: Benz[a]anthracene | D610: =IFERROR(IF(OR($B610="",$B610="No CAS"),INDEX('[1]DEQ Pollutant List'!$A$7:$A$611,MATCH($C610,'[1]DEQ Pollutant List'!$C$7:$C$611,0)),INDEX('[1]DEQ Pollutant List'!$A$7:$A$611,MATCH($B610,'[1]DEQ Pollutant List'!$B$7:$B$611,0))),"") -> 405 | F610: 4.66e-07 | G610: 4.66e-07 | H610: lb/TBLS | I610: Trade Group Emission Factor (NCASI) | J610: 0.19371079 | K610: 0.3037854 | L610: 0.3037854 | M610: =VLOOKUP('3. Pollutant Emissions - EF'!A610,'2. Emissions Units & Activities'!A:M,11,FALSE)*G610 -> 0.0007237912 | N610: =VLOOKUP('3. Pollutant Emissions - EF'!A610,'2. Emissions Units & Activities'!A:M,12,FALSE)*G610 -> 0.00083228877 | O610: =VLOOKUP('3. Pollutant Emissions - EF'!A610,'2. Emissions Units & Activities'!A:M,13,FALSE)*G610 -> 0.00083228877
A611: EU-445C-EQ445-321-RB4-TBLS | B611: 71-43-2 | C611: Benzene | D611: =IFERROR(IF(OR($B611="",$B611="No CAS"),INDEX('[1]DEQ Pollutant List'!$A$7:$A$611,MATCH($C611,'[1]DEQ Pollutant List'!$C$7:$C$611,0)),INDEX('[1]DEQ Pollutant List'!$A$7:$A$611,MATCH($B611,'[1]DEQ Pollutant List'!$B$7:$B$611,0))),"") -> 46 | F611: 0.000558 | G611: 0.000558 | H611: lb/TBLS | I611: Trade Group Emission Factor (NCASI) | J611: 231.95413 | K611: 363.7602 | L611: 363.7602 | M611: =VLOOKUP('3. Pollutant Emissions - EF'!A611,'2. Emissions Units & Activities'!A:M,11,FALSE)*G611 -> 0.8666856 | N611: =VLOOKUP('3. Pollutant Emissions - EF'!A611,'2. Emissions Units & Activities'!A:M,12,FALSE)*G611 -> 0.99660329 | O611: =VLOOKUP('3. Pollutant Emissions - EF'!A611,'2. Emissions Units & Activities'!A:M,13,FALSE)*G611 -> 0.99660329
A612: EU-445C-EQ445-321-RB4-TBLS | B612: 50-32-8 | C612: Benzo[a]pyrene | D612: =IFERROR(IF(OR($B612="",$B612="No CAS"),INDEX('[1]DEQ Pollutant List'!$A$7:$A$611,MATCH($C612,'[1]DEQ Pollutant List'!$C$7:$C$611,0)),INDEX('[1]DEQ Pollutant List'!$A$7:$A$611,MATCH($B612,'[1]DEQ Pollutant List'!$B$7:$B$611,0))),"") -> 406 | F612: 6.08e-08 | G612: 6.08e-08 | H612: lb/TBLS | I612: Trade Group Emission Factor (NCASI) | J612: 0.025273855 | K612: 0.03963552 | L612: 0.03963552 | M612: =VLOOKUP('3. Pollutant Emissions - EF'!A612,'2. Emissions Units & Activities'!A:M,11,FALSE)*G612 -> 9.443456e-05 | N612: =VLOOKUP('3. Pollutant Emissions - EF'!A612,'2. Emissions Units & Activities'!A:M,12,FALSE)*G612 -> 0.00010859047 | O612: =VLOOKUP('3. Pollutant Emissions - EF'!A612,'2. Emissions Units & Activities'!A:M,13,FALSE)*G612 -> 0.00010859047
A613: EU-445C-EQ445-321-RB4-TBLS | B613: 205-99-2 | C613: Benzo[b]fluoranthene | D613: =IFERROR(IF(OR($B613="",$B613="No CAS"),INDEX('[1]DEQ Pollutant List'!$A$7:$A$611,MATCH($C613,'[1]DEQ Pollutant List'!$C$7:$C$611,0)),INDEX('[1]DEQ Pollutant List'!$A$7:$A$611,MATCH($B613,'[1]DEQ Pollutant List'!$B$7:$B$611,0))),"") -> 407 | F613: 6.11e-07 | G613: 6.11e-07 | H613: lb/TBLS | I613: Trade Group Emission Factor (NCASI) | J613: 0.25398561 | K613: 0.3983109 | L613: 0.3983109 | M613: =VLOOKUP('3. Pollutant Emissions - EF'!A613,'2. Emissions Units & Activities'!A:M,11,FALSE)*G613 -> 0.0009490052 | N613: =VLOOKUP('3. Pollutant Emissions - EF'!A613,'2. Emissions Units & Activities'!A:M,12,FALSE)*G613 -> 0.0010912627 | O613: =VLOOKUP('3. Pollutant Emissions - EF'!A613,'2. Emissions Units & Activities'!A:M,13,FALSE)*G613 -> 0.0010912627
... A1086: IC-Engine-(808-052)-FP-Routine | B1086: 1330-20-7 | C1086: Xylene (mixture), including m-xylene, o-xylene, p-xylene | D1086: =IFERROR(IF(OR($B1086="",$B1086="No CAS"),INDEX('[1]DEQ Pollutant List'!$A$7:$A$611,MATCH($C1086,'[1]DEQ Pollutant List'!$C$7:$C$611,0)),INDEX('[1]DEQ Pollutant List'!$A$7:$A$611,MATCH($B1086,'[1]DEQ Pollutant List'!$B$7:$B$611,0))),"") -> 628 | F1086: 0.000285 | G1086: 0.000285 | H1086: lb/MMBTU-Routine | I1086: EPA emission factors (e.g., AP-42) | J1086: 5.7e-05 | K1086: 0.027645 | L1086: 0.027645 | M1086: =VLOOKUP('3. Pollutant Emissions - EF'!A1086,'2. Emissions Units & Activities'!A:M,11,FALSE)*G1086 -> 0 | N1086: =VLOOKUP('3. Pollutant Emissions - EF'!A1086,'2. Emissions Units & Activities'!A:M,12,FALSE)*G1086 -> 7.5739726e-05 | O1086: =VLOOKUP('3. Pollutant Emissions - EF'!A1086,'2. Emissions Units & Activities'!A:M,13,FALSE)*G1086 -> 7.5739726e-05

Sheet 4. Material Balance Activities
A1: Emissions Unit/Product Information | E1: Stack/Fugitive Information | G1: Material Usage | M1: Material Waste
A2: Toxics Emissions Unit ID | B2: Emission Unit or Activity Description | C2: Material Name | D2: Manufacturer | E2: Emission Type (e.g. Point or Fugitive) | F2: Stack or Fugitive ID | G2: Annual - Chronic [lb/year] | J2: Max Daily - Acute [lb/day] | M2: Annual - Chronic [lb/year] | P2: Max Daily - Acute [lb/day]
G3: Actual | H3: Requested PTE | I3: Capacity | J3: Actual | K3: Requested PTE | L3: Capacity | M3: Actual | N3: Requested PTE | O3: Capacity | P3: Actual | Q3: Requested PTE | R3: Capacity
A4: TEU-Booth | B4: Widget Paint Booth - atomizer spray guns (EXAMPLE) | C4: Widget Paint-A | D4: Widget Paint Co. | E4: Point | F4: ST-4 | G4: 12000 | H4: 14000 | I4: 20000 | J4: 36 | K4: 40 | L4: 52 | M4: 2000 | N4: 2600 | O4: 5000 | P4: 5 | Q4: 7 | R4: 14
A5: TEU-Booth | B5: Widget Paint Booth - atomizer spray guns (EXAMPLE) | C5: Widget Paint-B | D5: Widget Paint Co. | E5: Point | F5: ST-4 | G5: 950 | H5: 1200 | I5: 1500 | J5: 5 | K5: 10 | L5: 15 | M5: 15 | N5: 30 | O5: 40 | P5: 0.5 | Q5: 1 | R5: 2

Sheet 5. Pollutant Emissions - MB
A1: Toxics Emissions Unit ID | B1: Material Name | C1: Pollutant Information | F1: Emissions Data | I1: Annual Emissions - Chronic [lb/yr] | L1: Total Daily Emissions - Acute [lb/day]
C2: CAS or DEQ ID | D2: Chemical Name | E2: DEQ Sequence ID | F2: Control Efficiency | G2: Percent Composition | H2: Reference/Notes | I2: Actual | J2: Requested PTE | K2: Capacity | L2: Actual | M2: Requested PTE | N2: Capacity
A3: TEU-BOOTH | B3: Widget Paint-A | C3: 67-56-1 | D3: =IFERROR(IF(C3="No CAS","",INDEX('[3]DEQ Pollutant List'!$C$7:$C$611,MATCH('[3]5. Pollutant Emissions - MB'!C3,'[3]DEQ Pollutant List'!$B$7:$B$611,0))),"") | E3: =IFERROR(IF(OR($C3="",$C3="No CAS"),INDEX('[3]DEQ Pollutant List'!$A$7:$A$611,MATCH($D3,'[3]DEQ Pollutant List'!$C$7:$C$611,0)),INDEX('[3]DEQ Pollutant List'!$A$7:$A$611,MATCH($C3,'[3]DEQ Pollutant List'!$B$7:$B$611,0))),"") -> 321 | F3: 0 | G3: 0.35 | I3: =(INDEX('[3]4. Material Balance Activities'!$G:$G,MATCH($B3,'[3]4. Material Balance Activities'!$C:$C,0))-INDEX('[3]4. Material Balance Activities'!$M:$M,MATCH($B3,'[3]4. Material Balance Activities'!$C:$C,0)))*$G3*(1-$F3) -> 3500 | J3: =(INDEX('[3]4. Material Balance Activities'!$H:$H,MATCH($B3,'[3]4. Material Balance Activities'!$C:$C,0))-INDEX('[3]4. Material Balance Activities'!$N:$N,MATCH($B3,'[3]4. Material Balance Activities'!$C:$C,0)))*$G3*(1-$F3) -> 3990 | K3: =(INDEX('[3]4. Material Balance Activities'!$I:$I,MATCH($B3,'[3]4. Material Balance Activities'!$C:$C,0))-INDEX('[3]4. Material Balance Activities'!$O:$O,MATCH($B3,'[3]4. Material Balance Activities'!$C:$C,0)))*$G3*(1-$F3) -> 5250 | L3: =(INDEX('[3]4. Material Balance Activities'!$J:$J,MATCH($B3,'[3]4. Material Balance Activities'!$C:$C,0))-INDEX('[3]4. Material Balance Activities'!$P:$P,MATCH($B3,'[3]4. Material Balance Activities'!$C:$C,0)))*$G3*(1-$F3) -> 10.85 | M3: =(INDEX('[3]4. Material Balance Activities'!$K:$K,MATCH($B3,'[3]4. Material Balance Activities'!$C:$C,0))-INDEX('[3]4. Material Balance Activities'!$Q:$Q,MATCH($B3,'[3]4. Material Balance Activities'!$C:$C,0)))*$G3*(1-$F3) -> 11.55 | N3: =(INDEX('[3]4. Material Balance Activities'!$L:$L,MATCH($B3,'[3]4. Material Balance Activities'!$C:$C,0))-INDEX('[3]4. Material Balance Activities'!$R:$R,MATCH($B3,'[3]4. Material Balance Activities'!$C:$C,0)))*$G3*(1-$F3) -> 13.3
A4: TEU-BOOTH | B4: Widget Paint-A | C4: 100-40-3 | D4: =IFERROR(IF(C4="No CAS","",INDEX('[3]DEQ Pollutant List'!$C$7:$C$611,MATCH('[3]5. Pollutant Emissions - MB'!C4,'[3]DEQ Pollutant List'!$B$7:$B$611,0))),"") | E4: =IFERROR(IF(OR($C4="",$C4="No CAS"),INDEX('[3]DEQ Pollutant List'!$A$7:$A$611,MATCH($D4,'[3]DEQ Pollutant List'!$C$7:$C$611,0)),INDEX('[3]DEQ Pollutant List'!$A$7:$A$611,MATCH($C4,'[3]DEQ Pollutant List'!$B$7:$B$611,0))),"") -> 625 | F4: 0 | G4: 0.48 | I4: =(INDEX('[3]4. Material Balance Activities'!$G:$G,MATCH($B4,'[3]4. Material Balance Activities'!$C:$C,0))-INDEX('[3]4. Material Balance Activities'!$M:$M,MATCH($B4,'[3]4. Material Balance Activities'!$C:$C,0)))*$G4*(1-$F4) -> 4800 | J4: =(INDEX('[3]4. Material Balance Activities'!$H:$H,MATCH($B4,'[3]4. Material Balance Activities'!$C:$C,0))-INDEX('[3]4. Material Balance Activities'!$N:$N,MATCH($B4,'[3]4. Material Balance Activities'!$C:$C,0)))*$G4*(1-$F4) -> 5472 | K4: =(INDEX('[3]4. Material Balance Activities'!$I:$I,MATCH($B4,'[3]4. Material Balance Activities'!$C:$C,0))-INDEX('[3]4. Material Balance Activities'!$O:$O,MATCH($B4,'[3]4. Material Balance Activities'!$C:$C,0)))*$G4*(1-$F4) -> 7200 | L4: =(INDEX('[3]4. Material Balance Activities'!$J:$J,MATCH($B4,'[3]4. Material Balance Activities'!$C:$C,0))-INDEX('[3]4. Material Balance Activities'!$P:$P,MATCH($B4,'[3]4. Material Balance Activities'!$C:$C,0)))*$G4*(1-$F4) -> 14.88 | M4: =(INDEX('[3]4. Material Balance Activities'!$K:$K,MATCH($B4,'[3]4. Material Balance Activities'!$C:$C,0))-INDEX('[3]4. Material Balance Activities'!$Q:$Q,MATCH($B4,'[3]4. Material Balance Activities'!$C:$C,0)))*$G4*(1-$F4) -> 15.84 | N4: =(INDEX('[3]4. Material Balance Activities'!$L:$L,MATCH($B4,'[3]4. Material Balance Activities'!$C:$C,0))-INDEX('[3]4. Material Balance Activities'!$R:$R,MATCH($B4,'[3]4. Material Balance Activities'!$C:$C,0)))*$G4*(1-$F4) -> 18.24
A5: TEU-BOOTH | B5: Widget Paint-A | C5: 18540-29-9 | D5: =IFERROR(IF(C5="No CAS","",INDEX('[3]DEQ Pollutant List'!$C$7:$C$611,MATCH('[3]5. Pollutant Emissions - MB'!C5,'[3]DEQ Pollutant List'!$B$7:$B$611,0))),"") | E5: =IFERROR(IF(OR($C5="",$C5="No CAS"),INDEX('[3]DEQ Pollutant List'!$A$7:$A$611,MATCH($D5,'[3]DEQ Pollutant List'!$C$7:$C$611,0)),INDEX('[3]DEQ Pollutant List'!$A$7:$A$611,MATCH($C5,'[3]DEQ Pollutant List'!$B$7:$B$611,0))),"") -> 136 | F5: =1-((1-0.72)*(1-0.99)) -> 0.9972 | G5: 0.05 | H5: Includes Transfer Efficiency (72%) and Filter Removal Efficiency (99%) | I5: =(INDEX('[3]4. Material Balance Activities'!$G:$G,MATCH($B5,'[3]4. Material Balance Activities'!$C:$C,0))-INDEX('[3]4. Material Balance Activities'!$M:$M,MATCH($B5,'[3]4. Material Balance Activities'!$C:$C,0)))*$G5*(1-$F5) -> 1.4 | J5: =(INDEX('[3]4. Material Balance Activities'!$H:$H,MATCH($B5,'[3]4. Material Balance Activities'!$C:$C,0))-INDEX('[3]4. Material Balance Activities'!$N:$N,MATCH($B5,'[3]4. Material Balance Activities'!$C:$C,0)))*$G5*(1-$F5) -> 1.596 | K5: =(INDEX('[3]4. Material Balance Activities'!$I:$I,MATCH($B5,'[3]4. Material Balance Activities'!$C:$C,0))-INDEX('[3]4. Material Balance Activities'!$O:$O,MATCH($B5,'[3]4. Material Balance Activities'!$C:$C,0)))*$G5*(1-$F5) -> 2.1 | L5: =(INDEX('[3]4. Material Balance Activities'!$J:$J,MATCH($B5,'[3]4. Material Balance Activities'!$C:$C,0))-INDEX('[3]4. Material Balance Activities'!$P:$P,MATCH($B5,'[3]4. Material Balance Activities'!$C:$C,0)))*$G5*(1-$F5) -> 0.00434 | M5: =(INDEX('[3]4. Material Balance Activities'!$K:$K,MATCH($B5,'[3]4. Material Balance Activities'!$C:$C,0))-INDEX('[3]4. Material Balance Activities'!$Q:$Q,MATCH($B5,'[3]4. Material Balance Activities'!$C:$C,0)))*$G5*(1-$F5) -> 0.00462 | N5: =(INDEX('[3]4. Material Balance Activities'!$L:$L,MATCH($B5,'[3]4. Material Balance Activities'!$C:$C,0))-INDEX('[3]4. Material Balance Activities'!$R:$R,MATCH($B5,'[3]4. Material Balance Activities'!$C:$C,0)))*$G5*(1-$F5) -> 0.00532
A6: TEU-BOOTH | B6: Widget Paint-B | C6: 90-43-7 | D6: =IFERROR(IF(C6="No CAS","",INDEX('[3]DEQ Pollutant List'!$C$7:$C$611,MATCH('[3]5. Pollutant Emissions - MB'!C6,'[3]DEQ Pollutant List'!$B$7:$B$611,0))),"") | E6: =IFERROR(IF(OR($C6="",$C6="No CAS"),INDEX('[3]DEQ Pollutant List'!$A$7:$A$611,MATCH($D6,'[3]DEQ Pollutant List'!$C$7:$C$611,0)),INDEX('[3]DEQ Pollutant List'!$A$7:$A$611,MATCH($C6,'[3]DEQ Pollutant List'!$B$7:$B$611,0))),"") -> 502 | F6: 0 | G6: 0.005 | I6: =(INDEX('[3]4. Material Balance Activities'!$G:$G,MATCH($B6,'[3]4. Material Balance Activities'!$C:$C,0))-INDEX('[3]4. Material Balance Activities'!$M:$M,MATCH($B6,'[3]4. Material Balance Activities'!$C:$C,0)))*$G6*(1-$F6) -> 4.675 | J6: =(INDEX('[3]4. Material Balance Activities'!$H:$H,MATCH($B6,'[3]4. Material Balance Activities'!$C:$C,0))-INDEX('[3]4. Material Balance Activities'!$N:$N,MATCH($B6,'[3]4. Material Balance Activities'!$C:$C,0)))*$G6*(1-$F6) -> 5.85 | K6: =(INDEX('[3]4. Material Balance Activities'!$I:$I,MATCH($B6,'[3]4. Material Balance Activities'!$C:$C,0))-INDEX('[3]4. Material Balance Activities'!$O:$O,MATCH($B6,'[3]4. Material Balance Activities'!$C:$C,0)))*$G6*(1-$F6) -> 7.3 | L6: =(INDEX('[3]4. Material Balance Activities'!$J:$J,MATCH($B6,'[3]4. Material Balance Activities'!$C:$C,0))-INDEX('[3]4. Material Balance Activities'!$P:$P,MATCH($B6,'[3]4. Material Balance Activities'!$C:$C,0)))*$G6*(1-$F6) -> 0.0225 | M6: =(INDEX('[3]4. Material Balance Activities'!$K:$K,MATCH($B6,'[3]4. Material Balance Activities'!$C:$C,0))-INDEX('[3]4. Material Balance Activities'!$Q:$Q,MATCH($B6,'[3]4. Material Balance Activities'!$C:$C,0)))*$G6*(1-$F6) -> 0.045 | N6: =(INDEX('[3]4. Material Balance Activities'!$L:$L,MATCH($B6,'[3]4. Material Balance Activities'!$C:$C,0))-INDEX('[3]4. Material Balance Activities'!$R:$R,MATCH($B6,'[3]4. Material Balance Activities'!$C:$C,0)))*$G6*(1-$F6) -> 0.065
A7: TEU-BOOTH | B7: Widget Paint-B | C7: 50-00-0 | D7: =IFERROR(IF(C7="No CAS","",INDEX('[3]DEQ Pollutant List'!$C$7:$C$611,MATCH('[3]5. Pollutant Emissions - MB'!C7,'[3]DEQ Pollutant List'!$B$7:$B$611,0))),"") | E7: =IFERROR(IF(OR($C7="",$C7="No CAS"),INDEX('[3]DEQ Pollutant List'!$A$7:$A$611,MATCH($D7,'[3]DEQ Pollutant List'!$C$7:$C$611,0)),INDEX('[3]DEQ Pollutant List'!$A$7:$A$611,MATCH($C7,'[3]DEQ Pollutant List'!$B$7:$B$611,0))),"") -> 250 | F7: 0 | G7: 0.7 | I7: =(INDEX('[3]4. Material Balance Activities'!$G:$G,MATCH($B7,'[3]4. Material Balance Activities'!$C:$C,0))-INDEX('[3]4. Material Balance Activities'!$M:$M,MATCH($B7,'[3]4. Material Balance Activities'!$C:$C,0)))*$G7*(1-$F7) -> 654.5 | J7: =(INDEX('[3]4. Material Balance Activities'!$H:$H,MATCH($B7,'[3]4. Material Balance Activities'!$C:$C,0))-INDEX('[3]4. Material Balance Activities'!$N:$N,MATCH($B7,'[3]4. Material Balance Activities'!$C:$C,0)))*$G7*(1-$F7) -> 819 | K7: =(INDEX('[3]4. Material Balance Activities'!$I:$I,MATCH($B7,'[3]4. Material Balance Activities'!$C:$C,0))-INDEX('[3]4. Material Balance Activities'!$O:$O,MATCH($B7,'[3]4. Material Balance Activities'!$C:$C,0)))*$G7*(1-$F7) -> 1022 | L7: =(INDEX('[3]4. Material Balance Activities'!$J:$J,MATCH($B7,'[3]4. Material Balance Activities'!$C:$C,0))-INDEX('[3]4. Material Balance Activities'!$P:$P,MATCH($B7,'[3]4. Material Balance Activities'!$C:$C,0)))*$G7*(1-$F7) -> 3.15 | M7: =(INDEX('[3]4. Material Balance Activities'!$K:$K,MATCH($B7,'[3]4. Material Balance Activities'!$C:$C,0))-INDEX('[3]4. Material Balance Activities'!$Q:$Q,MATCH($B7,'[3]4. Material Balance Activities'!$C:$C,0)))*$G7*(1-$F7) -> 6.3 | N7: =(INDEX('[3]4. Material Balance Activities'!$L:$L,MATCH($B7,'[3]4. Material Balance Activities'!$C:$C,0))-INDEX('[3]4. Material Balance Activities'!$R:$R,MATCH($B7,'[3]4. Material Balance Activities'!$C:$C,0)))*$G7*(1-$F7) -> 9.1
A8: TEU-BOOTH | B8: Widget Paint-B | C8: 7440-36-0 | D8: =IFERROR(IF(C8="No CAS","",INDEX('[3]DEQ Pollutant List'!$C$7:$C$611,MATCH('[3]5. Pollutant Emissions - MB'!C8,'[3]DEQ Pollutant List'!$B$7:$B$611,0))),"") | E8: =IFERROR(IF(OR($C8="",$C8="No CAS"),INDEX('[3]DEQ Pollutant List'!$A$7:$A$611,MATCH($D8,'[3]DEQ Pollutant List'!$C$7:$C$611,0)),INDEX('[3]DEQ Pollutant List'!$A$7:$A$611,MATCH($C8,'[3]DEQ Pollutant List'!$B$7:$B$611,0))),"") -> 33 | F8: =1-((1-0.72)*(1-0.99)) -> 0.9972 | G8: 0.05 | H8: Includes Transfer Efficiency (72%) and Filter Removal Efficiency (99%) | I8: =(INDEX('[3]4. Material Balance Activities'!$G:$G,MATCH($B8,'[3]4. Material Balance Activities'!$C:$C,0))-INDEX('[3]4. Material Balance Activities'!$M:$M,MATCH($B8,'[3]4. Material Balance Activities'!$C:$C,0)))*$G8*(1-$F8) -> 0.1309 | J8: =(INDEX('[3]4. Material Balance Activities'!$H:$H,MATCH($B8,'[3]4. Material Balance Activities'!$C:$C,0))-INDEX('[3]4. Material Balance Activities'!$N:$N,MATCH($B8,'[3]4. Material Balance Activities'!$C:$C,0)))*$G8*(1-$F8) -> 0.1638 | K8: =(INDEX('[3]4. Material Balance Activities'!$I:$I,MATCH($B8,'[3]4. Material Balance Activities'!$C:$C,0))-INDEX('[3]4. Material Balance Activities'!$O:$O,MATCH($B8,'[3]4. Material Balance Activities'!$C:$C,0)))*$G8*(1-$F8) -> 0.2044 | L8: =(INDEX('[3]4. Material Balance Activities'!$J:$J,MATCH($B8,'[3]4. Material Balance Activities'!$C:$C,0))-INDEX('[3]4. Material Balance Activities'!$P:$P,MATCH($B8,'[3]4. Material Balance Activities'!$C:$C,0)))*$G8*(1-$F8) -> 0.00063 | M8: =(INDEX('[3]4. Material Balance Activities'!$K:$K,MATCH($B8,'[3]4. Material Balance Activities'!$C:$C,0))-INDEX('[3]4. Material Balance Activities'!$Q:$Q,MATCH($B8,'[3]4. Material Balance Activities'!$C:$C,0)))*$G8*(1-$F8) -> 0.00126 | N8: =(INDEX('[3]4. Material Balance Activities'!$L:$L,MATCH($B8,'[3]4. Material Balance Activities'!$C:$C,0))-INDEX('[3]4. Material Balance Activities'!$R:$R,MATCH($B8,'[3]4. Material Balance Activities'!$C:$C,0)))*$G8*(1-$F8) -> 0.00182
E9: =IFERROR(IF(OR($C9="",$C9="No CAS"),INDEX('[3]DEQ Pollutant List'!$A$7:$A$611,MATCH($D9,'[3]DEQ Pollutant List'!$C$7:$C$611,0)),INDEX('[3]DEQ Pollutant List'!$A$7:$A$611,MATCH($C9,'[3]DEQ Pollutant List'!$B$7:$B$611,0))),"")
D10: =IFERROR(IF(C10="No CAS","",INDEX('[3]DEQ Pollutant List'!$C$7:$C$611,MATCH('[3]5. Pollutant Emissions - MB'!C10,'[3]DEQ Pollutant List'!$B$7:$B$611,0))),"") | E10: =IFERROR(IF(OR($C10="",$C10="No CAS"),INDEX('[3]DEQ Pollutant List'!$A$7:$A$611,MATCH($D10,'[3]DEQ Pollutant List'!$C$7:$C$611,0)),INDEX('[3]DEQ Pollutant List'!$A$7:$A$611,MATCH($C10,'[3]DEQ Pollutant List'!$B$7:$B$611,0))),"")
D11: =IFERROR(IF(C11="No CAS","",INDEX('[3]DEQ Pollutant List'!$C$7:$C$611,MATCH('[3]5. Pollutant Emissions - MB'!C11,'[3]DEQ Pollutant List'!$B$7:$B$611,0))),"") | E11: =IFERROR(IF(OR($C11="",$C11="No CAS"),INDEX('[3]DEQ Pollutant List'!$A$7:$A$611,MATCH($D11,'[3]DEQ Pollutant List'!$C$7:$C$611,0)),INDEX('[3]DEQ Pollutant List'!$A$7:$A$611,MATCH($C11,'[3]DEQ Pollutant List'!$B$7:$B$611,0))),"")
E12: =IFERROR(IF(OR($C12="",$C12="No CAS"),INDEX('[3]DEQ Pollutant List'!$A$7:$A$611,MATCH($D12,'[3]DEQ Pollutant List'!$C$7:$C$611,0)),INDEX('[3]DEQ Pollutant List'!$A$7:$A$611,MATCH($C12,'[3]DEQ Pollutant List'!$B$7:$B$611,0))),"")
E13: =IFERROR(IF(OR($C13="",$C13="No CAS"),INDEX('[3]DEQ Pollutant List'!$A$7:$A$611,MATCH($D13,'[3]DEQ Pollutant List'!$C$7:$C$611,0)),INDEX('[3]DEQ Pollutant List'!$A$7:$A$611,MATCH($C13,'[3]DEQ Pollutant List'!$B$7:$B$611,0))),"")
E14: =IFERROR(IF(OR($C14="",$C14="No CAS"),INDEX('[3]DEQ Pollutant List'!$A$7:$A$611,MATCH($D14,'[3]DEQ Pollutant List'!$C$7:$C$611,0)),INDEX('[3]DEQ Pollutant List'!$A$7:$A$611,MATCH($C14,'[3]DEQ Pollutant List'!$B$7:$B$611,0))),"")
E15: =IFERROR(IF(OR($C15="",$C15="No CAS"),INDEX('[3]DEQ Pollutant List'!$A$7:$A$611,MATCH($D15,'[3]DEQ Pollutant List'!$C$7:$C$611,0)),INDEX('[3]DEQ Pollutant List'!$A$7:$A$611,MATCH($C15,'[3]DEQ Pollutant List'!$B$7:$B$611,0))),"")
E16: =IFERROR(IF(OR($C16="",$C16="No CAS"),INDEX('[3]DEQ Pollutant List'!$A$7:$A$611,MATCH($D16,'[3]DEQ Pollutant List'!$C$7:$C$611,0)),INDEX('[3]DEQ Pollutant List'!$A$7:$A$611,MATCH($C16,'[3]DEQ Pollutant List'!$B$7:$B$611,0))),"")
E17: =IFERROR(IF(OR($C17="",$C17="No CAS"),INDEX('[3]DEQ Pollutant List'!$A$7:$A$611,MATCH($D17,'[3]DEQ Pollutant List'!$C$7:$C$611,0)),INDEX('[3]DEQ Pollutant List'!$A$7:$A$611,MATCH($C17,'[3]DEQ Pollutant List'!$B$7:$B$611,0))),"")
D18: =IFERROR(IF(C18="No CAS","",INDEX('[3]DEQ Pollutant List'!$C$7:$C$611,MATCH('[3]5. Pollutant Emissions - MB'!C18,'[3]DEQ Pollutant List'!$B$7:$B$611,0))),"") | E18: =IFERROR(IF(OR($C18="",$C18="No CAS"),INDEX('[3]DEQ Pollutant List'!$A$7:$A$611,MATCH($D18,'[3]DEQ Pollutant List'!$C$7:$C$611,0)),INDEX('[3]DEQ Pollutant List'!$A$7:$A$611,MATCH($C18,'[3]DEQ Pollutant List'!$B$7:$B$611,0))),"")
D19: =IFERROR(IF(C19="No CAS","",INDEX('[3]DEQ Pollutant List'!$C$7:$C$611,MATCH('[3]5. Pollutant Emissions - MB'!C19,'[3]DEQ Pollutant List'!$B$7:$B$611,0))),"") | E19: =IFERROR(IF(OR($C19="",$C19="No CAS"),INDEX('[3]DEQ Pollutant List'!$A$7:$A$611,MATCH($D19,'[3]DEQ Pollutant List'!$C$7:$C$611,0)),INDEX('[3]DEQ Pollutant List'!$A$7:$A$611,MATCH($C19,'[3]DEQ Pollutant List'!$B$7:$B$611,0))),"")
D20: =IFERROR(IF(C20="No CAS","",INDEX('[3]DEQ Pollutant List'!$C$7:$C$611,MATCH('[3]5. Pollutant Emissions - MB'!C20,'[3]DEQ Pollutant List'!$B$7:$B$611,0))),"") | E20: =IFERROR(IF(OR($C20="",$C20="No CAS"),INDEX('[3]DEQ Pollutant List'!$A$7:$A$611,MATCH($D20,'[3]DEQ Pollutant List'!$C$7:$C$611,0)),INDEX('[3]DEQ Pollutant List'!$A$7:$A$611,MATCH($C20,'[3]DEQ Pollutant List'!$B$7:$B$611,0))),"")
D21: =IFERROR(IF(C21="No CAS","",INDEX('[3]DEQ Pollutant List'!$C$7:$C$611,MATCH('[3]5. Pollutant Emissions - MB'!C21,'[3]DEQ Pollutant List'!$B$7:$B$611,0))),"") | E21: =IFERROR(IF(OR($C21="",$C21="No CAS"),INDEX('[3]DEQ Pollutant List'!$A$7:$A$611,MATCH($D21,'[3]DEQ Pollutant List'!$C$7:$C$611,0)),INDEX('[3]DEQ Pollutant List'!$A$7:$A$611,MATCH($C21,'[3]DEQ Pollutant List'!$B$7:$B$611,0))),"")
D22: =IFERROR(IF(C22="No CAS","",INDEX('[3]DEQ Pollutant List'!$C$7:$C$611,MATCH('[3]5. Pollutant Emissions - MB'!C22,'[3]DEQ Pollutant List'!$B$7:$B$611,0))),"") | E22: =IFERROR(IF(OR($C22="",$C22="No CAS"),INDEX('[3]DEQ Pollutant List'!$A$7:$A$611,MATCH($D22,'[3]DEQ Pollutant List'!$C$7:$C$611,0)),INDEX('[3]DEQ Pollutant List'!$A$7:$A$611,MATCH($C22,'[3]DEQ Pollutant List'!$B$7:$B$611,0))),"")
D23: =IFERROR(IF(C23="No CAS","",INDEX('[3]DEQ Pollutant List'!$C$7:$C$611,MATCH('[3]5. Pollutant Emissions - MB'!C23,'[3]DEQ Pollutant List'!$B$7:$B$611,0))),"") | E23: =IFERROR(IF(OR($C23="",$C23="No CAS"),INDEX('[3]DEQ Pollutant List'!$A$7:$A$611,MATCH($D23,'[3]DEQ Pollutant List'!$C$7:$C$611,0)),INDEX('[3]DEQ Pollutant List'!$A$7:$A$611,MATCH($C23,'[3]DEQ Pollutant List'!$B$7:$B$611,0))),"")
D24: =IFERROR(IF(C24="No CAS","",INDEX('[3]DEQ Pollutant List'!$C$7:$C$611,MATCH('[3]5. Pollutant Emissions - MB'!C24,'[3]DEQ Pollutant List'!$B$7:$B$611,0))),"") | E24: =IFERROR(IF(OR($C24="",$C24="No CAS"),INDEX('[3]DEQ Pollutant List'!$A$7:$A$611,MATCH($D24,'[3]DEQ Pollutant List'!$C$7:$C$611,0)),INDEX('[3]DEQ Pollutant List'!$A$7:$A$611,MATCH($C24,'[3]DEQ Pollutant List'!$B$7:$B$611,0))),"")
D25: =IFERROR(IF(C25="No CAS","",INDEX('[3]DEQ Pollutant List'!$C$7:$C$611,MATCH('[3]5. Pollutant Emissions - MB'!C25,'[3]DEQ Pollutant List'!$B$7:$B$611,0))),"") | E25: =IFERROR(IF(OR($C25="",$C25="No CAS"),INDEX('[3]DEQ Pollutant List'!$A$7:$A$611,MATCH($D25,'[3]DEQ Pollutant List'!$C$7:$C$611,0)),INDEX('[3]DEQ Pollutant List'!$A$7:$A$611,MATCH($C25,'[3]DEQ Pollutant List'!$B$7:$B$611,0))),"")
D26: =IFERROR(IF(C26="No CAS","",INDEX('[3]DEQ Pollutant List'!$C$7:$C$611,MATCH('[3]5. Pollutant Emissions - MB'!C26,'[3]DEQ Pollutant List'!$B$7:$B$611,0))),"") | E26: =IFERROR(IF(OR($C26="",$C26="No CAS"),INDEX('[3]DEQ Pollutant List'!$A$7:$A$611,MATCH($D26,'[3]DEQ Pollutant List'!$C$7:$C$611,0)),INDEX('[3]DEQ Pollutant List'!$A$7:$A$611,MATCH($C26,'[3]DEQ Pollutant List'!$B$7:$B$611,0))),"")
D27: =IFERROR(IF(C27="No CAS","",INDEX('[3]DEQ Pollutant List'!$C$7:$C$611,MATCH('[3]5. Pollutant Emissions - MB'!C27,'[3]DEQ Pollutant List'!$B$7:$B$611,0))),"") | E27: =IFERROR(IF(OR($C27="",$C27="No CAS"),INDEX('[3]DEQ Pollutant List'!$A$7:$A$611,MATCH($D27,'[3]DEQ Pollutant List'!$C$7:$C$611,0)),INDEX('[3]DEQ Pollutant List'!$A$7:$A$611,MATCH($C27,'[3]DEQ Pollutant List'!$B$7:$B$611,0))),"")
D28: =IFERROR(IF(C28="No CAS","",INDEX('[3]DEQ Pollutant List'!$C$7:$C$611,MATCH('[3]5. Pollutant Emissions - MB'!C28,'[3]DEQ Pollutant List'!$B$7:$B$611,0))),"") | E28: =IFERROR(IF(OR($C28="",$C28="No CAS"),INDEX('[3]DEQ Pollutant List'!$A$7:$A$611,MATCH($D28,'[3]DEQ Pollutant List'!$C$7:$C$611,0)),INDEX('[3]DEQ Pollutant List'!$A$7:$A$611,MATCH($C28,'[3]DEQ Pollutant List'!$B$7:$B$611,0))),"")
D29: =IFERROR(IF(C29="No CAS","",INDEX('[3]DEQ Pollutant List'!$C$7:$C$611,MATCH('[3]5. Pollutant Emissions - MB'!C29,'[3]DEQ Pollutant List'!$B$7:$B$611,0))),"") | E29: =IFERROR(IF(OR($C29="",$C29="No CAS"),INDEX('[3]DEQ Pollutant List'!$A$7:$A$611,MATCH($D29,'[3]DEQ Pollutant List'!$C$7:$C$611,0)),INDEX('[3]DEQ Pollutant List'!$A$7:$A$611,MATCH($C29,'[3]DEQ Pollutant List'!$B$7:$B$611,0))),"")
... D239: =IFERROR(IF(C239="No CAS","",INDEX('[3]DEQ Pollutant List'!$C$7:$C$611,MATCH('[3]5. Pollutant Emissions - MB'!C239,'[3]DEQ Pollutant List'!$B$7:$B$611,0))),"") | E239: =IFERROR(IF(OR($C239="",$C239="No CAS"),INDEX('[3]DEQ Pollutant List'!$A$7:$A$611,MATCH($D239,'[3]DEQ Pollutant List'!$C$7:$C$611,0)),INDEX('[3]DEQ Pollutant List'!$A$7:$A$611,MATCH($C239,'[3]DEQ Pollutant List'!$B$7:$B$611,0))),"")

Sheet DEQ Pollutant List
A1: DEQ ID | B1: CASRN | C1: Chemical Name | D1: HAP
A2: 115 | B2: 630-20-6 | C2: 1,1,1,2-Tetrachloroethane
A3: 245 | B3: 811-97-2 | C3: 1,1,1,2-Tetrafluoroethane
A4: 326 | B4: 71-55-6 | C4: 1,1,1-Trichloroethane (methyl chloroform) | D4: Y
A5: 594 | B5: 79-34-5 | C5: 1,1,2,2-Tetrachloroethane | D5: Y
A6: 607 | B6: 79-00-5 | C6: 1,1,2-Trichloroethane (vinyl trichloride) | D6: Y
A7: 193 | B7: 75-34-3 | C7: 1,1-Dichloroethane (ethylidene dichloride) | D7: Y
A8: 244 | B8: 75-37-6 | C8: 1,1-Difluoroethane
A9: 212 | B9: 57-14-7 | C9: 1,1-Dimethylhydrazine | D9: Y
A10: 546 | B10: 67562-39-4 | C10: 1,2,3,4,6,7,8-Heptachlorodibenzofuran (HpCDF) | D10: Y
A11: 532 | B11: 35822-46-9 | C11: 1,2,3,4,6,7,8-Heptachlorodibenzo-p-dioxin (HpCDD) | D11: Y
A12: 547 | B12: 55673-89-7 | C12: 1,2,3,4,7,8,9-Heptachlorodibenzofuran (HpCDF) | D12: Y
A13: 542 | B13: 70648-26-9 | C13: 1,2,3,4,7,8-Hexachlorodibenzofuran (HxCDF) | D13: Y
A14: 529 | B14: 39227-28-6 | C14: 1,2,3,4,7,8-Hexachlorodibenzo-p-dioxin (HxCDD) | D14: Y
A15: 543 | B15: 57117-44-9 | C15: 1,2,3,6,7,8-Hexachlorodibenzofuran (HxCDF) | D15: Y
A16: 530 | B16: 57653-85-7 | C16: 1,2,3,6,7,8-Hexachlorodibenzo-p-dioxin (HxCDD) | D16: Y
A17: 544 | B17: 72918-21-9 | C17: 1,2,3,7,8,9-Hexachlorodibenzofuran (HxCDF) | D17: Y
A18: 531 | B18: 19408-74-3 | C18: 1,2,3,7,8,9-Hexachlorodibenzo-p-dioxin (HxCDD) | D18: Y
A19: 540 | B19: 57117-41-6 | C19: 1,2,3,7,8-Pentachlorodibenzofuran (PeCDF) | D19: Y
A20: 528 | B20: 40321-76-4 | C20: 1,2,3,7,8-Pentachlorodibenzo-p-dioxin (PeCDD) | D20: Y
A21: 609 | B21: 96-18-4 | C21: 1,2,3-Trichloropropane
A22: 613 | B22: 526-73-8 | C22: 1,2,3-Trimethylbenzene
A23: 113 | B23: 120-82-1 | C23: 1,2,4-Trichlorobenzene | D23: Y
A24: 614 | B24: 95-63-6 | C24: 1,2,4-Trimethylbenzene
A25: 190 | B25: 96-12-8 | C25: 1,2-Dibromo-3-chloropropane (DBCP) | D25: Y
A26: 110 | B26: 95-50-1 | C26: 1,2-Dichlorobenzene
A27: 195 | B27: 78-87-5 | C27: 1,2-Dichloropropane (propylene dichloride) | D27: Y
A28: 335 | B28: 540-73-8 | C28: 1,2-Dimethylhydrazine
A29: 222 | B29: 122-66-7 | C29: 1,2-Diphenylhydrazine (hydrazobenzene) | D29: Y
A30: 226 | B30: 106-88-7 | C30: 1,2-Epoxybutane | D30: Y
A31: 564 | B31: 75-55-8 | C31: 1,2-Propyleneimine (2-methylaziridine) | D31: Y
A32: 615 | B32: 108-67-8 | C32: 1,3,5-Trimethylbenzene
A33: 75 | B33: 106-99-0 | C33: 1,3-Butadiene | D33: Y
A34: 111 | B34: 541-73-1 | C34: 1,3-Dichlorobenzene
A35: 196 | B35: 542-75-6 | C35: 1,3-Dichloropropene | D35: Y
A36: 557 | B36: 1120-71-4 | C36: 1,3-Propane sultone | D36: Y
A37: 220 | B37: 123-91-1 | C37: 1,4-Dioxane | D37: Y
A38: 437 | B38: 42397-64-8 | C38: 1,6-Dinitropyrene | D38: Y
A39: 438 | B39: 42397-65-9 | C39: 1,8-Dinitropyrene | D39: Y
A40: 385 | B40: 555-84-0 | C40: 1-[(5-Nitrofurfurylidene)-amino]-2-imidazolidinone
A41: 20 | B41: 82-28-0 | C41: 1-Amino-2-methylanthraquinone
A42: 73 | B42: 106-94-5 | C42: 1-Bromopropane (n-propyl bromide) | D42: Y
A43: 117 | B43: 75-68-3 | C43: 1-Chloro-1,1-difluoroethane
A44: 343 | B44: 832-69-9 | C44: 1-Methylphenanthrene | D44: Y
A45: 344 | B45: 2381-21-7 | C45: 1-Methylpyrene | D45: Y
A46: 444 | B46: 5522-43-0 | C46: 1-Nitropyrene | D46: Y
A47: 616 | B47: 540-84-1 | C47: 2,2,4-Trimethylpentane | D47: Y
A48: 545 | B48: 60851-34-5 | C48: 2,3,4,6,7,8-Hexachlorodibenzofuran (HxCDF) | D48: Y
A49: 128 | B49: 58-90-2 | C49: 2,3,4,6-Tetrachlorophenol
A50: 541 | B50: 57117-31-4 | C50: 2,3,4,7,8-Pentachlorodibenzofuran (PeCDF) | D50: Y
A51: 539 | B51: 51207-31-9 | C51: 2,3,7,8-Tetrachlorodibenzofuran (TcDF) | D51: Y
A52: 527 | B52: 1746-01-6 | C52: 2,3,7,8-Tetrachlorodibenzo-p-dioxin (TCDD) | D52: Y
A53: 191 | B53: 96-13-9 | C53: 2,3-Dibromo-1-propanol
A54: 125 | B54: 95-95-4 | C54: 2,4,5-Trichlorophenol | D54: Y
A55: 126 | B55: 88-06-2 | C55: 2,4,6-Trichlorophenol | D55: Y
A56: 171 | B56: 53-19-0 | C56: 2,4'-DDD (2,4'-dichlorodiphenyldichloroethane)
A57: 637 | B57: 3424-82-6 | C57: 2,4'-DDE (2,4'-dichlorodiphenyldichloroethene)
A58: 174 | B58: 789-02-6 | C58: 2,4'-DDT (2,4'-dichlorodiphenyltrichloroethane)
A59: 183 | B59: 615-05-4 | C59: 2,4-Diaminoanisole
A60: 15 | B60: 39156-41-7 | C60: 2,4-Diaminoanisole sulfate
A61: 184 | B61: 95-80-7 | C61: 2,4-Diaminotoluene (2,4-toluene diamine) | D61: Y
A62: 123 | B62: 120-83-2 | C62: 2,4-Dichlorophenol
A63: 216 | B63: 51-28-5 | C63: 2,4-Dinitrophenol | D63: Y
A64: 218 | B64: 121-14-2 | C64: 2,4-Dinitrotoluene | D64: Y
A65: 219 | B65: 606-20-2 | C65: 2,6-Dinitrotoluene
A66: 433 | B66: 53-96-3 | C66: 2-Acetylaminofluorene | D66: Y
A67: 19 | B67: 68006-83-7 | C67: 2-Amino-3-methyl-9H pyrido[2,3-b]indole
A68: 21 | B68: 76180-96-6 | C68: 2-Amino-3-methylimidazo-[4,5-f]quinoline
A69: 22 | B69: 712-68-5 | C69: 2-Amino-5-(5-nitro-2-furyl)-1,3,4-thiadiazole
A70: 434 | B70: 117-79-3 | C70: 2-Aminoanthraquinone
A71: 333 | B71: 78-93-3 | C71: 2-Butanone (methyl ethyl ketone) | D71: Y
A72: 104 | B72: 532-27-4 | C72: 2-Chloroacetophenone | D72: Y
A73: 122 | B73: 95-57-8 | C73: 2-Chlorophenol
A74: 427 | B74: 91-57-6 | C74: 2-Methyl naphthalene | D74: Y
A75: 341 | B75: 129-15-7 | C75: 2-Methyl-1-nitroanthraquinone
A76: 338 | B76: 75-86-5 | C76: 2-Methyllactonitrile (acetone cyanohydrin)
A77: 345 | B77: 109-06-8 | C77: 2-Methylpyridine
A78: 363 | B78: 91-59-8 | C78: 2-Naphthylamine
A79: 443 | B79: 607-57-8 | C79: 2-Nitrofluorene | D79: Y
A80: 389 | B80: 79-46-9 | C80: 2-Nitropropane | D80: Y
A81: 502 | B81: 90-43-7 | C81: 2-Phenylphenol
A82: 192 | B82: 91-94-1 | C82: 3,3'-Dichlorobenzidine | D82: Y
A83: 206 | B83: 119-90-4 | C83: 3,3'-Dimethoxybenzidine | D83: Y
A84: 209 | B84: 119-93-7 | C84: 3,3'-Dimethylbenzidine (o-tolidine) | D84: Y
A85: 18 | B85: 6109-97-3 | C85: 3-Amino-9-ethylcarbazole hydrochloride
A86: 120 | B86: 563-47-3 | C86: 3-Chloro-2-methyl-1-propene
A87: 439 | B87: 56-49-5 | C87: 3-Methylcholanthrene | D87: Y
A88: 170 | B88: 72-54-8 | C88: 4,4'-DDD (4,4'-dichlorodiphenyldichloroethane)
A89: 173 | B89: 72-55-9 | C89: 4,4'-DDE (4,4'-dichlorodiphenyldichloroethene) | D89: Y
A90: 17 | B90: 101-80-4 | C90: 4,4'-Diaminodiphenyl ether
A91: 303 | B91: 80-05-7 | C91: 4,4'-Isopropylidenediphenol (bisphenol A)
A92: 327 | B92: 101-14-4 | C92: 4,4'-Methylene bis(2-chloroaniline) (MOCA) | D92: Y
A93: 331 | B93: 838-88-0 | C93: 4,4'-Methylene bis(2-methylaniline)
A94: 332 | B94: 101-61-1 | C94: 4,4'-Methylene bis(N,N'-dimethyl)aniline
A95: 329 | B95: 101-77-9 | C95: 4,4'-Methylenedianiline (and its dichloride) | D95: Y
A96: 330 | B96: 13552-44-8 | C96: 4,4'-Methylenedianiline dihydrochloride
A97: 597 | B97: 139-65-1 | C97: 4,4'-Thiodianiline
A98: 215 | B98: 534-52-1 | C98: 4,6-Dinitro-o-cresol (and salts) | D98: Y
A99: 24 | B99: 92-67-1 | C99: 4-Aminobiphenyl | D99: Y
A100: 129 | B100: 95-83-0 | C100: 4-Chloro-o-phenylenediamine
...
