Workbook
Name \L: #REF!
Name \L2: #REF!
Name \p: #REF!
Name \q: #REF!
Name ______API2: #REF!
Name ______MW2: #REF!
Name ______new1: '[1]x-Vasquez-Beggs Equation (VBE)'!$F$8
Name ______new2: '[1]x-MACRO1'!$C$1
Name ______new3: '[1]x-MACRO1'!$C$1
Name ______SG2: #REF!
Name ______SGi2: #REF!
Name ______SGx2: #REF!
Name ______THC2: #REF!
Name ______Ti2: #REF!
Name ______VOC2: '[1]Vasquez-Beggs Equation (VBE)'!#REF!
Name _____API2: #REF!
Name _____MW2: #REF!
Name _____new1: '[1]x-Vasquez-Beggs Equation (VBE)'!$F$8
Name _____new2: '[1]x-MACRO1'!$C$1
Name _____new3: '[1]x-MACRO1'!$C$1
Name _____SG2: #REF!
Name _____SGi2: #REF!
Name _____SGx2: #REF!
Name _____THC2: #REF!
Name _____Ti2: #REF!
Name _____VOC2: '[1]Vasquez-Beggs Equation (VBE)'!#REF!
Name ____API2: #REF!
Name ____MW2: #REF!
Name ____new1: '[1]x-Vasquez-Beggs Equation (VBE)'!$F$8
Name ____new2: '[1]x-MACRO1'!$C$1
Name ____new3: '[1]x-MACRO1'!$C$1
Name ____SG2: #REF!
Name ____SGi2: #REF!
Name ____SGx2: #REF!
Name ____THC2: #REF!
Name ____Ti2: #REF!
Name ____VOC2: '[1]Vasquez-Beggs Equation (VBE)'!#REF!
Name ___API2: #REF!
Name ___MW2: #REF!
Name ___new1: '[1]x-Vasquez-Beggs Equation (VBE)'!$F$8
Name ___new2: '[1]x-MACRO1'!$C$1
Name ___new3: '[1]x-MACRO1'!$C$1
Name ___SG2: #REF!
Name ___SGi2: #REF!
Name ___SGx2: #REF!
Name ___THC2: #REF!
Name ___Ti2: #REF!
Name ___VOC2: '[1]Vasquez-Beggs Equation (VBE)'!#REF!
Name __API2: #REF!
Name __MW2: #REF!
Name __new1: '[1]x-Vasquez-Beggs Equation (VBE)'!$F$8
Name __new2: '[1]x-MACRO1'!$C$1
Name __new3: '[1]x-MACRO1'!$C$1
Name __SG2: #REF!
Name __SGi2: #REF!
Name __SGx2: #REF!
Name __THC2: #REF!
Name __Ti2: #REF!
Name __VOC2: '[1]Vasquez-Beggs Equation (VBE)'!#REF!
Name _01_Apr_00_00_00: '[2]Table 3-1'!#REF!

Sheet Emission summary
A3: Table 3-10: Plant Site Emission Summary
A5: Pollutant | C5: Emission Sources
C6: Pretreatment Heater Stage 2 (H2) | D6: Coating Oven- Burner (H3) | E6: Coating Oven (CO1) | F6: Coating Line Baths (CL1)* | G6: Welding (W1) | H6: Emission Total
A7: NOx | B7: Tons/yr | C7: ='1Pretreatment Heater H2'!C25 -> 0.38647059 | D7: ='2Coating Oven Burner H3'!C23 -> 1.7176471 | H7: =SUM(C7:G7) -> 2.1041176
A8: CO | B8: Tons/yr | C8: ='1Pretreatment Heater H2'!C26 -> 0.32463529 | D8: ='2Coating Oven Burner H3'!C24 -> 1.4428235 | H8: =SUM(C8:G8) -> 1.7674588
A9: VOC | B9: Tons/yr | C9: ='1Pretreatment Heater H2'!C27 -> 0.021255882 | D9: ='2Coating Oven Burner H3'!C25 -> 0.094470588 | E9: ='3Coating Oven (CO1)'!H25 -> 9.6867222 | H9: =SUM(C9:G9) -> 9.8024487
A10: PM/PM10/PM2.5 | B10: Tons/yr | C10: ='1Pretreatment Heater H2'!C28 -> 0.0096617647 | D10: ='2Coating Oven Burner H3'!C26 -> 0.042941176 | G10: ='5Welding (W1)'!D17 -> 0.007488 | H10: =SUM(C10:G10) -> 0.060090941
A11: SO2 | B11: Tons/yr | C11: ='1Pretreatment Heater H2'!C29 -> 0.010048235 | D11: ='2Coating Oven Burner H3'!C27 -> 0.044658824 | H11: =SUM(C11:G11) -> 0.054707059
A12: CO2e | B12: Tons/yr | C12: ='1Pretreatment Heater H2'!C35 -> 461.60012 | D12: ='2Coating Oven Burner H3'!C32 -> 2051.5561 | H12: =SUM(C12:G12) -> 2513.1562
A13: Hazardous Air Pollutants | B13: lb/yr | C13: ='1Pretreatment Heater H2'!J68 -> 0.91254363 | D13: ='2Coating Oven Burner H3'!I65 -> 4.0557495 | E13: ='3Coating Oven (CO1)'!L34 -> 0 | F13: ='4Coating Line Baths (CL1)'!V31+'4Coating Line Baths (CL1)'!V35+'4Coating Line Baths (CL1)'!S77 -> 0.77321996 | G13: ='5Welding (W1)'!H28 -> 0.92448 | H13: =SUM(C13:G13) -> 6.6659931
A14: Toxic Air Contaminants | B14: lb/yr | C14: ='1Pretreatment Heater H2'!H68 -> 25.941925 | D14: ='2Coating Oven Burner H3'!G65 -> 115.29744 | E14: ='3Coating Oven (CO1)'!H34 -> 20317.659 | F14: ='4Coating Line Baths (CL1)'!Q77 -> 3780.5123 | G14: ='5Welding (W1)'!F28 -> 0.92448 | H14: =SUM(C14:G14) -> 24240.335
A15: * 100% VOC in coating calculated as being emitted from Coating Oven
A20: Table 3-11: Emission Summary for Natural Gas-Fired Categorically Insignificant Activities
C22: Natural Gas-Fired Categorically Insignificant Activities (CIA)
A23: Pollutant | C23: Back-up Condensing Boiler (B1) | D23: Building F Domestic Hot Water Heaters (B2) | E23: Pretreatment Heater Stage 1 (H1) | F23: Infrared Radiant Heating Units (H4) | G23: CIA Emissions Total
A24: NOx | B24: Tons/yr | C24: ='6Condensing Boiler (B1)'!C23 -> 0.027482353 | D24: ='7Building F Domestic HWH (B2)'!C23 -> 0.0082447059 | E24: ='8Pretreatment Heater H1'!C23 -> 0.38647059 | F24: ='9IR Heaters (H4)'!C23 -> 0.30144706 | G24: =SUM(C24:F24) -> 0.72364471
A25: CO | B25: Tons/yr | C25: ='6Condensing Boiler (B1)'!C24 -> 0.023085176 | D25: ='7Building F Domestic HWH (B2)'!C24 -> 0.0069255529 | E25: ='8Pretreatment Heater H1'!C24 -> 0.32463529 | F25: ='9IR Heaters (H4)'!C24 -> 0.25321553 | G25: =SUM(C25:F25) -> 0.60786155
A26: VOC | B26: Tons/yr | C26: ='6Condensing Boiler (B1)'!C25 -> 0.0015115294 | D26: ='7Building F Domestic HWH (B2)'!C25 -> 0.00045345882 | E26: ='8Pretreatment Heater H1'!C25 -> 0.021255882 | F26: ='9IR Heaters (H4)'!C25 -> 0.016579588 | G26: =SUM(C26:F26) -> 0.039800459
A27: PM/PM10/PM2.5 | B27: Tons/yr | C27: ='6Condensing Boiler (B1)'!C26 -> 0.00068705882 | D27: ='7Building F Domestic HWH (B2)'!C26 -> 0.00020611765 | E27: ='8Pretreatment Heater H1'!C26 -> 0.0096617647 | F27: ='9IR Heaters (H4)'!C26 -> 0.0075361765 | G27: =SUM(C27:F27) -> 0.018091118
A28: SO2 | B28: Tons/yr | C28: ='6Condensing Boiler (B1)'!C27 -> 0.00071454118 | D28: ='7Building F Domestic HWH (B2)'!C27 -> 0.00021436235 | E28: ='8Pretreatment Heater H1'!C27 -> 0.010048235 | F28: ='9IR Heaters (H4)'!C27 -> 0.0078376235 | G28: =SUM(C28:F28) -> 0.018814762
A29: CO2e | B29: Tons/yr | C29: ='6Condensing Boiler (B1)'!C32 -> 32.824897 | D29: ='7Building F Domestic HWH (B2)'!C32 -> 9.8474692 | E29: ='8Pretreatment Heater H1'!C32 -> 461.60012 | F29: ='9IR Heaters (H4)'!C32 -> 360.04809 | G29: =SUM(C29:F29) -> 864.32058

Sheet 1Pretreatment Heater H2
A4: Table 3-1: Emissions from Pretreatment Heater Stage 2 (H2)
A6: Number of units | B6: 1
A7: Rating | B7: 0.9 | C7: MMBtu/hr
A8: HHV Natural Gas | B8: 1020 | C8: Btu/ft3
A9: Max. Daily Operating Hours | B9: 24
A10: Max. Annual Operating Hours | B10: 8760
A11: Expected Max. Annual Operating Capacity | B11: 1
A12: Max. Annual Natural Gas Usage | B12: =B6*B7*B10*B11 -> 7884 | C12: MMBtu/yr
A13: Max. Annual Natural Gas Usage | B13: =B12/B8 -> 7.7294118 | C13: MMCF/yr
A16: Total Fuel Usage
A17: Annual Natural Gas Usage | B17: =B12 -> 7884 | C17: MMBtu/yr
A18: Annual Natural Gas Usage | B18: =B13 -> 7.7294118 | C18: MMCF/yr
A19: Daily Natural Gas Usage | B19: =B6*B7/B8*B9 -> 0.021176471 | C19: MMCF/day
A23: Criteria Pollutants(1)
A24: Pollutant | B24: Emission Factor (lb/MMCF) | C24: Emission Rate (tpy)
A25: NOx | B25: 100 | C25: =B25*$B$18/2000 -> 0.38647059
A26: CO | B26: 84 | C26: =B26*$B$18/2000 -> 0.32463529
A27: VOC | B27: 5.5 | C27: =B27*$B$18/2000 -> 0.021255882
A28: PM/PM10/PM2.5 | B28: 2.5 | C28: =B28*$B$18/2000 -> 0.0096617647
A29: SO2 | B29: 2.6 | C29: =B29*$B$18/2000 -> 0.010048235
A30: (1) Emission factor from ODEQ, AQ-EF05
A33: Greenhouse Gases(2)
A34: Pollutant | B34: Emission Factor (kg/MMBtu) | C34: Emission Rate (tpy)
A35: CO2e | B35: 53.1148 | C35: =(B35*B17/1000)*1.10231 -> 461.60012
A36: (2) Emission factor from EPA, 40 CFR Part 98, Subpart C
A39: Toxic Air Contaminants (TACs)(3) | G39: Single Unit
A40: Pollutant | B40: CAS | C40: Emission Factor (lb/MMCF) | D40: Daily Emissions (lb/day) | E40: Annual Emissions (lb/yr) | G40: Daily Emissions (lb/day) | H40: Annual Emissions (lb/yr)
A41: Benzene | B41: 71-43-2 | C41: 0.008 | D41: =C41*$B$19 -> 0.00016941176 | E41: =C41*$B$18 -> 0.061835294 | G41: =D41/$B$6 -> 0.00016941176 | H41: =E41/$B$6 -> 0.061835294 | J41: H
A42: Formaldehyde | B42: 50-00-0 | C42: 0.017 | D42: =C42*$B$19 -> 0.00036 | E42: =C42*$B$18 -> 0.1314 | G42: =D42/$B$6 -> 0.00036 | H42: =E42/$B$6 -> 0.1314 | J42: H
A43: Polycyclic aromatic hydrocarbons (PAHs) | B43: 401 | C43: 0.0001 | D43: =C43*$B$19 -> 2.1176471e-06 | E43: =C43*$B$18 -> 0.00077294118 | G43: =D43/$B$6 -> 2.1176471e-06 | H43: =E43/$B$6 -> 0.00077294118 | J43: H
A44: Benzo[a]pyrene | B44: 50-32-8 | C44: 1.2e-06 | D44: =C44*$B$19 -> 2.5411765e-08 | E44: =C44*$B$18 -> 9.2752941e-06 | G44: =D44/$B$6 -> 2.5411765e-08 | H44: =E44/$B$6 -> 9.2752941e-06 | J44: H
A45: Naphthalene | B45: 91-20-3 | C45: 0.0003 | D45: =C45*$B$19 -> 6.3529412e-06 | E45: =C45*$B$18 -> 0.0023188235 | G45: =D45/$B$6 -> 6.3529412e-06 | H45: =E45/$B$6 -> 0.0023188235 | J45: H
A46: Acetaldehyde | B46: 75-07-0 | C46: 0.0043 | D46: =C46*$B$19 -> 9.1058824e-05 | E46: =C46*$B$18 -> 0.033236471 | G46: =D46/$B$6 -> 9.1058824e-05 | H46: =E46/$B$6 -> 0.033236471 | J46: H
A47: Acrolein | B47: 107-02-8 | C47: 0.0027 | D47: =C47*$B$19 -> 5.7176471e-05 | E47: =C47*$B$18 -> 0.020869412 | G47: =D47/$B$6 -> 5.7176471e-05 | H47: =E47/$B$6 -> 0.020869412 | J47: H
A48: Ammonia | B48: 7664-41-7 | C48: 3.2 | D48: =C48*$B$19 -> 0.067764706 | E48: =C48*$B$18 -> 24.734118 | G48: =D48/$B$6 -> 0.067764706 | H48: =E48/$B$6 -> 24.734118
A49: Arsenic and compounds | B49: 7440-38-2 | C49: 0.0002 | D49: =C49*$B$19 -> 4.2352941e-06 | E49: =C49*$B$18 -> 0.0015458824 | G49: =D49/$B$6 -> 4.2352941e-06 | H49: =E49/$B$6 -> 0.0015458824 | J49: H
A50: Barium and compounds | B50: 7440-39-3 | C50: 0.0044 | D50: =C50*$B$19 -> 9.3176471e-05 | E50: =C50*$B$18 -> 0.034009412 | G50: =D50/$B$6 -> 9.3176471e-05 | H50: =E50/$B$6 -> 0.034009412
A51: Beryllium and compounds | B51: 7440-41-7 | C51: 1.2e-05 | D51: =C51*$B$19 -> 2.5411765e-07 | E51: =C51*$B$18 -> 9.2752941e-05 | G51: =D51/$B$6 -> 2.5411765e-07 | H51: =E51/$B$6 -> 9.2752941e-05 | J51: H
A52: Cadmium and compounds | B52: 7440-43-9 | C52: 0.0011 | D52: =C52*$B$19 -> 2.3294118e-05 | E52: =C52*$B$18 -> 0.0085023529 | G52: =D52/$B$6 -> 2.3294118e-05 | H52: =E52/$B$6 -> 0.0085023529 | J52: H
A53: Chromium VI, chromate and dichromate particulate | B53: 18540-29-9 | C53: 0.0014 | D53: =C53*$B$19 -> 2.9647059e-05 | E53: =C53*$B$18 -> 0.010821176 | G53: =D53/$B$6 -> 2.9647059e-05 | H53: =E53/$B$6 -> 0.010821176 | J53: H
...

Sheet 2Coating Oven Burner H3
A4: Table 3-2: Emissions from Coating Oven Burner (H3)
A6: Number of units | B6: 1
A7: Rating | B7: 4 | C7: MMBtu/hr
A8: HHV Natural Gas | B8: 1020 | C8: Btu/ft3
A9: Max. Daily Operating Hours | B9: 24
A10: Max. Annual Operating Hours | B10: 8760
A11: Expected Max. Annual Operating Capacity | B11: 1
A12: Max. Annual Natural Gas Usage | B12: =B6*B7*B10*B11 -> 35040 | C12: MMBtu/yr
A13: Max. Annual Natural Gas Usage | B13: =B12/B8 -> 34.352941 | C13: MMCF/yr
A16: Total Fuel Usage
A17: Annual Natural Gas Usage | B17: =B12 -> 35040 | C17: MMBtu/yr
A18: Annual Natural Gas Usage | B18: =B13 -> 34.352941 | C18: MMCF/yr
A19: Daily Natural Gas Usage | B19: =B6*B7/B8*B9 -> 0.094117647 | C19: MMCF/day
A21: Criteria Pollutants(1)
A22: Pollutant | B22: Emission Factor (lb/MMCF) | C22: Emission Rate (tpy)
A23: NOx | B23: 100 | C23: =B23*$B$18/2000 -> 1.7176471
A24: CO | B24: 84 | C24: =B24*$B$18/2000 -> 1.4428235
A25: VOC | B25: 5.5 | C25: =B25*$B$18/2000 -> 0.094470588
A26: PM/PM10/PM2.5 | B26: 2.5 | C26: =B26*$B$18/2000 -> 0.042941176
A27: SO2 | B27: 2.6 | C27: =B27*$B$18/2000 -> 0.044658824
A28: (1) Emission factor from ODEQ, AQ-EF05
A30: Greenhouse Gases(2)
A31: Pollutant | B31: Emission Factor (kg/MMBtu) | C31: Emission Rate (tpy)
A32: CO2e | B32: 53.1148 | C32: =(B32*B17/1000)*1.10231 -> 2051.5561
A33: (2) Emission factor from EPA, 40 CFR Part 98, Subpart C
A36: Toxic Air Contaminants (TACs)(3) | F36: Single Unit
A37: Pollutant | B37: CAS | C37: Emission Factor (lb/MMCF) | D37: Daily Emissions (lb/day) | E37: Annual Emissions (lb/yr) | F37: Daily Emissions (lb/day) | G37: Annual Emissions (lb/yr)
A38: Benzene | B38: 71-43-2 | C38: 0.008 | D38: =C38*$B$19 -> 0.00075294118 | E38: =C38*$B$18 -> 0.27482353 | F38: =D38/$B$6 -> 0.00075294118 | G38: =E38/$B$6 -> 0.27482353 | I38: H
A39: Formaldehyde | B39: 50-00-0 | C39: 0.017 | D39: =C39*$B$19 -> 0.0016 | E39: =C39*$B$18 -> 0.584 | F39: =D39/$B$6 -> 0.0016 | G39: =E39/$B$6 -> 0.584 | I39: H
A40: Polycyclic aromatic hydrocarbons (PAHs) | B40: 401 | C40: 0.0001 | D40: =C40*$B$19 -> 9.4117647e-06 | E40: =C40*$B$18 -> 0.0034352941 | F40: =D40/$B$6 -> 9.4117647e-06 | G40: =E40/$B$6 -> 0.0034352941 | I40: H
A41: Benzo[a]pyrene | B41: 50-32-8 | C41: 1.2e-06 | D41: =C41*$B$19 -> 1.1294118e-07 | E41: =C41*$B$18 -> 4.1223529e-05 | F41: =D41/$B$6 -> 1.1294118e-07 | G41: =E41/$B$6 -> 4.1223529e-05 | I41: H
A42: Naphthalene | B42: 91-20-3 | C42: 0.0003 | D42: =C42*$B$19 -> 2.8235294e-05 | E42: =C42*$B$18 -> 0.010305882 | F42: =D42/$B$6 -> 2.8235294e-05 | G42: =E42/$B$6 -> 0.010305882 | I42: H
A43: Acetaldehyde | B43: 75-07-0 | C43: 0.0043 | D43: =C43*$B$19 -> 0.00040470588 | E43: =C43*$B$18 -> 0.14771765 | F43: =D43/$B$6 -> 0.00040470588 | G43: =E43/$B$6 -> 0.14771765 | I43: H
A44: Acrolein | B44: 107-02-8 | C44: 0.0027 | D44: =C44*$B$19 -> 0.00025411765 | E44: =C44*$B$18 -> 0.092752941 | F44: =D44/$B$6 -> 0.00025411765 | G44: =E44/$B$6 -> 0.092752941 | I44: H
A45: Ammonia | B45: 7664-41-7 | C45: 3.2 | D45: =C45*$B$19 -> 0.30117647 | E45: =C45*$B$18 -> 109.92941 | F45: =D45/$B$6 -> 0.30117647 | G45: =E45/$B$6 -> 109.92941
A46: Arsenic and compounds | B46: 7440-38-2 | C46: 0.0002 | D46: =C46*$B$19 -> 1.8823529e-05 | E46: =C46*$B$18 -> 0.0068705882 | F46: =D46/$B$6 -> 1.8823529e-05 | G46: =E46/$B$6 -> 0.0068705882 | I46: H
A47: Barium and compounds | B47: 7440-39-3 | C47: 0.0044 | D47: =C47*$B$19 -> 0.00041411765 | E47: =C47*$B$18 -> 0.15115294 | F47: =D47/$B$6 -> 0.00041411765 | G47: =E47/$B$6 -> 0.15115294
A48: Beryllium and compounds | B48: 7440-41-7 | C48: 1.2e-05 | D48: =C48*$B$19 -> 1.1294118e-06 | E48: =C48*$B$18 -> 0.00041223529 | F48: =D48/$B$6 -> 1.1294118e-06 | G48: =E48/$B$6 -> 0.00041223529 | I48: H
A49: Cadmium and compounds | B49: 7440-43-9 | C49: 0.0011 | D49: =C49*$B$19 -> 0.00010352941 | E49: =C49*$B$18 -> 0.037788235 | F49: =D49/$B$6 -> 0.00010352941 | G49: =E49/$B$6 -> 0.037788235 | I49: H
A50: Chromium VI, chromate and dichromate particulate | B50: 18540-29-9 | C50: 0.0014 | D50: =C50*$B$19 -> 0.00013176471 | E50: =C50*$B$18 -> 0.048094118 | F50: =D50/$B$6 -> 0.00013176471 | G50: =E50/$B$6 -> 0.048094118 | I50: H
...

Sheet 3Coating Oven (CO1)
A3: Table 3-3: Emissions from Coating Oven (CO1)
A6: Coating Use Information
A8: Annual Coating* Usage | B8: 44610 | C8: gal/yr
A9: Resin | B9: 32354 | C9: gal/yr
A10: Pigment | B10: 12256 | C10: gal/yr
A11: Flow additive | B11: 100 | C11: gal/yr
A12: * 2.64 gal resin to 1 gal pigment
A14: Operating Hours | B14: 8760 | C14: hr/yr
B15: 24 | C15: hr/day
A18: Coating Emissions
A20: Criteria Pollutant | C20: AquaEC 5100
A21: Pollutant | B21: Coating Component | C21: Coating Usage gal/yr | D21: Coating Density (lb/gal) | E21: VOC Content by wt. (%) | F21: Daily Emission lb/day | G21: Annual Emission lb/yr | H21: Annual Emission tpy
A22: VOC | B22: Resin | C22: =B9 -> 32354 | D22: 8.76 | E22: 0.02 | F22: =$B$15*G22/$B$14 -> 15.52992 | G22: =C22*D22*E22 -> 5668.4208 | H22: =G22/2000 -> 2.8342104
B23: Pigment | C23: =B10 -> 12256 | D23: 11.2 | E23: 0.0944 | F23: =$B$15*G23/$B$14 -> 35.501435 | G23: =C23*D23*E23 -> 12958.024 | H23: =G23/2000 -> 6.4790118
B24: Flow Additive | C24: =B11 -> 100 | D24: 7.47 | E24: 1 | F24: =$B$15*G24/$B$14 -> 2.0465753 | G24: =C24*D24*E24 -> 747 | H24: =G24/2000 -> 0.3735
A25: Total VOC | H25: =SUM(H22:H24) -> 9.6867222
A28: Toxic Air Contaminants (TACs)
A29: Coating Component | B29: Chemical | C29: CAS | D29: Wt Percent of Component | E29: Density (lb/gal) | F29: Emission (lb/hr) | G29: Emission (lb/day) | H29: Emission (lb/yr)
A30: Resin | B30: 1-methoxy-2-propanol | C30: 107-98-2 | D30: 0.03 | E30: =1.05*8.34 -> 8.757 | F30: =H30/$B$14 -> 0.9702876 | G30: =F30*$B$15 -> 23.286902 | H30: =D30*E30*B9 -> 8499.7193
A31: Pigment | B31: butan-2-ol | C31: 78-92-2 | D31: 0.064 | E31: =1.361*8.34 -> 11.35074 | F31: =H31/$B$14 -> 1.0163629 | G31: =F31*$B$15 -> 24.392709 | H31: =D31*E31*B10 -> 8903.3388
A32: Pigment | B32: 2-butoxyethanol | C32: 111-76-2 | D32: 0.018 | E32: =E31 -> 11.35074 | F32: =H32/$B$14 -> 0.28585206 | G32: =F32*$B$15 -> 6.8604495 | H32: =D32*E32*B10 -> 2504.064
A33: Flow Additive | B33: 2-butoxyethanol | C33: 111-76-2 | D33: 0.55 | E33: =0.895*8.34 -> 7.4643 | F33: =H33/$B$14 -> 0.046864897 | G33: =F33*$B$15 -> 1.1247575 | H33: =D33*E33*B11 -> 410.5365
E34: Total TAC from Coating Oven | F34: =SUM(F30:F33) -> 2.3193674 | G34: =SUM(G30:G33) -> 55.664818 | H34: =SUM(H30:H33) -> 20317.659 | L34: 0 | M34: HAPs

Sheet 4Coating Line Baths (CL1)
A3: Table 3-4: Emissions from Coating Line Baths (CL1)
A5: Pretreatment Baths
A16: Operating Hrs | B16: 8760 | C16: hrs/yr
B17: 24 | C17: hr/day
A19: Toxic Air Contaminants (TACs)
A20: Pretreat Option | B20: Tank Process Name | C20: Tank # | D20: Additive | E20: Additive Concentration in Bath (gal/100 gal) | F20: Additive Density (lb/gal) | G20: Chemical/ TAC Pollutant | H20: CAS (See Note 2) | I20: Chemical Weight % In Additive | J20: Chemical Concentration (lb/gal) | K20: Surface Tension, σ (lbf/ft) | L20: Average Bubble Radius, Rb (Inches) | M20: Factor, a (0.072 Rb2/σ) | N20: Tank Liquid Emission Rate (grains/ft3-aeration air) | O20: Aeration Rate (cfm/ft2) | P20: Tank Surface Area (ft2) | Q20: Tank Liquid Emission Rate (lb/hr) | R20: MWAF (see Note 3) | S20: Chemical Emission Rate (lb/hr) | T20: Chemical Emission Rate (lb/day) | U20: Chemical Emission Rate (lb/yr)
A21: Zinc Option | B21: Alkaline Clean | C21: Stage 2 | D21: Bonderite NP-2 | E21: 3 | G21: no TACs | H21: -- | S21: 0 | T21: 0 | U21: 0
B22: Conditioner | C22: Stage 5 | D22: Prepalene X | E22: 0.26 | F22: =1.26*8.34 -> 10.5084 | G22: zinc orthophosphate | H22: 7440-66-6 | I22: 0.3 | J22: =I22*(E22*F22)/(100) -> 0.008196552 | K22: 0.0048 | L22: 0.05 | M22: =0.072*(L22^2)/K22 -> 0.0375 | N22: =(1.9*K22/L22)*((((1-2*M22+9*M22^2)^0.5+(M22-1))/((1+3*M22)-(1-2*M22+9*M22^2)^0.5)))^0.5 -> 0.036667962 | O22: 10 | P22: 59 | Q22: =N22*O22*P22*60/7000 -> 0.18543512 | R22: =(3*65.38)/386.11 -> 0.50798995 | S22: =(Q22*J22/(8.34))*R22 -> 9.2578954e-05 | T22: =S22*$B$17 -> 0.0022218949 | U22: =S22*$B$16 -> 0.81099163
B23: Zinc Pretreat | C23: Stage 6 | D23: Bonderite 3410 | E23: 3.4 | F23: =1.4*8.34 -> 11.676 | G23: zinc dihydrogen phosphate | H23: 7440-66-6 | I23: 0.2 | J23: =I23*(E23*F23)/(100) -> 0.0793968 | K23: 0.0048 | L23: 0.05 | M23: =0.072*(L23^2)/K23 -> 0.0375 | N23: =(1.9*K23/L23)*((((1-2*M23+9*M23^2)^0.5+(M23-1))/((1+3*M23)-(1-2*M23+9*M23^2)^0.5)))^0.5 -> 0.036667962 | O23: 10 | P23: 59 | Q23: =N23*O23*P23*60/7000 -> 0.18543512 | R23: =(1*65.38)/259.4 -> 0.25204318 | S23: =(Q23*J23/(8.34))*R23 -> 0.0004449425 | T23: =S23*$B$17 -> 0.01067862 | U23: =S23*$B$16 -> 3.8976963
B24: Zinc Pretreat | C24: Stage 6 | D24: Bonderite 3410 | E24: 3.4 | F24: =1.4*8.34 -> 11.676 | G24: nickel nitrate | H24: 7440-02-0 | I24: 0.1 | J24: =I24*(E24*F24)/(100) -> 0.0396984 | K24: 0.0048 | L24: 0.05 | M24: =0.072*(L24^2)/K24 -> 0.0375 | N24: =(1.9*K24/L24)*((((1-2*M24+9*M24^2)^0.5+(M24-1))/((1+3*M24)-(1-2*M24+9*M24^2)^0.5)))^0.5 -> 0.036667962 | O24: 10 | P24: 59 | Q24: =N24*O24*P24*60/7000 -> 0.18543512 | R24: =58.69/290.8 -> 0.20182256 | S24: =(Q24*J24/(8.34))*R24 -> 0.00017814296 | T24: =S24*$B$17 -> 0.004275431 | U24: =S24*$B$16 -> 1.5605323
B25: Zinc Pretreat | C25: Stage 6 | D25: Bonderite 3410 | E25: 3.4 | F25: =1.4*8.34 -> 11.676 | G25: phophoric acid | H25: 7664-38-2 | I25: 0.05 | J25: =I25*(E25*F25)/(100) -> 0.0198492 | K25: 0.0048 | L25: 0.05 | M25: =0.072*(L25^2)/K25 -> 0.0375 | N25: =(1.9*K25/L25)*((((1-2*M25+9*M25^2)^0.5+(M25-1))/((1+3*M25)-(1-2*M25+9*M25^2)^0.5)))^0.5 -> 0.036667962 | O25: 10 | P25: 59 | Q25: =N25*O25*P25*60/7000 -> 0.18543512 | R25: 1 | S25: =(Q25*J25/(8.34))*R25 -> 0.0004413356 | T25: =S25*$B$17 -> 0.010592054 | U25: =S25*$B$16 -> 3.8660998
B26: Zinc Pretreat | C26: Stage 6 | D26: Bonderite 3410 | E26: 3.4 | F26: =1.4*8.34 -> 11.676 | G26: zinc nitrate | H26: 7440-66-6 | I26: 0.05 | J26: =I26*(E26*F26)/(100) -> 0.0198492 | K26: 0.0048 | L26: 0.05 | M26: =0.072*(L26^2)/K26 -> 0.0375 | N26: =(1.9*K26/L26)*((((1-2*M26+9*M26^2)^0.5+(M26-1))/((1+3*M26)-(1-2*M26+9*M26^2)^0.5)))^0.5 -> 0.036667962 | O26: 10 | P26: 59 | Q26: =N26*O26*P26*60/7000 -> 0.18543512 | R26: =65.38/297.49 -> 0.21977209 | S26: =(Q26*J26/(8.34))*R26 -> 9.6993248e-05 | T26: =S26*$B$17 -> 0.0023278379 | U26: =S26*$B$16 -> 0.84966085
B27: Zinc Pretreat | C27: Stage 6 | D27: Bonderite 3410 | E27: 3.4 | F27: =1.4*8.34 -> 11.676 | G27: hydrogen fluoride | H27: 7664-39-3 | I27: 0.01 | J27: =I27*(E27*F27)/(100) -> 0.00396984 | K27: 0.0048 | L27: 0.05 | M27: =0.072*(L27^2)/K27 -> 0.0375 | N27: =(1.9*K27/L27)*((((1-2*M27+9*M27^2)^0.5+(M27-1))/((1+3*M27)-(1-2*M27+9*M27^2)^0.5)))^0.5 -> 0.036667962 | O27: 10 | P27: 59 | Q27: =N27*O27*P27*60/7000 -> 0.18543512 | R27: 1 | S27: =(Q27*J27/(8.34))*R27 -> 8.8267119e-05 | T27: =S27*$B$17 -> 0.0021184109 | U27: =S27*$B$16 -> 0.77321996 | V27: H
B28: Zinc Pretreat | C28: Stage 6 | D28: Bonderite M-AD 131 | E28: 0.042 | G28: no TACs | H28: -- | S28: 0 | T28: =S28*$B$17 -> 0 | U28: =S28*$B$16 -> 0
B29: Zinc Pretreat | C29: Stage 6 | D29: Bonderite M-AD 700 | E29: 0.042 | G29: no TACs | S29: 0 | T29: =S29*$B$17 -> 0 | U29: =S29*$B$16 -> 0
B30: Zinc Pretreat | C30: Stage 6 | D30: Bonderite C-IC 2520 | E30: 1 | F30: =1.06*8.34 -> 8.8404 | G30: nitric acid | H30: 7697-37-2 | I30: 0.1 | J30: =I30*(E30*F30)/(100) -> 0.0088404 | K30: 0.0048 | L30: 0.05 | M30: =0.072*(L30^2)/K30 -> 0.0375 | N30: =(1.9*K30/L30)*((((1-2*M30+9*M30^2)^0.5+(M30-1))/((1+3*M30)-(1-2*M30+9*M30^2)^0.5)))^0.5 -> 0.036667962 | O30: 10 | P30: 59 | Q30: =N30*O30*P30*60/7000 -> 0.18543512 | R30: 1 | S30: =(Q30*J30/(8.34))*R30 -> 0.00019656123 | T30: =S30*$B$17 -> 0.0047174696 | U30: =S30*$B$16 -> 1.7218764
Q31: Zinc Pretreat Option Total TACs | S31: =SUM(S21:S28) -> 0.0013422604 | T31: =SUM(T21:T28) -> 0.032214249 | U31: =SUM(U21:U28) -> 11.758201 | V31: =U27 -> 0.77321996 | W31: HAPs
A33: Pretreat Option | B33: Tank Process Name | C33: Tank # | D33: Additive | E33: Additive Concentration in Bath (gal/100 gal) | F33: Additive Density (lb/gal) | G33: Chemical/ TAC Pollutant | H33: CAS (See Note 2) | I33: Chemical Weight % In Additive | J33: Chemical Concentration (lb/gal) | K33: Surface Tension, σ (lbf/ft) | L33: Average Bubble Radius, Rb (Inches) | M33: Factor, a (0.072 Rb2/σ) | N33: Tank Liquid Emission Rate (grains/ft3-aeration air) | O33: Aeration Rate (cfm/ft2) | P33: Tank Surface Area (ft2) | Q33: Tank Liquid Emission Rate (lb/hr) | S33: Chemical Emission Rate (lb/hr) | T33: Chemical Emission Rate (lb/day) | U33: Chemical Emission Rate (lb/yr)
A34: Nano Option | B34: Alkaline Clean | C34: Stage 2 | D34: Bonderite NP-2 | E34: 3 | G34: no TACs | H34: -- | S34: 0 | T34: 0 | U34: 0
B35: Nano Pretreat | C35: Stage 5 | D35: Bonderite M-NT2 | E35: 4 | F35: =1.02*8.34 -> 8.5068 | G35: ammonium nitrate | H35: 6482-52-2 | I35: 0.01 | J35: =I35*(E35*F35)/(100) -> 0.00340272 | K35: 0.0048 | L35: 0.05 | M35: =0.072*(L35^2)/K35 -> 0.0375 | N35: =(1.9*K35/L35)*((((1-2*M35+9*M35^2)^0.5+(M35-1))/((1+3*M35)-(1-2*M35+9*M35^2)^0.5)))^0.5 -> 0.036667962 | O35: 10 | P35: 59 | Q35: =N35*O35*P35*60/7000 -> 0.18543512 | S35: =Q35*J35/(8.34) -> 7.5657531e-05 | T35: =S35*$B$17 -> 0.0018157807 | U35: =S35*$B$16 -> 0.66275997 | V35: 0 | W35: HAPs
A51: Electrocoating Stage (Stage 8 or Stage 9 in coating line depending on Pretreatment option used)
A54: Operating Hours | B54: 8760 | C54: hr/yr
B55: 24 | C55: hr/day
A57: Using EPA emission equation from EIIP Volume II, Chapter 6- Semiconductor MFG, Equation 6.5-5, page 6.5-6 and -7:
B59: Wx = (MWx * K * A * Pvapx)/(R*T)
A61: where:
B62: Wx = Evaporation rate of pollutant x (lb/sec)
B63: MWx = molecular weight of pollutant x (lb/lb-mole)
B64: K = gas phase mass transfer coefficient (ft/sec)= 0.00438 * U 0.78 * (18/MWx)1/3
B65: U = wind speed (mph)
B66: A - surface area (square ft)
B67: Pvapx - vapor pressure of pollutant x (psia)
B68: R = ideal gas constant= 10.73
B69: T = Temperature (oR)
A71: Toxic Air Contaminants (TACs)
A72: AquaEC 5100 Coating Component | C72: Chemical/TAC Pollutant | E72: CAS | F72: Chemical Weight % in component | G72: Chemical Molecular Weight (MW) | H72: U-Wind Speed (mph) | I72: K (ft/sec) | J72: A-Surface Area (ft2) | K72: P vapx (psia) | L72: R (psia-ft3/oR-lb-mole) | M72: T- Temperature (oR) | N72: W (lb/sec) | O72: Chemical Emission (lb/hr) | P72: Chemical Emission (lb/day) | Q72: Chemical Emission (lb/yr)
A73: Resin | C73: 1-methoxy-2-propanol | E73: 107-98-2 | F73: 0.03 | G73: 90.12 | H73: 1.7 | I73: =0.00438*(H73^0.78)*((18/G73)^0.333) -> 0.0038750255 | J73: 65 | K73: 0.242 | L73: 10.73 | M73: =85+459.67 -> 544.67 | N73: =F73*(G73*I73*J73*K73)/(L73*M73) -> 2.8197626e-05 | O73: =N73*3600 -> 0.10151145 | P73: =O73*$B$55 -> 2.4362749 | Q73: =O73*$B$54 -> 889.24033
A74: Pigment paste | C74: 2-butanol | E74: 78-92-2 | F74: 0.064 | G74: 74.12 | H74: 1.7 | I74: =0.00438*(H74^0.78)*((18/G74)^0.333) -> 0.0041356285 | J74: 65 | K74: 0.354 | L74: 10.73 | M74: =85+459.67 -> 544.67 | N74: =F74*(G74*I74*J74*K74)/(L74*M74) -> 7.7239659e-05 | O74: =N74*3600 -> 0.27806277 | P74: =O74*$B$55 -> 6.6735065 | Q74: =O74*$B$54 -> 2435.8299
A75: Pigment paste | C75: 2-butoxyethanol | E75: 111-76-2 | F75: 0.018 | G75: 118.17 | H75: 1.7 | I75: =0.00438*(H75^0.78)*((18/G75)^0.333) -> 0.0035406672 | J75: 65 | K75: 0.017 | L75: 10.73 | M75: =85+459.67 -> 544.67 | N75: =F75*(G75*I75*J75*K75)/(L75*M75) -> 1.4239474e-06 | O75: =N75*3600 -> 0.0051262106 | P75: =O75*$B$55 -> 0.12302905 | Q75: =O75*$B$54 -> 44.905605
A76: Flow additive | C76: 2-butoxyethanol | E76: 111-76-2 | F76: ='3Coating Oven (CO1)'!D33 -> 0.55 | G76: Assume all TAC in flow additive comes off in coating bath | O76: ='3Coating Oven (CO1)'!F33 -> 0.046864897 | P76: ='3Coating Oven (CO1)'!G33 -> 1.1247575 | Q76: ='3Coating Oven (CO1)'!H33 -> 410.5365
...

Sheet 5Welding (W1)
A4: Table 3-5: Emissions from Welding (W1)
A6: Operating Information
A7: Type of Welding Process | B7: GMAW | C7: (Gas Metal Arc Welding)
A8: Electrode Type | B8: E70S
A9: Annual Electrode Consumption | B9: 48000 | C9: lb/yr
A10: Daily Electrode Consumption | B10: =B9/250 *1.5 -> 288 | C10: lb/day
A12: Overall Hood capture and Cartridge Filter efficiency | B12: 0.94 | C12: (95% capture, 99% control)
A15: Criteria Pollutants
A16: Pollutant | B16: Emission Factor(1) (lb/1000 lb electrode) | C16: Controlled lb/1000 lb electrode | D16: Emission Rate (tpy)
A17: PM10 | B17: 5.2 | C17: =B17*(1-B12) -> 0.312 | D17: =C17*B9/1000/2000 -> 0.007488
A18: (1) AP-42 Table 12.19-1
A22: Toxic Air Contaminants (TACs)
A23: Pollutant | B23: CAS | C23: lb/1000 lb electrode (2) | D23: Controlled lb/1000 lb electrode | E23: Daily Emissions (lb/day) | F23: Annual Emissions (lb/yr)
A24: Chromium VI, chromate and dichromate particulate | B24: 18540-29-9 | C24: 0.001 | D24: =C24*(1-$B$12) -> 6e-05 | E24: =D24*$B$10/1000 -> 1.728e-05 | F24: =D24*$B$9/1000 -> 0.00288 | H24: H
A25: Cobalt and compounds | B25: 7440-48-4 | C25: 0.001 | D25: =C25*(1-$B$12) -> 6e-05 | E25: =D25*$B$10/1000 -> 1.728e-05 | F25: =D25*$B$9/1000 -> 0.00288 | H25: H
A26: Manganese and compounds | B26: 7439-96-5 | C26: 0.318 | D26: =C26*(1-$B$12) -> 0.01908 | E26: =D26*$B$10/1000 -> 0.00549504 | F26: =D26*$B$9/1000 -> 0.91584 | H26: H
A27: Nickel and compounds, insoluble | B27: 365 | C27: 0.001 | D27: =C27*(1-$B$12) -> 6e-05 | E27: =D27*$B$10/1000 -> 1.728e-05 | F27: =D27*$B$9/1000 -> 0.00288 | H27: H
A28: Total TACs | E28: =SUM(E24:E27) -> 0.00554688 | F28: =SUM(F24:F27) -> 0.92448 | H28: =F28 -> 0.92448 | I28: HAPs
A102: Greenhouse Gases
A103: GHG-CH4 | B103: 1.04e-05 | C103: mtCO2e/gal | E103: (3) | F103: =B103*#REF! -> #REF! | G103: MT
A104: GHG-CO2 | B104: 0.010206 | C104: mtCO2e/gal | E104: (3) | F104: =B104*#REF! -> #REF! | G104: MT
A105: GHG-N20 | B105: 2.47e-05 | C105: mtCO2e/gal | E105: (3) | F105: =B105*#REF! -> #REF! | G105: MT | H105: =SUM(F103:F105) -> #REF! | I105: MT
A106: Hazardous Air Pollutants (HAPs) | H106: =H105*1.10231 -> #REF! | I106: Short Tons
A107: Benzene | B107: 0.000776 | C107: lb/MMBtu | E107: (4) | F107: =B107*#REF!*#REF!/1000000/2000 -> #REF!
A108: Toluene | B108: 0.000281 | C108: lb/MMBtu | E108: (4) | F108: =B108*#REF!*#REF!/1000000/2000 -> #REF! | H108: 2490
A109: Xylenes | B109: 0.000193 | C109: lb/MMBtu | E109: (4) | F109: =B109*#REF!*#REF!/1000000/2000 -> #REF! | H109: =H108*1.10231 -> 2744.7519 | I109: Short Tons
A110: Formaldehyde | B110: 7.89e-05 | C110: lb/MMBtu | E110: (4) | F110: =B110*#REF!*#REF!/1000000/2000 -> #REF!
A111: Acetaldehyde | B111: 2.52e-05 | C111: lb/MMBtu | E111: (4) | F111: =B111*#REF!*#REF!/1000000/2000 -> #REF!
A112: Acrolein | B112: 7.88e-06 | C112: lb/MMBtu | E112: (4) | F112: =B112*#REF!*#REF!/1000000/2000 -> #REF!
A113: Napthalene | B113: 0.00013 | C113: lb/MMBtu | E113: (4) | F113: =B113*#REF!*#REF!/1000000/2000 -> #REF!
A114: Total PAH | B114: 0.000212 | C114: lb/MMBtu | E114: (4) | F114: =B114*#REF!*#REF!/1000000/2000 -> #REF!
A115: Total HAPs | F115: =SUM(F107:F114) -> #REF!
A117: (1) "Worst-case" emission factor derived from manufacturers specifications.
A118: (2) SCAQMD Reporting Procedures for AB2588 Table B-2 Default EF for Diesel/Distillate Oil Fuel Combustion
A119: (3) 40 CFR 98 Tbl. C-1, C-2
A120: (4) AP-42 Table 3.4-3
A121: MT = Metric Tons
A123: Potential Emissions from Non-Emergency Operations - Annual Summary
A125: NOx | B125: CO | C125: VOC | E125: PM/PM10/PM2.5 | F125: SO2 | G125: GHG-CO2e | H125: HAPs
A126: tpy
...

Sheet 6Condensing Boiler (B1)
A4: Table 3-6: Emissions from Backup Condensing Boiler (B1)
A6: Number of units | B6: 1
A7: Rating | B7: 1.6 | C7: MMBtu/hr
A8: HHV Natural Gas | B8: 1020 | C8: Btu/ft3
A9: Max. Daily Operating Hours | B9: 24
A10: Max. Annual Operating Hours | B10: 8760
A11: Expected Max. Annual Operating Capacity | B11: 0.04
A12: Max. Annual Natural Gas Usage | B12: =B6*B7*B10*B11 -> 560.64 | C12: MMBtu/yr
A13: Max. Annual Natural Gas Usage | B13: =B12/B8 -> 0.54964706 | C13: MMCF/yr
A16: Total Fuel Usage
A17: Annual Natural Gas Usage | B17: =B12 -> 560.64 | C17: MMBtu/yr
A18: Annual Natural Gas Usage | B18: =B13 -> 0.54964706 | C18: MMCF/yr
A19: Daily Natural Gas Usage | B19: =B6*B7/B8*B9 -> 0.037647059 | C19: MMCF/day
A21: Criteria Pollutants(1)
A22: Pollutant | B22: Emission Factor (lb/MMCF) | C22: Emission Rate (tpy)
A23: NOx | B23: 100 | C23: =B23*$B$18/2000 -> 0.027482353
A24: CO | B24: 84 | C24: =B24*$B$18/2000 -> 0.023085176
A25: VOC | B25: 5.5 | C25: =B25*$B$18/2000 -> 0.0015115294
A26: PM/PM10/PM2.5 | B26: 2.5 | C26: =B26*$B$18/2000 -> 0.00068705882
A27: SO2 | B27: 2.6 | C27: =B27*$B$18/2000 -> 0.00071454118
A28: (1) Emission factor from ODEQ, AQ-EF05
A30: Greenhouse Gases(2)
A31: Pollutant | B31: Emission Factor (kg/MMBtu) | C31: Emission Rate (tpy)
A32: CO2e | B32: 53.1148 | C32: =(B32*B17/1000)*1.10231 -> 32.824897
A33: (2) Emission factor from EPA, 40 CFR Part 98, Subpart C
A36: Toxic Air Contaminants (TACs)(3) | F36: Single Unit
A37: Pollutant | B37: CAS | C37: Emission Factor (lb/MMCF) | D37: Daily Emissions (lb/day) | E37: Annual Emissions (lb/yr) | F37: Daily Emissions (lb/day) | G37: Annual Emissions (lb/yr)
A38: Benzene | B38: 71-43-2 | C38: 0.008 | D38: =C38*$B$19 -> 0.00030117647 | E38: =C38*$B$18 -> 0.0043971765 | F38: =D38/$B$6 -> 0.00030117647 | G38: =E38/$B$6 -> 0.0043971765
A39: Formaldehyde | B39: 50-00-0 | C39: 0.017 | D39: =C39*$B$19 -> 0.00064 | E39: =C39*$B$18 -> 0.009344 | F39: =D39/$B$6 -> 0.00064 | G39: =E39/$B$6 -> 0.009344
A40: Polycyclic aromatic hydrocarbons (PAHs) | B40: 401 | C40: 0.0001 | D40: =C40*$B$19 -> 3.7647059e-06 | E40: =C40*$B$18 -> 5.4964706e-05 | F40: =D40/$B$6 -> 3.7647059e-06 | G40: =E40/$B$6 -> 5.4964706e-05
A41: Benzo[a]pyrene | B41: 50-32-8 | C41: 1.2e-06 | D41: =C41*$B$19 -> 4.5176471e-08 | E41: =C41*$B$18 -> 6.5957647e-07 | F41: =D41/$B$6 -> 4.5176471e-08 | G41: =E41/$B$6 -> 6.5957647e-07
A42: Naphthalene | B42: 91-20-3 | C42: 0.0003 | D42: =C42*$B$19 -> 1.1294118e-05 | E42: =C42*$B$18 -> 0.00016489412 | F42: =D42/$B$6 -> 1.1294118e-05 | G42: =E42/$B$6 -> 0.00016489412
A43: Acetaldehyde | B43: 75-07-0 | C43: 0.0043 | D43: =C43*$B$19 -> 0.00016188235 | E43: =C43*$B$18 -> 0.0023634824 | F43: =D43/$B$6 -> 0.00016188235 | G43: =E43/$B$6 -> 0.0023634824
A44: Acrolein | B44: 107-02-8 | C44: 0.0027 | D44: =C44*$B$19 -> 0.00010164706 | E44: =C44*$B$18 -> 0.0014840471 | F44: =D44/$B$6 -> 0.00010164706 | G44: =E44/$B$6 -> 0.0014840471
A45: Ammonia | B45: 7664-41-7 | C45: 3.2 | D45: =C45*$B$19 -> 0.12047059 | E45: =C45*$B$18 -> 1.7588706 | F45: =D45/$B$6 -> 0.12047059 | G45: =E45/$B$6 -> 1.7588706
A46: Arsenic and compounds | B46: 7440-38-2 | C46: 0.0002 | D46: =C46*$B$19 -> 7.5294118e-06 | E46: =C46*$B$18 -> 0.00010992941 | F46: =D46/$B$6 -> 7.5294118e-06 | G46: =E46/$B$6 -> 0.00010992941
A47: Barium and compounds | B47: 7440-39-3 | C47: 0.0044 | D47: =C47*$B$19 -> 0.00016564706 | E47: =C47*$B$18 -> 0.0024184471 | F47: =D47/$B$6 -> 0.00016564706 | G47: =E47/$B$6 -> 0.0024184471
A48: Beryllium and compounds | B48: 7440-41-7 | C48: 1.2e-05 | D48: =C48*$B$19 -> 4.5176471e-07 | E48: =C48*$B$18 -> 6.5957647e-06 | F48: =D48/$B$6 -> 4.5176471e-07 | G48: =E48/$B$6 -> 6.5957647e-06
A49: Cadmium and compounds | B49: 7440-43-9 | C49: 0.0011 | D49: =C49*$B$19 -> 4.1411765e-05 | E49: =C49*$B$18 -> 0.00060461176 | F49: =D49/$B$6 -> 4.1411765e-05 | G49: =E49/$B$6 -> 0.00060461176
A50: Chromium VI, chromate and dichromate particulate | B50: 18540-29-9 | C50: 0.0014 | D50: =C50*$B$19 -> 5.2705882e-05 | E50: =C50*$B$18 -> 0.00076950588 | F50: =D50/$B$6 -> 5.2705882e-05 | G50: =E50/$B$6 -> 0.00076950588
...

Sheet 7Building F Domestic HWH (B2)
A4: Table 3-7: Emissions from Building F Hot Water Heaters (B2)
A6: # of units | B6: 2
A7: Rating | B7: 0.16 | C7: MMBtu/hr
A8: HHV Natural Gas | B8: 1020 | C8: Btu/ft3
A9: Max. Daily Operating Hours | B9: 24
A10: Max. Annual Operating Hours | B10: 8760
A11: Expected Max. Annual Operating Capacity | B11: 0.06
A12: Max. Annual Natural Gas Usage | B12: =B6*B7*B10*B11 -> 168.192 | C12: MMBtu/yr
A13: Max. Annual Natural Gas Usage | B13: =B12/B8 -> 0.16489412 | C13: MMCF/yr
A16: Total Fuel Usage
A17: Annual Natural Gas Usage | B17: =B12 -> 168.192 | C17: MMBtu/yr
A18: Annual Natural Gas Usage | B18: =B13 -> 0.16489412 | C18: MMCF/yr
A19: Daily Natural Gas Usage | B19: =B6*B7/B8*B9 -> 0.0075294118 | C19: MMCF/day
A21: Criteria Pollutants(1)
A22: Pollutant | B22: Emission Factor (lb/MMCF) | C22: Emission Rate (tpy)
A23: NOx | B23: 100 | C23: =B23*$B$18/2000 -> 0.0082447059
A24: CO | B24: 84 | C24: =B24*$B$18/2000 -> 0.0069255529
A25: VOC | B25: 5.5 | C25: =B25*$B$18/2000 -> 0.00045345882
A26: PM/PM10/PM2.5 | B26: 2.5 | C26: =B26*$B$18/2000 -> 0.00020611765
A27: SO2 | B27: 2.6 | C27: =B27*$B$18/2000 -> 0.00021436235
A28: (1) Emission factor from ODEQ, AQ-EF05
A30: Greenhouse Gases(2)
A31: Pollutant | B31: Emission Factor (kg/MMBtu) | C31: Emission Rate (tpy)
A32: CO2e | B32: 53.1148 | C32: =(B32*B17/1000)*1.10231 -> 9.8474692
A33: (2) Emission factor from EPA, 40 CFR Part 98, Subpart C
A36: Toxic Air Contaminants (TACs)(3) | F36: Single Unit
A37: Pollutant | B37: CAS | C37: Emission Factor (lb/MMCF) | D37: Daily Emissions (lb/day) | E37: Annual Emissions (lb/yr) | F37: Daily Emissions (lb/day) | G37: Annual Emissions (lb/yr)
A38: Benzene | B38: 71-43-2 | C38: 0.008 | D38: =C38*$B$19 -> 6.0235294e-05 | E38: =C38*$B$18 -> 0.0013191529 | F38: =D38/$B$6 -> 3.0117647e-05 | G38: =E38/$B$6 -> 0.00065957647
A39: Formaldehyde | B39: 50-00-0 | C39: 0.017 | D39: =C39*$B$19 -> 0.000128 | E39: =C39*$B$18 -> 0.0028032 | F39: =D39/$B$6 -> 6.4e-05 | G39: =E39/$B$6 -> 0.0014016
A40: Polycyclic aromatic hydrocarbons (PAHs) | B40: 401 | C40: 0.0001 | D40: =C40*$B$19 -> 7.5294118e-07 | E40: =C40*$B$18 -> 1.6489412e-05 | F40: =D40/$B$6 -> 3.7647059e-07 | G40: =E40/$B$6 -> 8.2447059e-06
A41: Benzo[a]pyrene | B41: 50-32-8 | C41: 1.2e-06 | D41: =C41*$B$19 -> 9.0352941e-09 | E41: =C41*$B$18 -> 1.9787294e-07 | F41: =D41/$B$6 -> 4.5176471e-09 | G41: =E41/$B$6 -> 9.8936471e-08
A42: Naphthalene | B42: 91-20-3 | C42: 0.0003 | D42: =C42*$B$19 -> 2.2588235e-06 | E42: =C42*$B$18 -> 4.9468235e-05 | F42: =D42/$B$6 -> 1.1294118e-06 | G42: =E42/$B$6 -> 2.4734118e-05
A43: Acetaldehyde | B43: 75-07-0 | C43: 0.0043 | D43: =C43*$B$19 -> 3.2376471e-05 | E43: =C43*$B$18 -> 0.00070904471 | F43: =D43/$B$6 -> 1.6188235e-05 | G43: =E43/$B$6 -> 0.00035452235
A44: Acrolein | B44: 107-02-8 | C44: 0.0027 | D44: =C44*$B$19 -> 2.0329412e-05 | E44: =C44*$B$18 -> 0.00044521412 | F44: =D44/$B$6 -> 1.0164706e-05 | G44: =E44/$B$6 -> 0.00022260706
A45: Ammonia | B45: 7664-41-7 | C45: 3.2 | D45: =C45*$B$19 -> 0.024094118 | E45: =C45*$B$18 -> 0.52766118 | F45: =D45/$B$6 -> 0.012047059 | G45: =E45/$B$6 -> 0.26383059
A46: Arsenic and compounds | B46: 7440-38-2 | C46: 0.0002 | D46: =C46*$B$19 -> 1.5058824e-06 | E46: =C46*$B$18 -> 3.2978824e-05 | F46: =D46/$B$6 -> 7.5294118e-07 | G46: =E46/$B$6 -> 1.6489412e-05
A47: Barium and compounds | B47: 7440-39-3 | C47: 0.0044 | D47: =C47*$B$19 -> 3.3129412e-05 | E47: =C47*$B$18 -> 0.00072553412 | F47: =D47/$B$6 -> 1.6564706e-05 | G47: =E47/$B$6 -> 0.00036276706
A48: Beryllium and compounds | B48: 7440-41-7 | C48: 1.2e-05 | D48: =C48*$B$19 -> 9.0352941e-08 | E48: =C48*$B$18 -> 1.9787294e-06 | F48: =D48/$B$6 -> 4.5176471e-08 | G48: =E48/$B$6 -> 9.8936471e-07
A49: Cadmium and compounds | B49: 7440-43-9 | C49: 0.0011 | D49: =C49*$B$19 -> 8.2823529e-06 | E49: =C49*$B$18 -> 0.00018138353 | F49: =D49/$B$6 -> 4.1411765e-06 | G49: =E49/$B$6 -> 9.0691765e-05
A50: Chromium VI, chromate and dichromate particulate | B50: 18540-29-9 | C50: 0.0014 | D50: =C50*$B$19 -> 1.0541176e-05 | E50: =C50*$B$18 -> 0.00023085176 | F50: =D50/$B$6 -> 5.2705882e-06 | G50: =E50/$B$6 -> 0.00011542588
...

Sheet 8Pretreatment Heater H1
A4: Table 3-8: Emissions from Pretreatment Heater Stage 1 (H1)
A6: Number of units | B6: 1
A7: Rating | B7: 0.9 | C7: MMBtu/hr
A8: HHV Natural Gas | B8: 1020 | C8: Btu/ft3
A9: Max. Daily Operating Hours | B9: 24
A10: Max. Annual Operating Hours | B10: 8760
A11: Expected Max. Annual Operating Capacity | B11: 1
A12: Max. Annual Natural Gas Usage | B12: =B6*B7*B10*B11 -> 7884 | C12: MMBtu/yr
A13: Max. Annual Natural Gas Usage | B13: =B12/B8 -> 7.7294118 | C13: MMCF/yr
A16: Total Fuel Usage
A17: Annual Natural Gas Usage | B17: =B12 -> 7884 | C17: MMBtu/yr
A18: Annual Natural Gas Usage | B18: =B13 -> 7.7294118 | C18: MMCF/yr
A19: Daily Natural Gas Usage | B19: =B6*B7/B8*B9 -> 0.021176471 | C19: MMCF/day
A21: Criteria Pollutants(1)
A22: Pollutant | B22: Emission Factor (lb/MMCF) | C22: Emission Rate (tpy)
A23: NOx | B23: 100 | C23: =B23*$B$18/2000 -> 0.38647059
A24: CO | B24: 84 | C24: =B24*$B$18/2000 -> 0.32463529
A25: VOC | B25: 5.5 | C25: =B25*$B$18/2000 -> 0.021255882
A26: PM/PM10/PM2.5 | B26: 2.5 | C26: =B26*$B$18/2000 -> 0.0096617647
A27: SO2 | B27: 2.6 | C27: =B27*$B$18/2000 -> 0.010048235
A28: (1) Emission factor from ODEQ, AQ-EF05
A30: Greenhouse Gases(2)
A31: Pollutant | B31: Emission Factor (kg/MMBtu) | C31: Emission Rate (tpy)
A32: CO2e | B32: 53.1148 | C32: =(B32*B17/1000)*1.10231 -> 461.60012
A33: (2) Emission factor from EPA, 40 CFR Part 98, Subpart C
A36: Toxic Air Contaminants (TACs)(3) | F36: Single Unit
A37: Pollutant | B37: CAS | C37: Emission Factor (lb/MMCF) | D37: Daily Emissions (lb/day) | E37: Annual Emissions (lb/yr) | F37: Daily Emissions (lb/day) | G37: Annual Emissions (lb/yr)
A38: Benzene | B38: 71-43-2 | C38: 0.008 | D38: =C38*$B$19 -> 0.00016941176 | E38: =C38*$B$18 -> 0.061835294 | F38: =D38/$B$6 -> 0.00016941176 | G38: =E38/$B$6 -> 0.061835294
A39: Formaldehyde | B39: 50-00-0 | C39: 0.017 | D39: =C39*$B$19 -> 0.00036 | E39: =C39*$B$18 -> 0.1314 | F39: =D39/$B$6 -> 0.00036 | G39: =E39/$B$6 -> 0.1314
A40: Polycyclic aromatic hydrocarbons (PAHs) | B40: 401 | C40: 0.0001 | D40: =C40*$B$19 -> 2.1176471e-06 | E40: =C40*$B$18 -> 0.00077294118 | F40: =D40/$B$6 -> 2.1176471e-06 | G40: =E40/$B$6 -> 0.00077294118
A41: Benzo[a]pyrene | B41: 50-32-8 | C41: 1.2e-06 | D41: =C41*$B$19 -> 2.5411765e-08 | E41: =C41*$B$18 -> 9.2752941e-06 | F41: =D41/$B$6 -> 2.5411765e-08 | G41: =E41/$B$6 -> 9.2752941e-06
A42: Naphthalene | B42: 91-20-3 | C42: 0.0003 | D42: =C42*$B$19 -> 6.3529412e-06 | E42: =C42*$B$18 -> 0.0023188235 | F42: =D42/$B$6 -> 6.3529412e-06 | G42: =E42/$B$6 -> 0.0023188235
A43: Acetaldehyde | B43: 75-07-0 | C43: 0.0043 | D43: =C43*$B$19 -> 9.1058824e-05 | E43: =C43*$B$18 -> 0.033236471 | F43: =D43/$B$6 -> 9.1058824e-05 | G43: =E43/$B$6 -> 0.033236471
A44: Acrolein | B44: 107-02-8 | C44: 0.0027 | D44: =C44*$B$19 -> 5.7176471e-05 | E44: =C44*$B$18 -> 0.020869412 | F44: =D44/$B$6 -> 5.7176471e-05 | G44: =E44/$B$6 -> 0.020869412
A45: Ammonia | B45: 7664-41-7 | C45: 3.2 | D45: =C45*$B$19 -> 0.067764706 | E45: =C45*$B$18 -> 24.734118 | F45: =D45/$B$6 -> 0.067764706 | G45: =E45/$B$6 -> 24.734118
A46: Arsenic and compounds | B46: 7440-38-2 | C46: 0.0002 | D46: =C46*$B$19 -> 4.2352941e-06 | E46: =C46*$B$18 -> 0.0015458824 | F46: =D46/$B$6 -> 4.2352941e-06 | G46: =E46/$B$6 -> 0.0015458824
A47: Barium and compounds | B47: 7440-39-3 | C47: 0.0044 | D47: =C47*$B$19 -> 9.3176471e-05 | E47: =C47*$B$18 -> 0.034009412 | F47: =D47/$B$6 -> 9.3176471e-05 | G47: =E47/$B$6 -> 0.034009412
A48: Beryllium and compounds | B48: 7440-41-7 | C48: 1.2e-05 | D48: =C48*$B$19 -> 2.5411765e-07 | E48: =C48*$B$18 -> 9.2752941e-05 | F48: =D48/$B$6 -> 2.5411765e-07 | G48: =E48/$B$6 -> 9.2752941e-05
A49: Cadmium and compounds | B49: 7440-43-9 | C49: 0.0011 | D49: =C49*$B$19 -> 2.3294118e-05 | E49: =C49*$B$18 -> 0.0085023529 | F49: =D49/$B$6 -> 2.3294118e-05 | G49: =E49/$B$6 -> 0.0085023529
A50: Chromium VI, chromate and dichromate particulate | B50: 18540-29-9 | C50: 0.0014 | D50: =C50*$B$19 -> 2.9647059e-05 | E50: =C50*$B$18 -> 0.010821176 | F50: =D50/$B$6 -> 2.9647059e-05 | G50: =E50/$B$6 -> 0.010821176
...

Sheet 9IR Heaters (H4)
A4: Table 3-9: Emissions from Infrared Heaters (H4)
A6: Number of units | B6: 27
A7: Rating | B7: 0.2 | C7: MMBtu/hr
A8: HHV Natural Gas | B8: 1020 | C8: Btu/ft3
A9: Max. Daily Operating Hours | B9: 24
A10: Max. Annual Operating Hours | B10: 8760
A11: Expected Max. Annual Operating Capacity | B11: 0.13
A12: Max. Annual Natural Gas Usage | B12: =B6*B7*B10*B11 -> 6149.52 | C12: MMBtu/yr
A13: Max. Annual Natural Gas Usage | B13: =B12/B8 -> 6.0289412 | C13: MMCF/yr
A16: Total Fuel Usage
A17: Annual Natural Gas Usage | B17: =B12 -> 6149.52 | C17: MMBtu/yr
A18: Annual Natural Gas Usage | B18: =B13 -> 6.0289412 | C18: MMCF/yr
A19: Daily Natural Gas Usage | B19: =B6*B7/B8*B9 -> 0.12705882 | C19: MMCF/day
A21: Criteria Pollutants(1)
A22: Pollutant | B22: Emission Factor (lb/MMCF) | C22: Emission Rate (tpy)
A23: NOx | B23: 100 | C23: =B23*$B$18/2000 -> 0.30144706
A24: CO | B24: 84 | C24: =B24*$B$18/2000 -> 0.25321553
A25: VOC | B25: 5.5 | C25: =B25*$B$18/2000 -> 0.016579588
A26: PM/PM10/PM2.5 | B26: 2.5 | C26: =B26*$B$18/2000 -> 0.0075361765
A27: SO2 | B27: 2.6 | C27: =B27*$B$18/2000 -> 0.0078376235
A28: (1) Emission factor from ODEQ, AQ-EF05
A30: Greenhouse Gases(2)
A31: Pollutant | B31: Emission Factor (kg/MMBtu) | C31: Emission Rate (tpy)
A32: CO2e | B32: 53.1148 | C32: =(B32*B17/1000)*1.10231 -> 360.04809
A33: (2) Emission factor from EPA, 40 CFR Part 98, Subpart C
A36: Toxic Air Contaminants (TACs)(3) | F36: Single Unit
A37: Pollutant | B37: CAS | C37: Emission Factor (lb/MMCF) | D37: Daily Emissions (lb/day) | E37: Annual Emissions (lb/yr) | F37: Daily Emissions (lb/day) | G37: Annual Emissions (lb/yr)
A38: Benzene | B38: 71-43-2 | C38: 0.008 | D38: =C38*$B$19 -> 0.0010164706 | E38: =C38*$B$18 -> 0.048231529 | F38: =D38/$B$6 -> 3.7647059e-05 | G38: =E38/$B$6 -> 0.0017863529
A39: Formaldehyde | B39: 50-00-0 | C39: 0.017 | D39: =C39*$B$19 -> 0.00216 | E39: =C39*$B$18 -> 0.102492 | F39: =D39/$B$6 -> 8e-05 | G39: =E39/$B$6 -> 0.003796
A40: Polycyclic aromatic hydrocarbons (PAHs) | B40: 401 | C40: 0.0001 | D40: =C40*$B$19 -> 1.2705882e-05 | E40: =C40*$B$18 -> 0.00060289412 | F40: =D40/$B$6 -> 4.7058824e-07 | G40: =E40/$B$6 -> 2.2329412e-05
A41: Benzo[a]pyrene | B41: 50-32-8 | C41: 1.2e-06 | D41: =C41*$B$19 -> 1.5247059e-07 | E41: =C41*$B$18 -> 7.2347294e-06 | F41: =D41/$B$6 -> 5.6470588e-09 | G41: =E41/$B$6 -> 2.6795294e-07
A42: Naphthalene | B42: 91-20-3 | C42: 0.0003 | D42: =C42*$B$19 -> 3.8117647e-05 | E42: =C42*$B$18 -> 0.0018086824 | F42: =D42/$B$6 -> 1.4117647e-06 | G42: =E42/$B$6 -> 6.6988235e-05
A43: Acetaldehyde | B43: 75-07-0 | C43: 0.0043 | D43: =C43*$B$19 -> 0.00054635294 | E43: =C43*$B$18 -> 0.025924447 | F43: =D43/$B$6 -> 2.0235294e-05 | G43: =E43/$B$6 -> 0.00096016471
A44: Acrolein | B44: 107-02-8 | C44: 0.0027 | D44: =C44*$B$19 -> 0.00034305882 | E44: =C44*$B$18 -> 0.016278141 | F44: =D44/$B$6 -> 1.2705882e-05 | G44: =E44/$B$6 -> 0.00060289412
A45: Ammonia | B45: 7664-41-7 | C45: 3.2 | D45: =C45*$B$19 -> 0.40658824 | E45: =C45*$B$18 -> 19.292612 | F45: =D45/$B$6 -> 0.015058824 | G45: =E45/$B$6 -> 0.71454118
A46: Arsenic and compounds | B46: 7440-38-2 | C46: 0.0002 | D46: =C46*$B$19 -> 2.5411765e-05 | E46: =C46*$B$18 -> 0.0012057882 | F46: =D46/$B$6 -> 9.4117647e-07 | G46: =E46/$B$6 -> 4.4658824e-05
A47: Barium and compounds | B47: 7440-39-3 | C47: 0.0044 | D47: =C47*$B$19 -> 0.00055905882 | E47: =C47*$B$18 -> 0.026527341 | F47: =D47/$B$6 -> 2.0705882e-05 | G47: =E47/$B$6 -> 0.00098249412
A48: Beryllium and compounds | B48: 7440-41-7 | C48: 1.2e-05 | D48: =C48*$B$19 -> 1.5247059e-06 | E48: =C48*$B$18 -> 7.2347294e-05 | F48: =D48/$B$6 -> 5.6470588e-08 | G48: =E48/$B$6 -> 2.6795294e-06
A49: Cadmium and compounds | B49: 7440-43-9 | C49: 0.0011 | D49: =C49*$B$19 -> 0.00013976471 | E49: =C49*$B$18 -> 0.0066318353 | F49: =D49/$B$6 -> 5.1764706e-06 | G49: =E49/$B$6 -> 0.00024562353
A50: Chromium VI, chromate and dichromate particulate | B50: 18540-29-9 | C50: 0.0014 | D50: =C50*$B$19 -> 0.00017788235 | E50: =C50*$B$18 -> 0.0084405176 | F50: =D50/$B$6 -> 6.5882353e-06 | G50: =E50/$B$6 -> 0.00031261176
...
