Workbook
Name ______API2: #REF!
Name ______MW2: #REF!
Name ______new1: '[1]x-Vasquez-Beggs Equation (VBE)'!$F$8
Name ______new2: '[1]x-MACRO1'!$C$1
Name ______new3: '[1]x-MACRO1'!$C$1
Name ______SG2: #REF!
Name ______SGi2: #REF!
Name ______SGx2: #REF!
Name ______THC2: #REF!
Name ______Ti2: #REF!
Name ______VOC2: '[1]Vasquez-Beggs Equation (VBE)'!#REF!
Name _____API2: #REF!
Name _____MW2: #REF!
Name _____new1: '[1]x-Vasquez-Beggs Equation (VBE)'!$F$8
Name _____new2: '[1]x-MACRO1'!$C$1
Name _____new3: '[1]x-MACRO1'!$C$1
Name _____SG2: #REF!
Name _____SGi2: #REF!
Name _____SGx2: #REF!
Name _____THC2: #REF!
Name _____Ti2: #REF!
Name _____VOC2: '[1]Vasquez-Beggs Equation (VBE)'!#REF!
Name ____API2: #REF!
Name ____MW2: #REF!
Name ____new1: '[1]x-Vasquez-Beggs Equation (VBE)'!$F$8
Name ____new2: '[1]x-MACRO1'!$C$1
Name ____new3: '[1]x-MACRO1'!$C$1
Name ____SG2: #REF!
Name ____SGi2: #REF!
Name ____SGx2: #REF!
Name ____THC2: #REF!
Name ____Ti2: #REF!
Name ____VOC2: '[1]Vasquez-Beggs Equation (VBE)'!#REF!
Name ___API2: #REF!
Name ___MW2: #REF!
Name ___new1: '[1]x-Vasquez-Beggs Equation (VBE)'!$F$8
Name ___new2: '[1]x-MACRO1'!$C$1
Name ___new3: '[1]x-MACRO1'!$C$1
Name ___SG2: #REF!
Name ___SGi2: #REF!
Name ___SGx2: #REF!
Name ___THC2: #REF!
Name ___Ti2: #REF!
Name ___VOC2: '[1]Vasquez-Beggs Equation (VBE)'!#REF!
Name __API2: #REF!
Name __MW2: #REF!
Name __new1: '[1]x-Vasquez-Beggs Equation (VBE)'!$F$8
Name __new2: '[1]x-MACRO1'!$C$1
Name __new3: '[1]x-MACRO1'!$C$1
Name __SG2: #REF!
Name __SGi2: #REF!
Name __SGx2: #REF!
Name __THC2: #REF!
Name __Ti2: #REF!
Name __VOC2: '[1]Vasquez-Beggs Equation (VBE)'!#REF!
Name _01_Apr_00_00_00: '[2]Table 3-1'!#REF!
Name _01_Apr_01_00_00: '[2]Table 3-1'!#REF!
Name _01_Apr_99_00_00: '[2]Table 3-1'!#REF!
Name _01_Aug_00_00_00: '[2]Table 3-1'!#REF!
Name _01_Aug_01_00_00: '[2]Table 3-1'!#REF!

Sheet Emission summary
A3: Table 3-10: Plant Site Emission Summary
A5: Pollutant | C5: Emission Sources
C6: Pretreatment Heater Stage 2 (H2) | D6: Coating Oven- Burner (H3) | E6: Coating Oven (CO1) | F6: Coating Line Baths (CL1)* | G6: Welding (W1) | H6: Laser Cutting (L1) | I6: Emission Total
A7: NOx | B7: Tons/yr | C7: ='1Pretreatment Heater H2'!C25 -> 0.38647059 | D7: ='2Coating Oven Burner H3'!C23 -> 1.7176471 | I7: =SUM(C7:H7) -> 2.1041176
A8: CO | B8: Tons/yr | C8: ='1Pretreatment Heater H2'!C26 -> 0.32463529 | D8: ='2Coating Oven Burner H3'!C24 -> 1.4428235 | I8: =SUM(C8:H8) -> 1.7674588
A9: VOC | B9: Tons/yr | C9: ='1Pretreatment Heater H2'!C27 -> 0.021255882 | D9: ='2Coating Oven Burner H3'!C25 -> 0.094470588 | E9: ='3Coating Oven (CO1)'!I26 -> 19.918549 | I9: =SUM(C9:H9) -> 20.034276
A10: PM/PM10/PM2.5 | B10: Tons/yr | C10: ='1Pretreatment Heater H2'!C28 -> 0.0096617647 | D10: ='2Coating Oven Burner H3'!C26 -> 0.042941176 | G10: ='5Welding (W1)'!D21 -> 0.018252 | H10: ='Laser Cutters (L1)'!R10 -> 5.635952 | I10: =SUM(C10:H10) -> 5.7068069
A11: SO2 | B11: Tons/yr | C11: ='1Pretreatment Heater H2'!C29 -> 0.010048235 | D11: ='2Coating Oven Burner H3'!C27 -> 0.044658824 | I11: =SUM(C11:H11) -> 0.054707059
A12: CO2e | B12: Tons/yr | C12: ='1Pretreatment Heater H2'!C35 -> 461.60012 | D12: ='2Coating Oven Burner H3'!C32 -> 2051.5561 | I12: =SUM(C12:H12) -> 2513.1562
A13: Hazardous Air Pollutants | B13: lb/yr | C13: ='1Pretreatment Heater H2'!J68 -> 0.91254363 | D13: ='2Coating Oven Burner H3'!I65 -> 4.0557495 | E13: ='3Coating Oven (CO1)'!K35 -> 0 | F13: ='4Coating Line Baths (CL1)'!V31+'4Coating Line Baths (CL1)'!V35+'4Coating Line Baths (CL1)'!S86 -> 2.3337523 | G13: ='5Welding (W1)'!H32 -> 2.25342 | H13: ='Laser Cutters (L1)'!K22 -> 25.118449 | I13: =SUM(C13:H13) -> 34.673914
A14: Toxic Air Contaminants | B14: lb/yr | C14: ='1Pretreatment Heater H2'!H68 -> 25.941925 | D14: ='2Coating Oven Burner H3'!G65 -> 115.29744 | E14: ='3Coating Oven (CO1)'!G35 -> 41045.854 | F14: ='4Coating Line Baths (CL1)'!Q86 -> 4601.5853 | G14: ='5Welding (W1)'!F32 -> 2.25342 | H14: ='Laser Cutters (L1)'!I23 -> 475.37225 | I14: =SUM(C14:H14) -> 46266.304
A15: * 100% VOC in coating calculated as being emitted from Coating Oven
A20: Table 3-11: Emission Summary for Natural Gas-Fired Categorically Insignificant Activities
C22: Natural Gas-Fired Categorically Insignificant Activities (CIA)
A23: Pollutant | C23: Back-up Condensing Boiler (B1) | D23: Building F Domestic Hot Water Heaters (B2) | E23: Pretreatment Heater Stage 1 (H1) | F23: Infrared Radiant Heating Units (H4) | G23: CIA Emissions Total
A24: NOx | B24: Tons/yr | C24: ='6Condensing Boiler (B1)'!C23 -> 0.027482353 | D24: ='7Building F Domestic HWH (B2)'!C23 -> 0.0082447059 | E24: ='8Pretreatment Heater H1'!C23 -> 0.38647059 | F24: ='9IR Heaters (H4)'!C23 -> 2.3188235 | G24: =SUM(C24:F24) -> 2.7410212
A25: CO | B25: Tons/yr | C25: ='6Condensing Boiler (B1)'!C24 -> 0.023085176 | D25: ='7Building F Domestic HWH (B2)'!C24 -> 0.0069255529 | E25: ='8Pretreatment Heater H1'!C24 -> 0.32463529 | F25: ='9IR Heaters (H4)'!C24 -> 1.9478118 | G25: =SUM(C25:F25) -> 2.3024578
A26: VOC | B26: Tons/yr | C26: ='6Condensing Boiler (B1)'!C25 -> 0.0015115294 | D26: ='7Building F Domestic HWH (B2)'!C25 -> 0.00045345882 | E26: ='8Pretreatment Heater H1'!C25 -> 0.021255882 | F26: ='9IR Heaters (H4)'!C25 -> 0.12753529 | G26: =SUM(C26:F26) -> 0.15075616
A27: PM/PM10/PM2.5 | B27: Tons/yr | C27: ='6Condensing Boiler (B1)'!C26 -> 0.00068705882 | D27: ='7Building F Domestic HWH (B2)'!C26 -> 0.00020611765 | E27: ='8Pretreatment Heater H1'!C26 -> 0.0096617647 | F27: ='9IR Heaters (H4)'!C26 -> 0.057970588 | G27: =SUM(C27:F27) -> 0.068525529
A28: SO2 | B28: Tons/yr | C28: ='6Condensing Boiler (B1)'!C27 -> 0.00071454118 | D28: ='7Building F Domestic HWH (B2)'!C27 -> 0.00021436235 | E28: ='8Pretreatment Heater H1'!C27 -> 0.010048235 | F28: ='9IR Heaters (H4)'!C27 -> 0.060289412 | G28: =SUM(C28:F28) -> 0.071266551
A29: CO2e | B29: Tons/yr | C29: ='6Condensing Boiler (B1)'!C32 -> 32.824897 | D29: ='7Building F Domestic HWH (B2)'!C32 -> 9.8474692 | E29: ='8Pretreatment Heater H1'!C32 -> 461.60012 | F29: ='9IR Heaters (H4)'!C32 -> 2769.6007 | G29: =SUM(C29:F29) -> 3273.8732

Sheet 6Condensing Boiler (B1)
A4: Table 3-6: Emissions from Backup Condensing Boiler (B1)
A6: Number of units | B6: 1
A7: Rating | B7: 1.6 | C7: MMBtu/hr | F7: KN-16 boiler cut sheet says input capacity is 1600 MBH
A8: HHV Natural Gas | B8: 1020 | C8: Btu/ft3
A9: Max. Daily Operating Hours | B9: 24
A10: Max. Annual Operating Hours | B10: 8760
A11: Expected Max. Annual Operating Capacity | B11: 0.04 | F11: Response from Arcimoto run 1000 hr/yr at 30% capacity (1000/8760 * .3 = 3.4% round to 4%)
A12: Max. Annual Natural Gas Usage | B12: =B6*B7*B10*B11 -> 560.64 | C12: MMBtu/yr
A13: Max. Annual Natural Gas Usage | B13: =B12/B8 -> 0.54964706 | C13: MMCF/yr
A16: Total Fuel Usage
A17: Annual Natural Gas Usage | B17: =B12 -> 560.64 | C17: MMBtu/yr
A18: Annual Natural Gas Usage | B18: =B13 -> 0.54964706 | C18: MMCF/yr
A19: Daily Natural Gas Usage | B19: =B6*B7/B8*B9 -> 0.037647059 | C19: MMCF/day
A21: Criteria Pollutants(1)
A22: Pollutant | B22: Emission Factor (lb/MMCF) | C22: Emission Rate (tpy)
A23: NOx | B23: 100 | C23: =B23*$B$18/2000 -> 0.027482353
A24: CO | B24: 84 | C24: =B24*$B$18/2000 -> 0.023085176
A25: VOC | B25: 5.5 | C25: =B25*$B$18/2000 -> 0.0015115294
A26: PM/PM10/PM2.5 | B26: 2.5 | C26: =B26*$B$18/2000 -> 0.00068705882
A27: SO2 | B27: 2.6 | C27: =B27*$B$18/2000 -> 0.00071454118
A28: (1) Emission factor from ODEQ, AQ-EF05
A30: Greenhouse Gases(2)
A31: Pollutant | B31: Emission Factor (kg/MMBtu) | C31: Emission Rate (tpy)
A32: CO2e | B32: 53.1148 | C32: =(B32*B17/1000)*1.10231 -> 32.824897
A33: (2) Emission factor from EPA, 40 CFR Part 98, Subpart C
A36: Toxic Air Contaminants (TACs)(3) | F36: Single Unit
A37: Pollutant | B37: CAS | C37: Emission Factor (lb/MMCF) | D37: Daily Emissions (lb/day) | E37: Annual Emissions (lb/yr) | F37: Daily Emissions (lb/day) | G37: Annual Emissions (lb/yr)
A38: Benzene | B38: 71-43-2 | C38: 0.008 | D38: =C38*$B$19 -> 0.00030117647 | E38: =C38*$B$18 -> 0.0043971765 | F38: =D38/$B$6 -> 0.00030117647 | G38: =E38/$B$6 -> 0.0043971765
A39: Formaldehyde | B39: 50-00-0 | C39: 0.017 | D39: =C39*$B$19 -> 0.00064 | E39: =C39*$B$18 -> 0.009344 | F39: =D39/$B$6 -> 0.00064 | G39: =E39/$B$6 -> 0.009344
A40: Polycyclic aromatic hydrocarbons (PAHs) | B40: 401 | C40: 0.0001 | D40: =C40*$B$19 -> 3.7647059e-06 | E40: =C40*$B$18 -> 5.4964706e-05 | F40: =D40/$B$6 -> 3.7647059e-06 | G40: =E40/$B$6 -> 5.4964706e-05
A41: Benzo[a]pyrene | B41: 50-32-8 | C41: 1.2e-06 | D41: =C41*$B$19 -> 4.5176471e-08 | E41: =C41*$B$18 -> 6.5957647e-07 | F41: =D41/$B$6 -> 4.5176471e-08 | G41: =E41/$B$6 -> 6.5957647e-07
A42: Naphthalene | B42: 91-20-3 | C42: 0.0003 | D42: =C42*$B$19 -> 1.1294118e-05 | E42: =C42*$B$18 -> 0.00016489412 | F42: =D42/$B$6 -> 1.1294118e-05 | G42: =E42/$B$6 -> 0.00016489412
A43: Acetaldehyde | B43: 75-07-0 | C43: 0.0043 | D43: =C43*$B$19 -> 0.00016188235 | E43: =C43*$B$18 -> 0.0023634824 | F43: =D43/$B$6 -> 0.00016188235 | G43: =E43/$B$6 -> 0.0023634824
A44: Acrolein | B44: 107-02-8 | C44: 0.0027 | D44: =C44*$B$19 -> 0.00010164706 | E44: =C44*$B$18 -> 0.0014840471 | F44: =D44/$B$6 -> 0.00010164706 | G44: =E44/$B$6 -> 0.0014840471
A45: Ammonia | B45: 7664-41-7 | C45: 3.2 | D45: =C45*$B$19 -> 0.12047059 | E45: =C45*$B$18 -> 1.7588706 | F45: =D45/$B$6 -> 0.12047059 | G45: =E45/$B$6 -> 1.7588706
A46: Arsenic and compounds | B46: 7440-38-2 | C46: 0.0002 | D46: =C46*$B$19 -> 7.5294118e-06 | E46: =C46*$B$18 -> 0.00010992941 | F46: =D46/$B$6 -> 7.5294118e-06 | G46: =E46/$B$6 -> 0.00010992941
A47: Barium and compounds | B47: 7440-39-3 | C47: 0.0044 | D47: =C47*$B$19 -> 0.00016564706 | E47: =C47*$B$18 -> 0.0024184471 | F47: =D47/$B$6 -> 0.00016564706 | G47: =E47/$B$6 -> 0.0024184471
A48: Beryllium and compounds | B48: 7440-41-7 | C48: 1.2e-05 | D48: =C48*$B$19 -> 4.5176471e-07 | E48: =C48*$B$18 -> 6.5957647e-06 | F48: =D48/$B$6 -> 4.5176471e-07 | G48: =E48/$B$6 -> 6.5957647e-06
A49: Cadmium and compounds | B49: 7440-43-9 | C49: 0.0011 | D49: =C49*$B$19 -> 4.1411765e-05 | E49: =C49*$B$18 -> 0.00060461176 | F49: =D49/$B$6 -> 4.1411765e-05 | G49: =E49/$B$6 -> 0.00060461176
A50: Chromium VI, chromate and dichromate particulate | B50: 18540-29-9 | C50: 0.0014 | D50: =C50*$B$19 -> 5.2705882e-05 | E50: =C50*$B$18 -> 0.00076950588 | F50: =D50/$B$6 -> 5.2705882e-05 | G50: =E50/$B$6 -> 0.00076950588
A51: Cobalt and compounds | B51: 7440-48-4 | C51: 8.4e-05 | D51: =C51*$B$19 -> 3.1623529e-06 | E51: =C51*$B$18 -> 4.6170353e-05 | F51: =D51/$B$6 -> 3.1623529e-06 | G51: =E51/$B$6 -> 4.6170353e-05
A52: Copper and compounds | B52: 7440-50-8 | C52: 0.00085 | D52: =C52*$B$19 -> 3.2e-05 | E52: =C52*$B$18 -> 0.0004672 | F52: =D52/$B$6 -> 3.2e-05 | G52: =E52/$B$6 -> 0.0004672
... A58: Molybdenum trioxide | B58: 1313-27-5 | C58: 0.00165 | D58: =C58*$B$19 -> 6.2117647e-05 | E58: =C58*$B$18 -> 0.00090691765 | F58: =D58/$B$6 -> 6.2117647e-05 | G58: =E58/$B$6 -> 0.00090691765
A59: Nickel compounds, insoluble | B59: 365 | C59: 0.0021 | D59: =C59*$B$19 -> 7.9058824e-05 | E59: =C59*$B$18 -> 0.0011542588 | F59: =D59/$B$6 -> 7.9058824e-05 | G59: =E59/$B$6 -> 0.0011542588
A60: Selenium and compounds | B60: 7782-49-2 | C60: 2.4e-05 | D60: =C60*$B$19 -> 9.0352941e-07 | E60: =C60*$B$18 -> 1.3191529e-05 | F60: =D60/$B$6 -> 9.0352941e-07 | G60: =E60/$B$6 -> 1.3191529e-05
A61: Toluene | B61: 108-88-3 | C61: 0.0366 | D61: =C61*$B$19 -> 0.0013778824 | E61: =C61*$B$18 -> 0.020117082 | F61: =D61/$B$6 -> 0.0013778824 | G61: =E61/$B$6 -> 0.020117082
A62: Vanadium (fume or dust) | B62: 7440-62-2 | C62: 0.0023 | D62: =C62*$B$19 -> 8.6588235e-05 | E62: =C62*$B$18 -> 0.0012641882 | F62: =D62/$B$6 -> 8.6588235e-05 | G62: =E62/$B$6 -> 0.0012641882
A63: Xylene (mixture), including m-xylene, o-xylene, p-xylene | B63: 1330-20-7 | C63: 0.0272 | D63: =C63*$B$19 -> 0.001024 | E63: =C63*$B$18 -> 0.0149504 | F63: =D63/$B$6 -> 0.001024 | G63: =E63/$B$6 -> 0.0149504
A64: Zinc and compounds | B64: 7440-66-6 | C64: 0.029 | D64: =C64*$B$19 -> 0.0010917647 | E64: =C64*$B$18 -> 0.015939765 | F64: =D64/$B$6 -> 0.0010917647 | G64: =E64/$B$6 -> 0.015939765
A65: Total TACs | D65: =SUM(D38:D64) -> 0.12635336 | E65: =SUM(E38:E64) -> 1.8447591 | F65: =SUM(F38:F64) -> 0.12635336 | G65: =SUM(G38:G64) -> 1.8447591
A139: Greenhouse Gases
A140: GHG-CH4 | B140: 1.04e-05 | C140: mtCO2e/gal | D140: (3) | E140: =B140*#REF! -> #REF! | F140: MT
A141: GHG-CO2 | B141: 0.010206 | C141: mtCO2e/gal | D141: (3) | E141: =B141*#REF! -> #REF! | F141: MT
A142: GHG-N20 | B142: 2.47e-05 | C142: mtCO2e/gal | D142: (3) | E142: =B142*#REF! -> #REF! | F142: MT | G142: =SUM(E140:E142) -> #REF! | H142: MT
A143: Hazardous Air Pollutants (HAPs) | G143: =G142*1.10231 -> #REF! | H143: Short Tons
A144: Benzene | B144: 0.000776 | C144: lb/MMBtu | D144: (4) | E144: =B144*#REF!*#REF!/1000000/2000 -> #REF!
A145: Toluene | B145: 0.000281 | C145: lb/MMBtu | D145: (4) | E145: =B145*#REF!*#REF!/1000000/2000 -> #REF! | G145: 2490
A146: Xylenes | B146: 0.000193 | C146: lb/MMBtu | D146: (4) | E146: =B146*#REF!*#REF!/1000000/2000 -> #REF! | G146: =G145*1.10231 -> 2744.7519 | H146: Short Tons
A147: Formaldehyde | B147: 7.89e-05 | C147: lb/MMBtu | D147: (4) | E147: =B147*#REF!*#REF!/1000000/2000 -> #REF!
A148: Acetaldehyde | B148: 2.52e-05 | C148: lb/MMBtu | D148: (4) | E148: =B148*#REF!*#REF!/1000000/2000 -> #REF!
A149: Acrolein | B149: 7.88e-06 | C149: lb/MMBtu | D149: (4) | E149: =B149*#REF!*#REF!/1000000/2000 -> #REF!
A150: Napthalene | B150: 0.00013 | C150: lb/MMBtu | D150: (4) | E150: =B150*#REF!*#REF!/1000000/2000 -> #REF!
A151: Total PAH | B151: 0.000212 | C151: lb/MMBtu | D151: (4) | E151: =B151*#REF!*#REF!/1000000/2000 -> #REF!
A152: Total HAPs | E152: =SUM(E144:E151) -> #REF!
A154: (1) "Worst-case" emission factor derived from manufacturers specifications.
A155: (2) SCAQMD Reporting Procedures for AB2588 Table B-2 Default EF for Diesel/Distillate Oil Fuel Combustion
A156: (3) 40 CFR 98 Tbl. C-1, C-2
A157: (4) AP-42 Table 3.4-3
A158: MT = Metric Tons
A160: Potential Emissions from Non-Emergency Operations - Annual Summary
A162: NOx | B162: CO | C162: VOC | D162: PM/PM10/PM2.5 | E162: SO2 | F162: GHG-CO2e | G162: HAPs
A163: tpy
A164: =#REF! -> #REF! | B164: =#REF! -> #REF! | C164: =#REF! -> #REF! | D164: =#REF! -> #REF! | E164: =#REF! -> #REF! | F164: =SUM(E140:E142) -> #REF! | G164: =E152 -> #REF!
A179: ULSD Fuel Use | B179: 624500 | C179: gal/yr
A180: ULSD Heating Value | B180: 138000 | C180: Btu/gal
A182: Pollutant | B182: Emission Factor | E182: Potential Emissions (tpy)
B183: Value | C183: Units | D183: Reference
A184: Criteria Pollutants
A185: NOx | B185: =#REF! -> #REF! | C185: lb/gal | D185: (1) | E185: =B185*$B$179/2000 -> #REF!
A186: CO | B186: =#REF! -> #REF! | C186: lb/gal | D186: (1) | E186: =B186*$B$179/2000 -> #REF!
A187: VOC | B187: =#REF! -> #REF! | C187: lb/gal | D187: (1) | E187: =B187*$B$179/2000 -> #REF!
A188: PM/PM10/PM2.5 | B188: =#REF! -> #REF! | C188: lb/gal | D188: (1) | E188: =B188*$B$179/2000 -> #REF!
A189: SO2 | B189: =#REF! -> #REF! | C189: lb/gal | D189: (1) | E189: =B189*$B$179/2000 -> #REF!
A190: Lead | B190: 0.0083 | C190: lb/kgal | D190: (2) | E190: =B190*B179/1000/2000 -> 0.002591675
A191: Greenhouse Gases
A192: GHG-CH4 | B192: 1.04e-05 | C192: mtCO2e/gal | D192: (3) | E192: =B192*$B$179 -> 6.4948 | F192: MT
A193: GHG-CO2 | B193: 0.010206 | C193: mtCO2e/gal | D193: (3) | E193: =B193*$B$179 -> 6373.647 | F193: MT
A194: GHG-N20 | B194: 2.47e-05 | C194: mtCO2e/gal | D194: (3) | E194: =B194*$B$179 -> 15.42515 | F194: MT
A195: Hazardous Air Pollutants (HAPs)
A196: Benzene | B196: 0.000776 | C196: lb/MMBtu | D196: (4) | E196: =B196*$B$179*$B$180/1000000/2000 -> 0.033438228
A197: Toluene | B197: 0.000281 | C197: lb/MMBtu | D197: (4) | E197: =B197*$B$179*$B$180/1000000/2000 -> 0.012108431
A198: Xylenes | B198: 0.000193 | C198: lb/MMBtu | D198: (4) | E198: =B198*$B$179*$B$180/1000000/2000 -> 0.0083164665
A199: Formaldehyde | B199: 7.89e-05 | C199: lb/MMBtu | D199: (4) | E199: =B199*$B$179*$B$180/1000000/2000 -> 0.0033998404
A200: Acetaldehyde | B200: 2.52e-05 | C200: lb/MMBtu | D200: (4) | E200: =B200*$B$179*$B$180/1000000/2000 -> 0.0010858806
A201: Acrolein | B201: 7.88e-06 | C201: lb/MMBtu | D201: (4) | E201: =B201*$B$179*$B$180/1000000/2000 -> 0.00033955314
A202: Napthalene | B202: 0.00013 | C202: lb/MMBtu | D202: (4) | E202: =B202*$B$179*$B$180/1000000/2000 -> 0.005601765
A203: Total PAH | B203: 0.000212 | C203: lb/MMBtu | D203: (4) | E203: =B203*$B$179*$B$180/1000000/2000 -> 0.009135186
A204: Total HAPs | E204: =SUM(E196:E203) -> 0.07342535
A206: (1) "Worst-case" emission factor derived from manufacturers specifications.
A207: (2) SCAQMD Reporting Procedures for AB2588 Table B-2 Default EF for Diesel/Distillate Oil Fuel Combustion
...

Sheet 7Building F Domestic HWH (B2)
A4: Table 3-7: Emissions from Building F Hot Water Heaters (B2)
A6: # of units | B6: 2 | H6: From SD PPD_210430.pdf page 3 of project description (page 31 of pdf)
A7: Rating | B7: 0.16 | C7: MMBtu/hr
A8: HHV Natural Gas | B8: 1020 | C8: Btu/ft3
A9: Max. Daily Operating Hours | B9: 24
A10: Max. Annual Operating Hours | B10: 8760
A11: Expected Max. Annual Operating Capacity | B11: 0.06 | H11: Response from Arcimoto is 3200 hr/yr at 15% (3200/8760 * .15 = 5.5% Rnd to 6%)
A12: Max. Annual Natural Gas Usage | B12: =B6*B7*B10*B11 -> 168.192 | C12: MMBtu/yr
A13: Max. Annual Natural Gas Usage | B13: =B12/B8 -> 0.16489412 | C13: MMCF/yr
A16: Total Fuel Usage
A17: Annual Natural Gas Usage | B17: =B12 -> 168.192 | C17: MMBtu/yr
A18: Annual Natural Gas Usage | B18: =B13 -> 0.16489412 | C18: MMCF/yr
A19: Daily Natural Gas Usage | B19: =B6*B7/B8*B9 -> 0.0075294118 | C19: MMCF/day
A21: Criteria Pollutants(1)
A22: Pollutant | B22: Emission Factor (lb/MMCF) | C22: Emission Rate (tpy)
A23: NOx | B23: 100 | C23: =B23*$B$18/2000 -> 0.0082447059
A24: CO | B24: 84 | C24: =B24*$B$18/2000 -> 0.0069255529
A25: VOC | B25: 5.5 | C25: =B25*$B$18/2000 -> 0.00045345882
A26: PM/PM10/PM2.5 | B26: 2.5 | C26: =B26*$B$18/2000 -> 0.00020611765
A27: SO2 | B27: 2.6 | C27: =B27*$B$18/2000 -> 0.00021436235
A28: (1) Emission factor from ODEQ, AQ-EF05
A30: Greenhouse Gases(2)
A31: Pollutant | B31: Emission Factor (kg/MMBtu) | C31: Emission Rate (tpy)
A32: CO2e | B32: 53.1148 | C32: =(B32*B17/1000)*1.10231 -> 9.8474692
A33: (2) Emission factor from EPA, 40 CFR Part 98, Subpart C
A36: Toxic Air Contaminants (TACs)(3) | F36: Single Unit
A37: Pollutant | B37: CAS | C37: Emission Factor (lb/MMCF) | D37: Daily Emissions (lb/day) | E37: Annual Emissions (lb/yr) | F37: Daily Emissions (lb/day) | G37: Annual Emissions (lb/yr)
A38: Benzene | B38: 71-43-2 | C38: 0.008 | D38: =C38*$B$19 -> 6.0235294e-05 | E38: =C38*$B$18 -> 0.0013191529 | F38: =D38/$B$6 -> 3.0117647e-05 | G38: =E38/$B$6 -> 0.00065957647
A39: Formaldehyde | B39: 50-00-0 | C39: 0.017 | D39: =C39*$B$19 -> 0.000128 | E39: =C39*$B$18 -> 0.0028032 | F39: =D39/$B$6 -> 6.4e-05 | G39: =E39/$B$6 -> 0.0014016
A40: Polycyclic aromatic hydrocarbons (PAHs) | B40: 401 | C40: 0.0001 | D40: =C40*$B$19 -> 7.5294118e-07 | E40: =C40*$B$18 -> 1.6489412e-05 | F40: =D40/$B$6 -> 3.7647059e-07 | G40: =E40/$B$6 -> 8.2447059e-06
A41: Benzo[a]pyrene | B41: 50-32-8 | C41: 1.2e-06 | D41: =C41*$B$19 -> 9.0352941e-09 | E41: =C41*$B$18 -> 1.9787294e-07 | F41: =D41/$B$6 -> 4.5176471e-09 | G41: =E41/$B$6 -> 9.8936471e-08
A42: Naphthalene | B42: 91-20-3 | C42: 0.0003 | D42: =C42*$B$19 -> 2.2588235e-06 | E42: =C42*$B$18 -> 4.9468235e-05 | F42: =D42/$B$6 -> 1.1294118e-06 | G42: =E42/$B$6 -> 2.4734118e-05
A43: Acetaldehyde | B43: 75-07-0 | C43: 0.0043 | D43: =C43*$B$19 -> 3.2376471e-05 | E43: =C43*$B$18 -> 0.00070904471 | F43: =D43/$B$6 -> 1.6188235e-05 | G43: =E43/$B$6 -> 0.00035452235
A44: Acrolein | B44: 107-02-8 | C44: 0.0027 | D44: =C44*$B$19 -> 2.0329412e-05 | E44: =C44*$B$18 -> 0.00044521412 | F44: =D44/$B$6 -> 1.0164706e-05 | G44: =E44/$B$6 -> 0.00022260706
A45: Ammonia | B45: 7664-41-7 | C45: 3.2 | D45: =C45*$B$19 -> 0.024094118 | E45: =C45*$B$18 -> 0.52766118 | F45: =D45/$B$6 -> 0.012047059 | G45: =E45/$B$6 -> 0.26383059
A46: Arsenic and compounds | B46: 7440-38-2 | C46: 0.0002 | D46: =C46*$B$19 -> 1.5058824e-06 | E46: =C46*$B$18 -> 3.2978824e-05 | F46: =D46/$B$6 -> 7.5294118e-07 | G46: =E46/$B$6 -> 1.6489412e-05
A47: Barium and compounds | B47: 7440-39-3 | C47: 0.0044 | D47: =C47*$B$19 -> 3.3129412e-05 | E47: =C47*$B$18 -> 0.00072553412 | F47: =D47/$B$6 -> 1.6564706e-05 | G47: =E47/$B$6 -> 0.00036276706
A48: Beryllium and compounds | B48: 7440-41-7 | C48: 1.2e-05 | D48: =C48*$B$19 -> 9.0352941e-08 | E48: =C48*$B$18 -> 1.9787294e-06 | F48: =D48/$B$6 -> 4.5176471e-08 | G48: =E48/$B$6 -> 9.8936471e-07
A49: Cadmium and compounds | B49: 7440-43-9 | C49: 0.0011 | D49: =C49*$B$19 -> 8.2823529e-06 | E49: =C49*$B$18 -> 0.00018138353 | F49: =D49/$B$6 -> 4.1411765e-06 | G49: =E49/$B$6 -> 9.0691765e-05
A50: Chromium VI, chromate and dichromate particulate | B50: 18540-29-9 | C50: 0.0014 | D50: =C50*$B$19 -> 1.0541176e-05 | E50: =C50*$B$18 -> 0.00023085176 | F50: =D50/$B$6 -> 5.2705882e-06 | G50: =E50/$B$6 -> 0.00011542588
A51: Cobalt and compounds | B51: 7440-48-4 | C51: 8.4e-05 | D51: =C51*$B$19 -> 6.3247059e-07 | E51: =C51*$B$18 -> 1.3851106e-05 | F51: =D51/$B$6 -> 3.1623529e-07 | G51: =E51/$B$6 -> 6.9255529e-06
A52: Copper and compounds | B52: 7440-50-8 | C52: 0.00085 | D52: =C52*$B$19 -> 6.4e-06 | E52: =C52*$B$18 -> 0.00014016 | F52: =D52/$B$6 -> 3.2e-06 | G52: =E52/$B$6 -> 7.008e-05
... A58: Molybdenum trioxide | B58: 1313-27-5 | C58: 0.00165 | D58: =C58*$B$19 -> 1.2423529e-05 | E58: =C58*$B$18 -> 0.00027207529 | F58: =D58/$B$6 -> 6.2117647e-06 | G58: =E58/$B$6 -> 0.00013603765
A59: Nickel compounds, insoluble | B59: 365 | C59: 0.0021 | D59: =C59*$B$19 -> 1.5811765e-05 | E59: =C59*$B$18 -> 0.00034627765 | F59: =D59/$B$6 -> 7.9058824e-06 | G59: =E59/$B$6 -> 0.00017313882
A60: Selenium and compounds | B60: 7782-49-2 | C60: 2.4e-05 | D60: =C60*$B$19 -> 1.8070588e-07 | E60: =C60*$B$18 -> 3.9574588e-06 | F60: =D60/$B$6 -> 9.0352941e-08 | G60: =E60/$B$6 -> 1.9787294e-06
A61: Toluene | B61: 108-88-3 | C61: 0.0366 | D61: =C61*$B$19 -> 0.00027557647 | E61: =C61*$B$18 -> 0.0060351247 | F61: =D61/$B$6 -> 0.00013778824 | G61: =E61/$B$6 -> 0.0030175624
A62: Vanadium (fume or dust) | B62: 7440-62-2 | C62: 0.0023 | D62: =C62*$B$19 -> 1.7317647e-05 | E62: =C62*$B$18 -> 0.00037925647 | F62: =D62/$B$6 -> 8.6588235e-06 | G62: =E62/$B$6 -> 0.00018962824
A63: Xylene (mixture), including m-xylene, o-xylene, p-xylene | B63: 1330-20-7 | C63: 0.0272 | D63: =C63*$B$19 -> 0.0002048 | E63: =C63*$B$18 -> 0.00448512 | F63: =D63/$B$6 -> 0.0001024 | G63: =E63/$B$6 -> 0.00224256
A64: Zinc and compounds | B64: 7440-66-6 | C64: 0.029 | D64: =C64*$B$19 -> 0.00021835294 | E64: =C64*$B$18 -> 0.0047819294 | F64: =D64/$B$6 -> 0.00010917647 | G64: =E64/$B$6 -> 0.0023909647
A65: Total TACs | D65: =SUM(D38:D64) -> 0.025270673 | E65: =SUM(E38:E64) -> 0.55342773 | F65: =SUM(F38:F64) -> 0.012635336 | G65: =SUM(G38:G64) -> 0.27671386
A139: Greenhouse Gases
A140: GHG-CH4 | B140: 1.04e-05 | C140: mtCO2e/gal | D140: (3) | E140: =B140*#REF! -> #REF! | F140: MT
A141: GHG-CO2 | B141: 0.010206 | C141: mtCO2e/gal | D141: (3) | E141: =B141*#REF! -> #REF! | F141: MT
A142: GHG-N20 | B142: 2.47e-05 | C142: mtCO2e/gal | D142: (3) | E142: =B142*#REF! -> #REF! | F142: MT | G142: =SUM(E140:E142) -> #REF! | H142: MT
A143: Hazardous Air Pollutants (HAPs) | G143: =G142*1.10231 -> #REF! | H143: Short Tons
A144: Benzene | B144: 0.000776 | C144: lb/MMBtu | D144: (4) | E144: =B144*#REF!*#REF!/1000000/2000 -> #REF!
A145: Toluene | B145: 0.000281 | C145: lb/MMBtu | D145: (4) | E145: =B145*#REF!*#REF!/1000000/2000 -> #REF! | G145: 2490
A146: Xylenes | B146: 0.000193 | C146: lb/MMBtu | D146: (4) | E146: =B146*#REF!*#REF!/1000000/2000 -> #REF! | G146: =G145*1.10231 -> 2744.7519 | H146: Short Tons
A147: Formaldehyde | B147: 7.89e-05 | C147: lb/MMBtu | D147: (4) | E147: =B147*#REF!*#REF!/1000000/2000 -> #REF!
A148: Acetaldehyde | B148: 2.52e-05 | C148: lb/MMBtu | D148: (4) | E148: =B148*#REF!*#REF!/1000000/2000 -> #REF!
A149: Acrolein | B149: 7.88e-06 | C149: lb/MMBtu | D149: (4) | E149: =B149*#REF!*#REF!/1000000/2000 -> #REF!
A150: Napthalene | B150: 0.00013 | C150: lb/MMBtu | D150: (4) | E150: =B150*#REF!*#REF!/1000000/2000 -> #REF!
A151: Total PAH | B151: 0.000212 | C151: lb/MMBtu | D151: (4) | E151: =B151*#REF!*#REF!/1000000/2000 -> #REF!
A152: Total HAPs | E152: =SUM(E144:E151) -> #REF!
A154: (1) "Worst-case" emission factor derived from manufacturers specifications.
A155: (2) SCAQMD Reporting Procedures for AB2588 Table B-2 Default EF for Diesel/Distillate Oil Fuel Combustion
A156: (3) 40 CFR 98 Tbl. C-1, C-2
A157: (4) AP-42 Table 3.4-3
A158: MT = Metric Tons
A160: Potential Emissions from Non-Emergency Operations - Annual Summary
A162: NOx | B162: CO | C162: VOC | D162: PM/PM10/PM2.5 | E162: SO2 | F162: GHG-CO2e | G162: HAPs
A163: tpy
A164: =#REF! -> #REF! | B164: =#REF! -> #REF! | C164: =#REF! -> #REF! | D164: =#REF! -> #REF! | E164: =#REF! -> #REF! | F164: =SUM(E140:E142) -> #REF! | G164: =E152 -> #REF!
A179: ULSD Fuel Use | B179: 624500 | C179: gal/yr
A180: ULSD Heating Value | B180: 138000 | C180: Btu/gal
A182: Pollutant | B182: Emission Factor | E182: Potential Emissions (tpy)
B183: Value | C183: Units | D183: Reference
A184: Criteria Pollutants
A185: NOx | B185: =#REF! -> #REF! | C185: lb/gal | D185: (1) | E185: =B185*$B$179/2000 -> #REF!
A186: CO | B186: =#REF! -> #REF! | C186: lb/gal | D186: (1) | E186: =B186*$B$179/2000 -> #REF!
A187: VOC | B187: =#REF! -> #REF! | C187: lb/gal | D187: (1) | E187: =B187*$B$179/2000 -> #REF!
A188: PM/PM10/PM2.5 | B188: =#REF! -> #REF! | C188: lb/gal | D188: (1) | E188: =B188*$B$179/2000 -> #REF!
A189: SO2 | B189: =#REF! -> #REF! | C189: lb/gal | D189: (1) | E189: =B189*$B$179/2000 -> #REF!
A190: Lead | B190: 0.0083 | C190: lb/kgal | D190: (2) | E190: =B190*B179/1000/2000 -> 0.002591675
A191: Greenhouse Gases
A192: GHG-CH4 | B192: 1.04e-05 | C192: mtCO2e/gal | D192: (3) | E192: =B192*$B$179 -> 6.4948 | F192: MT
A193: GHG-CO2 | B193: 0.010206 | C193: mtCO2e/gal | D193: (3) | E193: =B193*$B$179 -> 6373.647 | F193: MT
A194: GHG-N20 | B194: 2.47e-05 | C194: mtCO2e/gal | D194: (3) | E194: =B194*$B$179 -> 15.42515 | F194: MT
A195: Hazardous Air Pollutants (HAPs)
A196: Benzene | B196: 0.000776 | C196: lb/MMBtu | D196: (4) | E196: =B196*$B$179*$B$180/1000000/2000 -> 0.033438228
A197: Toluene | B197: 0.000281 | C197: lb/MMBtu | D197: (4) | E197: =B197*$B$179*$B$180/1000000/2000 -> 0.012108431
A198: Xylenes | B198: 0.000193 | C198: lb/MMBtu | D198: (4) | E198: =B198*$B$179*$B$180/1000000/2000 -> 0.0083164665
A199: Formaldehyde | B199: 7.89e-05 | C199: lb/MMBtu | D199: (4) | E199: =B199*$B$179*$B$180/1000000/2000 -> 0.0033998404
A200: Acetaldehyde | B200: 2.52e-05 | C200: lb/MMBtu | D200: (4) | E200: =B200*$B$179*$B$180/1000000/2000 -> 0.0010858806
A201: Acrolein | B201: 7.88e-06 | C201: lb/MMBtu | D201: (4) | E201: =B201*$B$179*$B$180/1000000/2000 -> 0.00033955314
A202: Napthalene | B202: 0.00013 | C202: lb/MMBtu | D202: (4) | E202: =B202*$B$179*$B$180/1000000/2000 -> 0.005601765
A203: Total PAH | B203: 0.000212 | C203: lb/MMBtu | D203: (4) | E203: =B203*$B$179*$B$180/1000000/2000 -> 0.009135186
A204: Total HAPs | E204: =SUM(E196:E203) -> 0.07342535
A206: (1) "Worst-case" emission factor derived from manufacturers specifications.
A207: (2) SCAQMD Reporting Procedures for AB2588 Table B-2 Default EF for Diesel/Distillate Oil Fuel Combustion
...

Sheet 8Pretreatment Heater H1
A4: Table 3-8: Emissions from Pretreatment Heater Stage 1 (H1)
A6: Number of units | B6: 1
A7: Rating | B7: 0.9 | C7: MMBtu/hr
A8: HHV Natural Gas | B8: 1020 | C8: Btu/ft3
A9: Max. Daily Operating Hours | B9: 24
A10: Max. Annual Operating Hours | B10: 8760
A11: Expected Max. Annual Operating Capacity | B11: 1 | I11: Assumed annual operation
A12: Max. Annual Natural Gas Usage | B12: =B6*B7*B10*B11 -> 7884 | C12: MMBtu/yr
A13: Max. Annual Natural Gas Usage | B13: =B12/B8 -> 7.7294118 | C13: MMCF/yr
A16: Total Fuel Usage
A17: Annual Natural Gas Usage | B17: =B12 -> 7884 | C17: MMBtu/yr
A18: Annual Natural Gas Usage | B18: =B13 -> 7.7294118 | C18: MMCF/yr
A19: Daily Natural Gas Usage | B19: =B6*B7/B8*B9 -> 0.021176471 | C19: MMCF/day
A21: Criteria Pollutants(1)
A22: Pollutant | B22: Emission Factor (lb/MMCF) | C22: Emission Rate (tpy)
A23: NOx | B23: 100 | C23: =B23*$B$18/2000 -> 0.38647059
A24: CO | B24: 84 | C24: =B24*$B$18/2000 -> 0.32463529
A25: VOC | B25: 5.5 | C25: =B25*$B$18/2000 -> 0.021255882
A26: PM/PM10/PM2.5 | B26: 2.5 | C26: =B26*$B$18/2000 -> 0.0096617647
A27: SO2 | B27: 2.6 | C27: =B27*$B$18/2000 -> 0.010048235
A28: (1) Emission factor from ODEQ, AQ-EF05
A30: Greenhouse Gases(2)
A31: Pollutant | B31: Emission Factor (kg/MMBtu) | C31: Emission Rate (tpy)
A32: CO2e | B32: 53.1148 | C32: =(B32*B17/1000)*1.10231 -> 461.60012
A33: (2) Emission factor from EPA, 40 CFR Part 98, Subpart C
A36: Toxic Air Contaminants (TACs)(3) | F36: Single Unit
A37: Pollutant | B37: CAS | C37: Emission Factor (lb/MMCF) | D37: Daily Emissions (lb/day) | E37: Annual Emissions (lb/yr) | F37: Daily Emissions (lb/day) | G37: Annual Emissions (lb/yr)
A38: Benzene | B38: 71-43-2 | C38: 0.008 | D38: =C38*$B$19 -> 0.00016941176 | E38: =C38*$B$18 -> 0.061835294 | F38: =D38/$B$6 -> 0.00016941176 | G38: =E38/$B$6 -> 0.061835294
A39: Formaldehyde | B39: 50-00-0 | C39: 0.017 | D39: =C39*$B$19 -> 0.00036 | E39: =C39*$B$18 -> 0.1314 | F39: =D39/$B$6 -> 0.00036 | G39: =E39/$B$6 -> 0.1314
A40: Polycyclic aromatic hydrocarbons (PAHs) | B40: 401 | C40: 0.0001 | D40: =C40*$B$19 -> 2.1176471e-06 | E40: =C40*$B$18 -> 0.00077294118 | F40: =D40/$B$6 -> 2.1176471e-06 | G40: =E40/$B$6 -> 0.00077294118
A41: Benzo[a]pyrene | B41: 50-32-8 | C41: 1.2e-06 | D41: =C41*$B$19 -> 2.5411765e-08 | E41: =C41*$B$18 -> 9.2752941e-06 | F41: =D41/$B$6 -> 2.5411765e-08 | G41: =E41/$B$6 -> 9.2752941e-06
A42: Naphthalene | B42: 91-20-3 | C42: 0.0003 | D42: =C42*$B$19 -> 6.3529412e-06 | E42: =C42*$B$18 -> 0.0023188235 | F42: =D42/$B$6 -> 6.3529412e-06 | G42: =E42/$B$6 -> 0.0023188235
A43: Acetaldehyde | B43: 75-07-0 | C43: 0.0043 | D43: =C43*$B$19 -> 9.1058824e-05 | E43: =C43*$B$18 -> 0.033236471 | F43: =D43/$B$6 -> 9.1058824e-05 | G43: =E43/$B$6 -> 0.033236471
A44: Acrolein | B44: 107-02-8 | C44: 0.0027 | D44: =C44*$B$19 -> 5.7176471e-05 | E44: =C44*$B$18 -> 0.020869412 | F44: =D44/$B$6 -> 5.7176471e-05 | G44: =E44/$B$6 -> 0.020869412
A45: Ammonia | B45: 7664-41-7 | C45: 3.2 | D45: =C45*$B$19 -> 0.067764706 | E45: =C45*$B$18 -> 24.734118 | F45: =D45/$B$6 -> 0.067764706 | G45: =E45/$B$6 -> 24.734118
A46: Arsenic and compounds | B46: 7440-38-2 | C46: 0.0002 | D46: =C46*$B$19 -> 4.2352941e-06 | E46: =C46*$B$18 -> 0.0015458824 | F46: =D46/$B$6 -> 4.2352941e-06 | G46: =E46/$B$6 -> 0.0015458824
A47: Barium and compounds | B47: 7440-39-3 | C47: 0.0044 | D47: =C47*$B$19 -> 9.3176471e-05 | E47: =C47*$B$18 -> 0.034009412 | F47: =D47/$B$6 -> 9.3176471e-05 | G47: =E47/$B$6 -> 0.034009412
A48: Beryllium and compounds | B48: 7440-41-7 | C48: 1.2e-05 | D48: =C48*$B$19 -> 2.5411765e-07 | E48: =C48*$B$18 -> 9.2752941e-05 | F48: =D48/$B$6 -> 2.5411765e-07 | G48: =E48/$B$6 -> 9.2752941e-05
A49: Cadmium and compounds | B49: 7440-43-9 | C49: 0.0011 | D49: =C49*$B$19 -> 2.3294118e-05 | E49: =C49*$B$18 -> 0.0085023529 | F49: =D49/$B$6 -> 2.3294118e-05 | G49: =E49/$B$6 -> 0.0085023529
A50: Chromium VI, chromate and dichromate particulate | B50: 18540-29-9 | C50: 0.0014 | D50: =C50*$B$19 -> 2.9647059e-05 | E50: =C50*$B$18 -> 0.010821176 | F50: =D50/$B$6 -> 2.9647059e-05 | G50: =E50/$B$6 -> 0.010821176
A51: Cobalt and compounds | B51: 7440-48-4 | C51: 8.4e-05 | D51: =C51*$B$19 -> 1.7788235e-06 | E51: =C51*$B$18 -> 0.00064927059 | F51: =D51/$B$6 -> 1.7788235e-06 | G51: =E51/$B$6 -> 0.00064927059
A52: Copper and compounds | B52: 7440-50-8 | C52: 0.00085 | D52: =C52*$B$19 -> 1.8e-05 | E52: =C52*$B$18 -> 0.00657 | F52: =D52/$B$6 -> 1.8e-05 | G52: =E52/$B$6 -> 0.00657
... A58: Molybdenum trioxide | B58: 1313-27-5 | C58: 0.00165 | D58: =C58*$B$19 -> 3.4941176e-05 | E58: =C58*$B$18 -> 0.012753529 | F58: =D58/$B$6 -> 3.4941176e-05 | G58: =E58/$B$6 -> 0.012753529
A59: Nickel compounds, insoluble | B59: 365 | C59: 0.0021 | D59: =C59*$B$19 -> 4.4470588e-05 | E59: =C59*$B$18 -> 0.016231765 | F59: =D59/$B$6 -> 4.4470588e-05 | G59: =E59/$B$6 -> 0.016231765
A60: Selenium and compounds | B60: 7782-49-2 | C60: 2.4e-05 | D60: =C60*$B$19 -> 5.0823529e-07 | E60: =C60*$B$18 -> 0.00018550588 | F60: =D60/$B$6 -> 5.0823529e-07 | G60: =E60/$B$6 -> 0.00018550588
A61: Toluene | B61: 108-88-3 | C61: 0.0366 | D61: =C61*$B$19 -> 0.00077505882 | E61: =C61*$B$18 -> 0.28289647 | F61: =D61/$B$6 -> 0.00077505882 | G61: =E61/$B$6 -> 0.28289647
A62: Vanadium (fume or dust) | B62: 7440-62-2 | C62: 0.0023 | D62: =C62*$B$19 -> 4.8705882e-05 | E62: =C62*$B$18 -> 0.017777647 | F62: =D62/$B$6 -> 4.8705882e-05 | G62: =E62/$B$6 -> 0.017777647
A63: Xylene (mixture), including m-xylene, o-xylene, p-xylene | B63: 1330-20-7 | C63: 0.0272 | D63: =C63*$B$19 -> 0.000576 | E63: =C63*$B$18 -> 0.21024 | F63: =D63/$B$6 -> 0.000576 | G63: =E63/$B$6 -> 0.21024
A64: Zinc and compounds | B64: 7440-66-6 | C64: 0.029 | D64: =C64*$B$19 -> 0.00061411765 | E64: =C64*$B$18 -> 0.22415294 | F64: =D64/$B$6 -> 0.00061411765 | G64: =E64/$B$6 -> 0.22415294
A65: Total TACs | D65: =SUM(D38:D64) -> 0.071073767 | E65: =SUM(E38:E64) -> 25.941925 | F65: =SUM(F38:F64) -> 0.071073767 | G65: =SUM(G38:G64) -> 25.941925
A139: Greenhouse Gases
A140: GHG-CH4 | B140: 1.04e-05 | C140: mtCO2e/gal | D140: (3) | E140: =B140*#REF! -> #REF! | F140: MT
A141: GHG-CO2 | B141: 0.010206 | C141: mtCO2e/gal | D141: (3) | E141: =B141*#REF! -> #REF! | F141: MT
A142: GHG-N20 | B142: 2.47e-05 | C142: mtCO2e/gal | D142: (3) | E142: =B142*#REF! -> #REF! | F142: MT | G142: =SUM(E140:E142) -> #REF! | H142: MT
A143: Hazardous Air Pollutants (HAPs) | G143: =G142*1.10231 -> #REF! | H143: Short Tons
A144: Benzene | B144: 0.000776 | C144: lb/MMBtu | D144: (4) | E144: =B144*#REF!*#REF!/1000000/2000 -> #REF!
A145: Toluene | B145: 0.000281 | C145: lb/MMBtu | D145: (4) | E145: =B145*#REF!*#REF!/1000000/2000 -> #REF! | G145: 2490
A146: Xylenes | B146: 0.000193 | C146: lb/MMBtu | D146: (4) | E146: =B146*#REF!*#REF!/1000000/2000 -> #REF! | G146: =G145*1.10231 -> 2744.7519 | H146: Short Tons
A147: Formaldehyde | B147: 7.89e-05 | C147: lb/MMBtu | D147: (4) | E147: =B147*#REF!*#REF!/1000000/2000 -> #REF!
A148: Acetaldehyde | B148: 2.52e-05 | C148: lb/MMBtu | D148: (4) | E148: =B148*#REF!*#REF!/1000000/2000 -> #REF!
A149: Acrolein | B149: 7.88e-06 | C149: lb/MMBtu | D149: (4) | E149: =B149*#REF!*#REF!/1000000/2000 -> #REF!
A150: Napthalene | B150: 0.00013 | C150: lb/MMBtu | D150: (4) | E150: =B150*#REF!*#REF!/1000000/2000 -> #REF!
A151: Total PAH | B151: 0.000212 | C151: lb/MMBtu | D151: (4) | E151: =B151*#REF!*#REF!/1000000/2000 -> #REF!
A152: Total HAPs | E152: =SUM(E144:E151) -> #REF!
A154: (1) "Worst-case" emission factor derived from manufacturers specifications.
A155: (2) SCAQMD Reporting Procedures for AB2588 Table B-2 Default EF for Diesel/Distillate Oil Fuel Combustion
A156: (3) 40 CFR 98 Tbl. C-1, C-2
A157: (4) AP-42 Table 3.4-3
A158: MT = Metric Tons
A160: Potential Emissions from Non-Emergency Operations - Annual Summary
A162: NOx | B162: CO | C162: VOC | D162: PM/PM10/PM2.5 | E162: SO2 | F162: GHG-CO2e | G162: HAPs
A163: tpy
A164: =#REF! -> #REF! | B164: =#REF! -> #REF! | C164: =#REF! -> #REF! | D164: =#REF! -> #REF! | E164: =#REF! -> #REF! | F164: =SUM(E140:E142) -> #REF! | G164: =E152 -> #REF!
A179: ULSD Fuel Use | B179: 624500 | C179: gal/yr
A180: ULSD Heating Value | B180: 138000 | C180: Btu/gal
A182: Pollutant | B182: Emission Factor | E182: Potential Emissions (tpy)
B183: Value | C183: Units | D183: Reference
A184: Criteria Pollutants
A185: NOx | B185: =#REF! -> #REF! | C185: lb/gal | D185: (1) | E185: =B185*$B$179/2000 -> #REF!
A186: CO | B186: =#REF! -> #REF! | C186: lb/gal | D186: (1) | E186: =B186*$B$179/2000 -> #REF!
A187: VOC | B187: =#REF! -> #REF! | C187: lb/gal | D187: (1) | E187: =B187*$B$179/2000 -> #REF!
A188: PM/PM10/PM2.5 | B188: =#REF! -> #REF! | C188: lb/gal | D188: (1) | E188: =B188*$B$179/2000 -> #REF!
A189: SO2 | B189: =#REF! -> #REF! | C189: lb/gal | D189: (1) | E189: =B189*$B$179/2000 -> #REF!
A190: Lead | B190: 0.0083 | C190: lb/kgal | D190: (2) | E190: =B190*B179/1000/2000 -> 0.002591675
A191: Greenhouse Gases
A192: GHG-CH4 | B192: 1.04e-05 | C192: mtCO2e/gal | D192: (3) | E192: =B192*$B$179 -> 6.4948 | F192: MT
A193: GHG-CO2 | B193: 0.010206 | C193: mtCO2e/gal | D193: (3) | E193: =B193*$B$179 -> 6373.647 | F193: MT
A194: GHG-N20 | B194: 2.47e-05 | C194: mtCO2e/gal | D194: (3) | E194: =B194*$B$179 -> 15.42515 | F194: MT
A195: Hazardous Air Pollutants (HAPs)
A196: Benzene | B196: 0.000776 | C196: lb/MMBtu | D196: (4) | E196: =B196*$B$179*$B$180/1000000/2000 -> 0.033438228
A197: Toluene | B197: 0.000281 | C197: lb/MMBtu | D197: (4) | E197: =B197*$B$179*$B$180/1000000/2000 -> 0.012108431
A198: Xylenes | B198: 0.000193 | C198: lb/MMBtu | D198: (4) | E198: =B198*$B$179*$B$180/1000000/2000 -> 0.0083164665
A199: Formaldehyde | B199: 7.89e-05 | C199: lb/MMBtu | D199: (4) | E199: =B199*$B$179*$B$180/1000000/2000 -> 0.0033998404
A200: Acetaldehyde | B200: 2.52e-05 | C200: lb/MMBtu | D200: (4) | E200: =B200*$B$179*$B$180/1000000/2000 -> 0.0010858806
A201: Acrolein | B201: 7.88e-06 | C201: lb/MMBtu | D201: (4) | E201: =B201*$B$179*$B$180/1000000/2000 -> 0.00033955314
A202: Napthalene | B202: 0.00013 | C202: lb/MMBtu | D202: (4) | E202: =B202*$B$179*$B$180/1000000/2000 -> 0.005601765
A203: Total PAH | B203: 0.000212 | C203: lb/MMBtu | D203: (4) | E203: =B203*$B$179*$B$180/1000000/2000 -> 0.009135186
A204: Total HAPs | E204: =SUM(E196:E203) -> 0.07342535
A206: (1) "Worst-case" emission factor derived from manufacturers specifications.
A207: (2) SCAQMD Reporting Procedures for AB2588 Table B-2 Default EF for Diesel/Distillate Oil Fuel Combustion
...

Sheet 9IR Heaters (H4)
A4: Table 3-9: Emissions from Infrared Heaters (H4)
A6: Number of units | B6: 27
A7: Rating | B7: 0.2 | C7: MMBtu/hr
A8: HHV Natural Gas | B8: 1020 | C8: Btu/ft3
A9: Max. Daily Operating Hours | B9: 24
A10: Max. Annual Operating Hours | B10: 8760
A11: Expected Max. Annual Operating Capacity | B11: 1 | I11: Response from Arcimoto is 3200 hr/yr at 35% (3200/8760 * .35 = 12.7% Rnd to 13%)
A12: Max. Annual Natural Gas Usage | B12: =B6*B7*B10*B11 -> 47304 | C12: MMBtu/yr
A13: Max. Annual Natural Gas Usage | B13: =B12/B8 -> 46.376471 | C13: MMCF/yr
A16: Total Fuel Usage
A17: Annual Natural Gas Usage | B17: =B12 -> 47304 | C17: MMBtu/yr
A18: Annual Natural Gas Usage | B18: =B13 -> 46.376471 | C18: MMCF/yr
A19: Daily Natural Gas Usage | B19: =B6*B7/B8*B9 -> 0.12705882 | C19: MMCF/day
A21: Criteria Pollutants(1)
A22: Pollutant | B22: Emission Factor (lb/MMCF) | C22: Emission Rate (tpy)
A23: NOx | B23: 100 | C23: =B23*$B$18/2000 -> 2.3188235
A24: CO | B24: 84 | C24: =B24*$B$18/2000 -> 1.9478118
A25: VOC | B25: 5.5 | C25: =B25*$B$18/2000 -> 0.12753529
A26: PM/PM10/PM2.5 | B26: 2.5 | C26: =B26*$B$18/2000 -> 0.057970588
A27: SO2 | B27: 2.6 | C27: =B27*$B$18/2000 -> 0.060289412
A28: (1) Emission factor from ODEQ, AQ-EF05
A30: Greenhouse Gases(2)
A31: Pollutant | B31: Emission Factor (kg/MMBtu) | C31: Emission Rate (tpy)
A32: CO2e | B32: 53.1148 | C32: =(B32*B17/1000)*1.10231 -> 2769.6007
A33: (2) Emission factor from EPA, 40 CFR Part 98, Subpart C
A36: Toxic Air Contaminants (TACs)(3) | F36: Single Unit | I36: 16 units | L36: 7 units | O36: 2 units
A37: Pollutant | B37: CAS | C37: Emission Factor (lb/MMCF) | D37: Daily Emissions (lb/day) | E37: Annual Emissions (lb/yr) | F37: Daily Emissions (lb/day) | G37: Annual Emissions (lb/yr) | J37: Annual Emissions (lb/yr) | K37: Daily Emissions (lb/day) | M37: Annual Emissions (lb/yr) | N37: Daily Emissions (lb/day) | P37: Annual Emissions (lb/yr) | Q37: Daily Emissions (lb/day)
A38: Benzene | B38: 71-43-2 | C38: 0.008 | D38: =C38*$B$19 -> 0.0010164706 | E38: =C38*$B$18 -> 0.37101176 | F38: =D38/$B$6 -> 3.7647059e-05 | G38: =E38/$B$6 -> 0.013741176 | J38: =G38*16 -> 0.21985882 | K38: =F38*16 -> 0.00060235294 | M38: =G38*7 -> 0.096188235 | N38: =F38*7 -> 0.00026352941 | P38: =G38*2 -> 0.027482353 | Q38: =F38*2 -> 7.5294118e-05
A39: Formaldehyde | B39: 50-00-0 | C39: 0.017 | D39: =C39*$B$19 -> 0.00216 | E39: =C39*$B$18 -> 0.7884 | F39: =D39/$B$6 -> 8e-05 | G39: =E39/$B$6 -> 0.0292 | J39: =G39*16 -> 0.4672 | K39: =F39*16 -> 0.00128 | M39: =G39*7 -> 0.2044 | N39: =F39*7 -> 0.00056 | P39: =G39*2 -> 0.0584 | Q39: =F39*2 -> 0.00016
A40: Polycyclic aromatic hydrocarbons (PAHs) | B40: 401 | C40: 0.0001 | D40: =C40*$B$19 -> 1.2705882e-05 | E40: =C40*$B$18 -> 0.0046376471 | F40: =D40/$B$6 -> 4.7058824e-07 | G40: =E40/$B$6 -> 0.00017176471 | J40: =G40*16 -> 0.0027482353 | K40: =F40*16 -> 7.5294118e-06 | M40: =G40*7 -> 0.0012023529 | N40: =F40*7 -> 3.2941176e-06 | P40: =G40*2 -> 0.00034352941 | Q40: =F40*2 -> 9.4117647e-07
A41: Benzo[a]pyrene | B41: 50-32-8 | C41: 1.2e-06 | D41: =C41*$B$19 -> 1.5247059e-07 | E41: =C41*$B$18 -> 5.5651765e-05 | F41: =D41/$B$6 -> 5.6470588e-09 | G41: =E41/$B$6 -> 2.0611765e-06 | J41: =G41*16 -> 3.2978824e-05 | K41: =F41*16 -> 9.0352941e-08 | M41: =G41*7 -> 1.4428235e-05 | N41: =F41*7 -> 3.9529412e-08 | P41: =G41*2 -> 4.1223529e-06 | Q41: =F41*2 -> 1.1294118e-08
A42: Naphthalene | B42: 91-20-3 | C42: 0.0003 | D42: =C42*$B$19 -> 3.8117647e-05 | E42: =C42*$B$18 -> 0.013912941 | F42: =D42/$B$6 -> 1.4117647e-06 | G42: =E42/$B$6 -> 0.00051529412 | J42: =G42*16 -> 0.0082447059 | K42: =F42*16 -> 2.2588235e-05 | M42: =G42*7 -> 0.0036070588 | N42: =F42*7 -> 9.8823529e-06 | P42: =G42*2 -> 0.0010305882 | Q42: =F42*2 -> 2.8235294e-06
A43: Acetaldehyde | B43: 75-07-0 | C43: 0.0043 | D43: =C43*$B$19 -> 0.00054635294 | E43: =C43*$B$18 -> 0.19941882 | F43: =D43/$B$6 -> 2.0235294e-05 | G43: =E43/$B$6 -> 0.0073858824 | J43: =G43*16 -> 0.11817412 | K43: =F43*16 -> 0.00032376471 | M43: =G43*7 -> 0.051701176 | N43: =F43*7 -> 0.00014164706 | P43: =G43*2 -> 0.014771765 | Q43: =F43*2 -> 4.0470588e-05
A44: Acrolein | B44: 107-02-8 | C44: 0.0027 | D44: =C44*$B$19 -> 0.00034305882 | E44: =C44*$B$18 -> 0.12521647 | F44: =D44/$B$6 -> 1.2705882e-05 | G44: =E44/$B$6 -> 0.0046376471 | J44: =G44*16 -> 0.074202353 | K44: =F44*16 -> 0.00020329412 | M44: =G44*7 -> 0.032463529 | N44: =F44*7 -> 8.8941176e-05 | P44: =G44*2 -> 0.0092752941 | Q44: =F44*2 -> 2.5411765e-05
A45: Ammonia | B45: 7664-41-7 | C45: 3.2 | D45: =C45*$B$19 -> 0.40658824 | E45: =C45*$B$18 -> 148.40471 | F45: =D45/$B$6 -> 0.015058824 | G45: =E45/$B$6 -> 5.4964706 | J45: =G45*16 -> 87.943529 | K45: =F45*16 -> 0.24094118 | M45: =G45*7 -> 38.475294 | N45: =F45*7 -> 0.10541176 | P45: =G45*2 -> 10.992941 | Q45: =F45*2 -> 0.030117647
A46: Arsenic and compounds | B46: 7440-38-2 | C46: 0.0002 | D46: =C46*$B$19 -> 2.5411765e-05 | E46: =C46*$B$18 -> 0.0092752941 | F46: =D46/$B$6 -> 9.4117647e-07 | G46: =E46/$B$6 -> 0.00034352941 | J46: =G46*16 -> 0.0054964706 | K46: =F46*16 -> 1.5058824e-05 | M46: =G46*7 -> 0.0024047059 | N46: =F46*7 -> 6.5882353e-06 | P46: =G46*2 -> 0.00068705882 | Q46: =F46*2 -> 1.8823529e-06
A47: Barium and compounds | B47: 7440-39-3 | C47: 0.0044 | D47: =C47*$B$19 -> 0.00055905882 | E47: =C47*$B$18 -> 0.20405647 | F47: =D47/$B$6 -> 2.0705882e-05 | G47: =E47/$B$6 -> 0.0075576471 | J47: =G47*16 -> 0.12092235 | K47: =F47*16 -> 0.00033129412 | M47: =G47*7 -> 0.052903529 | N47: =F47*7 -> 0.00014494118 | P47: =G47*2 -> 0.015115294 | Q47: =F47*2 -> 4.1411765e-05
A48: Beryllium and compounds | B48: 7440-41-7 | C48: 1.2e-05 | D48: =C48*$B$19 -> 1.5247059e-06 | E48: =C48*$B$18 -> 0.00055651765 | F48: =D48/$B$6 -> 5.6470588e-08 | G48: =E48/$B$6 -> 2.0611765e-05 | J48: =G48*16 -> 0.00032978824 | K48: =F48*16 -> 9.0352941e-07 | M48: =G48*7 -> 0.00014428235 | N48: =F48*7 -> 3.9529412e-07 | P48: =G48*2 -> 4.1223529e-05 | Q48: =F48*2 -> 1.1294118e-07
A49: Cadmium and compounds | B49: 7440-43-9 | C49: 0.0011 | D49: =C49*$B$19 -> 0.00013976471 | E49: =C49*$B$18 -> 0.051014118 | F49: =D49/$B$6 -> 5.1764706e-06 | G49: =E49/$B$6 -> 0.0018894118 | J49: =G49*16 -> 0.030230588 | K49: =F49*16 -> 8.2823529e-05 | M49: =G49*7 -> 0.013225882 | N49: =F49*7 -> 3.6235294e-05 | P49: =G49*2 -> 0.0037788235 | Q49: =F49*2 -> 1.0352941e-05
A50: Chromium VI, chromate and dichromate particulate | B50: 18540-29-9 | C50: 0.0014 | D50: =C50*$B$19 -> 0.00017788235 | E50: =C50*$B$18 -> 0.064927059 | F50: =D50/$B$6 -> 6.5882353e-06 | G50: =E50/$B$6 -> 0.0024047059 | J50: =G50*16 -> 0.038475294 | K50: =F50*16 -> 0.00010541176 | M50: =G50*7 -> 0.016832941 | N50: =F50*7 -> 4.6117647e-05 | P50: =G50*2 -> 0.0048094118 | Q50: =F50*2 -> 1.3176471e-05
A51: Cobalt and compounds | B51: 7440-48-4 | C51: 8.4e-05 | D51: =C51*$B$19 -> 1.0672941e-05 | E51: =C51*$B$18 -> 0.0038956235 | F51: =D51/$B$6 -> 3.9529412e-07 | G51: =E51/$B$6 -> 0.00014428235 | J51: =G51*16 -> 0.0023085176 | K51: =F51*16 -> 6.3247059e-06 | M51: =G51*7 -> 0.0010099765 | N51: =F51*7 -> 2.7670588e-06 | P51: =G51*2 -> 0.00028856471 | Q51: =F51*2 -> 7.9058824e-07
A52: Copper and compounds | B52: 7440-50-8 | C52: 0.00085 | D52: =C52*$B$19 -> 0.000108 | E52: =C52*$B$18 -> 0.03942 | F52: =D52/$B$6 -> 4e-06 | G52: =E52/$B$6 -> 0.00146 | J52: =G52*16 -> 0.02336 | K52: =F52*16 -> 6.4e-05 | M52: =G52*7 -> 0.01022 | N52: =F52*7 -> 2.8e-05 | P52: =G52*2 -> 0.00292 | Q52: =F52*2 -> 8e-06
... A58: Molybdenum trioxide | B58: 1313-27-5 | C58: 0.00165 | D58: =C58*$B$19 -> 0.00020964706 | E58: =C58*$B$18 -> 0.076521176 | F58: =D58/$B$6 -> 7.7647059e-06 | G58: =E58/$B$6 -> 0.0028341176 | J58: =G58*16 -> 0.045345882 | K58: =F58*16 -> 0.00012423529 | M58: =G58*7 -> 0.019838824 | N58: =F58*7 -> 5.4352941e-05 | P58: =G58*2 -> 0.0056682353 | Q58: =F58*2 -> 1.5529412e-05
A59: Nickel compounds, insoluble | B59: 365 | C59: 0.0021 | D59: =C59*$B$19 -> 0.00026682353 | E59: =C59*$B$18 -> 0.097390588 | F59: =D59/$B$6 -> 9.8823529e-06 | G59: =E59/$B$6 -> 0.0036070588 | J59: =G59*16 -> 0.057712941 | K59: =F59*16 -> 0.00015811765 | M59: =G59*7 -> 0.025249412 | N59: =F59*7 -> 6.9176471e-05 | P59: =G59*2 -> 0.0072141176 | Q59: =F59*2 -> 1.9764706e-05
A60: Selenium and compounds | B60: 7782-49-2 | C60: 2.4e-05 | D60: =C60*$B$19 -> 3.0494118e-06 | E60: =C60*$B$18 -> 0.0011130353 | F60: =D60/$B$6 -> 1.1294118e-07 | G60: =E60/$B$6 -> 4.1223529e-05 | J60: =G60*16 -> 0.00065957647 | K60: =F60*16 -> 1.8070588e-06 | M60: =G60*7 -> 0.00028856471 | N60: =F60*7 -> 7.9058824e-07 | P60: =G60*2 -> 8.2447059e-05 | Q60: =F60*2 -> 2.2588235e-07
A61: Toluene | B61: 108-88-3 | C61: 0.0366 | D61: =C61*$B$19 -> 0.0046503529 | E61: =C61*$B$18 -> 1.6973788 | F61: =D61/$B$6 -> 0.00017223529 | G61: =E61/$B$6 -> 0.062865882 | J61: =G61*16 -> 1.0058541 | K61: =F61*16 -> 0.0027557647 | M61: =G61*7 -> 0.44006118 | N61: =F61*7 -> 0.0012056471 | P61: =G61*2 -> 0.12573176 | Q61: =F61*2 -> 0.00034447059
A62: Vanadium (fume or dust) | B62: 7440-62-2 | C62: 0.0023 | D62: =C62*$B$19 -> 0.00029223529 | E62: =C62*$B$18 -> 0.10666588 | F62: =D62/$B$6 -> 1.0823529e-05 | G62: =E62/$B$6 -> 0.0039505882 | J62: =G62*16 -> 0.063209412 | K62: =F62*16 -> 0.00017317647 | M62: =G62*7 -> 0.027654118 | N62: =F62*7 -> 7.5764706e-05 | P62: =G62*2 -> 0.0079011765 | Q62: =F62*2 -> 2.1647059e-05
A63: Xylene (mixture), including m-xylene, o-xylene, p-xylene | B63: 1330-20-7 | C63: 0.0272 | D63: =C63*$B$19 -> 0.003456 | E63: =C63*$B$18 -> 1.26144 | F63: =D63/$B$6 -> 0.000128 | G63: =E63/$B$6 -> 0.04672 | J63: =G63*16 -> 0.74752 | K63: =F63*16 -> 0.002048 | M63: =G63*7 -> 0.32704 | N63: =F63*7 -> 0.000896 | P63: =G63*2 -> 0.09344 | Q63: =F63*2 -> 0.000256
A64: Zinc and compounds | B64: 7440-66-6 | C64: 0.029 | D64: =C64*$B$19 -> 0.0036847059 | E64: =C64*$B$18 -> 1.3449176 | F64: =D64/$B$6 -> 0.00013647059 | G64: =E64/$B$6 -> 0.049811765 | J64: =G64*16 -> 0.79698824 | K64: =F64*16 -> 0.0021835294 | M64: =G64*7 -> 0.34868235 | N64: =F64*7 -> 0.00095529412 | P64: =G64*2 -> 0.099623529 | Q64: =F64*2 -> 0.00027294118
A65: Total TACs | D65: =SUM(D38:D64) -> 0.4264426 | E65: =SUM(E38:E64) -> 155.65155 | F65: =SUM(F38:F64) -> 0.01579417 | G65: =SUM(G38:G64) -> 5.7648722
A139: Greenhouse Gases
A140: GHG-CH4 | B140: 1.04e-05 | C140: mtCO2e/gal | D140: (3) | E140: =B140*#REF! -> #REF! | F140: MT
A141: GHG-CO2 | B141: 0.010206 | C141: mtCO2e/gal | D141: (3) | E141: =B141*#REF! -> #REF! | F141: MT
A142: GHG-N20 | B142: 2.47e-05 | C142: mtCO2e/gal | D142: (3) | E142: =B142*#REF! -> #REF! | F142: MT | G142: =SUM(E140:E142) -> #REF! | H142: MT
A143: Hazardous Air Pollutants (HAPs) | G143: =G142*1.10231 -> #REF! | H143: Short Tons
A144: Benzene | B144: 0.000776 | C144: lb/MMBtu | D144: (4) | E144: =B144*#REF!*#REF!/1000000/2000 -> #REF!
A145: Toluene | B145: 0.000281 | C145: lb/MMBtu | D145: (4) | E145: =B145*#REF!*#REF!/1000000/2000 -> #REF! | G145: 2490
A146: Xylenes | B146: 0.000193 | C146: lb/MMBtu | D146: (4) | E146: =B146*#REF!*#REF!/1000000/2000 -> #REF! | G146: =G145*1.10231 -> 2744.7519 | H146: Short Tons
A147: Formaldehyde | B147: 7.89e-05 | C147: lb/MMBtu | D147: (4) | E147: =B147*#REF!*#REF!/1000000/2000 -> #REF!
A148: Acetaldehyde | B148: 2.52e-05 | C148: lb/MMBtu | D148: (4) | E148: =B148*#REF!*#REF!/1000000/2000 -> #REF!
A149: Acrolein | B149: 7.88e-06 | C149: lb/MMBtu | D149: (4) | E149: =B149*#REF!*#REF!/1000000/2000 -> #REF!
A150: Napthalene | B150: 0.00013 | C150: lb/MMBtu | D150: (4) | E150: =B150*#REF!*#REF!/1000000/2000 -> #REF!
A151: Total PAH | B151: 0.000212 | C151: lb/MMBtu | D151: (4) | E151: =B151*#REF!*#REF!/1000000/2000 -> #REF!
A152: Total HAPs | E152: =SUM(E144:E151) -> #REF!
A154: (1) "Worst-case" emission factor derived from manufacturers specifications.
A155: (2) SCAQMD Reporting Procedures for AB2588 Table B-2 Default EF for Diesel/Distillate Oil Fuel Combustion
A156: (3) 40 CFR 98 Tbl. C-1, C-2
A157: (4) AP-42 Table 3.4-3
A158: MT = Metric Tons
A160: Potential Emissions from Non-Emergency Operations - Annual Summary
A162: NOx | B162: CO | C162: VOC | D162: PM/PM10/PM2.5 | E162: SO2 | F162: GHG-CO2e | G162: HAPs
A163: tpy
A164: =#REF! -> #REF! | B164: =#REF! -> #REF! | C164: =#REF! -> #REF! | D164: =#REF! -> #REF! | E164: =#REF! -> #REF! | F164: =SUM(E140:E142) -> #REF! | G164: =E152 -> #REF!
A179: ULSD Fuel Use | B179: 624500 | C179: gal/yr
A180: ULSD Heating Value | B180: 138000 | C180: Btu/gal
A182: Pollutant | B182: Emission Factor | E182: Potential Emissions (tpy)
B183: Value | C183: Units | D183: Reference
A184: Criteria Pollutants
A185: NOx | B185: =#REF! -> #REF! | C185: lb/gal | D185: (1) | E185: =B185*$B$179/2000 -> #REF!
A186: CO | B186: =#REF! -> #REF! | C186: lb/gal | D186: (1) | E186: =B186*$B$179/2000 -> #REF!
A187: VOC | B187: =#REF! -> #REF! | C187: lb/gal | D187: (1) | E187: =B187*$B$179/2000 -> #REF!
A188: PM/PM10/PM2.5 | B188: =#REF! -> #REF! | C188: lb/gal | D188: (1) | E188: =B188*$B$179/2000 -> #REF!
A189: SO2 | B189: =#REF! -> #REF! | C189: lb/gal | D189: (1) | E189: =B189*$B$179/2000 -> #REF!
A190: Lead | B190: 0.0083 | C190: lb/kgal | D190: (2) | E190: =B190*B179/1000/2000 -> 0.002591675
A191: Greenhouse Gases
A192: GHG-CH4 | B192: 1.04e-05 | C192: mtCO2e/gal | D192: (3) | E192: =B192*$B$179 -> 6.4948 | F192: MT
A193: GHG-CO2 | B193: 0.010206 | C193: mtCO2e/gal | D193: (3) | E193: =B193*$B$179 -> 6373.647 | F193: MT
A194: GHG-N20 | B194: 2.47e-05 | C194: mtCO2e/gal | D194: (3) | E194: =B194*$B$179 -> 15.42515 | F194: MT
A195: Hazardous Air Pollutants (HAPs)
A196: Benzene | B196: 0.000776 | C196: lb/MMBtu | D196: (4) | E196: =B196*$B$179*$B$180/1000000/2000 -> 0.033438228
A197: Toluene | B197: 0.000281 | C197: lb/MMBtu | D197: (4) | E197: =B197*$B$179*$B$180/1000000/2000 -> 0.012108431
A198: Xylenes | B198: 0.000193 | C198: lb/MMBtu | D198: (4) | E198: =B198*$B$179*$B$180/1000000/2000 -> 0.0083164665
A199: Formaldehyde | B199: 7.89e-05 | C199: lb/MMBtu | D199: (4) | E199: =B199*$B$179*$B$180/1000000/2000 -> 0.0033998404
A200: Acetaldehyde | B200: 2.52e-05 | C200: lb/MMBtu | D200: (4) | E200: =B200*$B$179*$B$180/1000000/2000 -> 0.0010858806
A201: Acrolein | B201: 7.88e-06 | C201: lb/MMBtu | D201: (4) | E201: =B201*$B$179*$B$180/1000000/2000 -> 0.00033955314
A202: Napthalene | B202: 0.00013 | C202: lb/MMBtu | D202: (4) | E202: =B202*$B$179*$B$180/1000000/2000 -> 0.005601765
A203: Total PAH | B203: 0.000212 | C203: lb/MMBtu | D203: (4) | E203: =B203*$B$179*$B$180/1000000/2000 -> 0.009135186
A204: Total HAPs | E204: =SUM(E196:E203) -> 0.07342535
A206: (1) "Worst-case" emission factor derived from manufacturers specifications.
A207: (2) SCAQMD Reporting Procedures for AB2588 Table B-2 Default EF for Diesel/Distillate Oil Fuel Combustion
...

Sheet 1Pretreatment Heater H2
A4: Table 3-1: Emissions from Pretreatment Heater Stage 2 (H2)
A6: Number of units | B6: 1
A7: Rating | B7: 0.9 | C7: MMBtu/hr
A8: HHV Natural Gas | B8: 1020 | C8: Btu/ft3
A9: Max. Daily Operating Hours | B9: 24
A10: Max. Annual Operating Hours | B10: 8760
A11: Expected Max. Annual Operating Capacity | B11: 1 | J11: Assumed annual operation
A12: Max. Annual Natural Gas Usage | B12: =B6*B7*B10*B11 -> 7884 | C12: MMBtu/yr
A13: Max. Annual Natural Gas Usage | B13: =B12/B8 -> 7.7294118 | C13: MMCF/yr
A16: Total Fuel Usage
A17: Annual Natural Gas Usage | B17: =B12 -> 7884 | C17: MMBtu/yr
A18: Annual Natural Gas Usage | B18: =B13 -> 7.7294118 | C18: MMCF/yr
A19: Daily Natural Gas Usage | B19: =B6*B7/B8*B9 -> 0.021176471 | C19: MMCF/day
A23: Criteria Pollutants(1)
A24: Pollutant | B24: Emission Factor (lb/MMCF) | C24: Emission Rate (tpy)
A25: NOx | B25: 100 | C25: =B25*$B$18/2000 -> 0.38647059
A26: CO | B26: 84 | C26: =B26*$B$18/2000 -> 0.32463529
A27: VOC | B27: 5.5 | C27: =B27*$B$18/2000 -> 0.021255882
A28: PM/PM10/PM2.5 | B28: 2.5 | C28: =B28*$B$18/2000 -> 0.0096617647
A29: SO2 | B29: 2.6 | C29: =B29*$B$18/2000 -> 0.010048235
A30: (1) Emission factor from ODEQ, AQ-EF05
A33: Greenhouse Gases(2)
A34: Pollutant | B34: Emission Factor (kg/MMBtu) | C34: Emission Rate (tpy)
A35: CO2e | B35: 53.1148 | C35: =(B35*B17/1000)*1.10231 -> 461.60012
A36: (2) Emission factor from EPA, 40 CFR Part 98, Subpart C
A39: Toxic Air Contaminants (TACs)(3) | G39: Single Unit
A40: Pollutant | B40: CAS | C40: Emission Factor (lb/MMCF) | D40: Daily Emissions (lb/day) | E40: Annual Emissions (lb/yr) | G40: Daily Emissions (lb/day) | H40: Annual Emissions (lb/yr)
A41: Benzene | B41: 71-43-2 | C41: 0.008 | D41: =C41*$B$19 -> 0.00016941176 | E41: =C41*$B$18 -> 0.061835294 | G41: =D41/$B$6 -> 0.00016941176 | H41: =E41/$B$6 -> 0.061835294 | J41: H
A42: Formaldehyde | B42: 50-00-0 | C42: 0.017 | D42: =C42*$B$19 -> 0.00036 | E42: =C42*$B$18 -> 0.1314 | G42: =D42/$B$6 -> 0.00036 | H42: =E42/$B$6 -> 0.1314 | J42: H
A43: Polycyclic aromatic hydrocarbons (PAHs) | B43: 401 | C43: 0.0001 | D43: =C43*$B$19 -> 2.1176471e-06 | E43: =C43*$B$18 -> 0.00077294118 | G43: =D43/$B$6 -> 2.1176471e-06 | H43: =E43/$B$6 -> 0.00077294118 | J43: H
A44: Benzo[a]pyrene | B44: 50-32-8 | C44: 1.2e-06 | D44: =C44*$B$19 -> 2.5411765e-08 | E44: =C44*$B$18 -> 9.2752941e-06 | G44: =D44/$B$6 -> 2.5411765e-08 | H44: =E44/$B$6 -> 9.2752941e-06 | J44: H
A45: Naphthalene | B45: 91-20-3 | C45: 0.0003 | D45: =C45*$B$19 -> 6.3529412e-06 | E45: =C45*$B$18 -> 0.0023188235 | G45: =D45/$B$6 -> 6.3529412e-06 | H45: =E45/$B$6 -> 0.0023188235 | J45: H
A46: Acetaldehyde | B46: 75-07-0 | C46: 0.0043 | D46: =C46*$B$19 -> 9.1058824e-05 | E46: =C46*$B$18 -> 0.033236471 | G46: =D46/$B$6 -> 9.1058824e-05 | H46: =E46/$B$6 -> 0.033236471 | J46: H
A47: Acrolein | B47: 107-02-8 | C47: 0.0027 | D47: =C47*$B$19 -> 5.7176471e-05 | E47: =C47*$B$18 -> 0.020869412 | G47: =D47/$B$6 -> 5.7176471e-05 | H47: =E47/$B$6 -> 0.020869412 | J47: H
A48: Ammonia | B48: 7664-41-7 | C48: 3.2 | D48: =C48*$B$19 -> 0.067764706 | E48: =C48*$B$18 -> 24.734118 | G48: =D48/$B$6 -> 0.067764706 | H48: =E48/$B$6 -> 24.734118
A49: Arsenic and compounds | B49: 7440-38-2 | C49: 0.0002 | D49: =C49*$B$19 -> 4.2352941e-06 | E49: =C49*$B$18 -> 0.0015458824 | G49: =D49/$B$6 -> 4.2352941e-06 | H49: =E49/$B$6 -> 0.0015458824 | J49: H
A50: Barium and compounds | B50: 7440-39-3 | C50: 0.0044 | D50: =C50*$B$19 -> 9.3176471e-05 | E50: =C50*$B$18 -> 0.034009412 | G50: =D50/$B$6 -> 9.3176471e-05 | H50: =E50/$B$6 -> 0.034009412
A51: Beryllium and compounds | B51: 7440-41-7 | C51: 1.2e-05 | D51: =C51*$B$19 -> 2.5411765e-07 | E51: =C51*$B$18 -> 9.2752941e-05 | G51: =D51/$B$6 -> 2.5411765e-07 | H51: =E51/$B$6 -> 9.2752941e-05 | J51: H
A52: Cadmium and compounds | B52: 7440-43-9 | C52: 0.0011 | D52: =C52*$B$19 -> 2.3294118e-05 | E52: =C52*$B$18 -> 0.0085023529 | G52: =D52/$B$6 -> 2.3294118e-05 | H52: =E52/$B$6 -> 0.0085023529 | J52: H
A53: Chromium VI, chromate and dichromate particulate | B53: 18540-29-9 | C53: 0.0014 | D53: =C53*$B$19 -> 2.9647059e-05 | E53: =C53*$B$18 -> 0.010821176 | G53: =D53/$B$6 -> 2.9647059e-05 | H53: =E53/$B$6 -> 0.010821176 | J53: H
A54: Cobalt and compounds | B54: 7440-48-4 | C54: 8.4e-05 | D54: =C54*$B$19 -> 1.7788235e-06 | E54: =C54*$B$18 -> 0.00064927059 | G54: =D54/$B$6 -> 1.7788235e-06 | H54: =E54/$B$6 -> 0.00064927059 | J54: H
A55: Copper and compounds | B55: 7440-50-8 | C55: 0.00085 | D55: =C55*$B$19 -> 1.8e-05 | E55: =C55*$B$18 -> 0.00657 | G55: =D55/$B$6 -> 1.8e-05 | H55: =E55/$B$6 -> 0.00657
A56: Ethyl benzene | B56: 100-41-4 | C56: 0.0095 | D56: =C56*$B$19 -> 0.00020117647 | E56: =C56*$B$18 -> 0.073429412 | G56: =D56/$B$6 -> 0.00020117647 | H56: =E56/$B$6 -> 0.073429412 | J56: H
A57: Hexane | B57: 110-54-3 | C57: 0.0063 | D57: =C57*$B$19 -> 0.00013341176 | E57: =C57*$B$18 -> 0.048695294 | G57: =D57/$B$6 -> 0.00013341176 | H57: =E57/$B$6 -> 0.048695294 | J57: H
A58: Lead and compounds | B58: 7439-92-1 | C58: 0.0005 | D58: =C58*$B$19 -> 1.0588235e-05 | E58: =C58*$B$18 -> 0.0038647059 | G58: =D58/$B$6 -> 1.0588235e-05 | H58: =E58/$B$6 -> 0.0038647059 | J58: H
A59: Manganese and compounds | B59: 7439-96-5 | C59: 0.00038 | D59: =C59*$B$19 -> 8.0470588e-06 | E59: =C59*$B$18 -> 0.0029371765 | G59: =D59/$B$6 -> 8.0470588e-06 | H59: =E59/$B$6 -> 0.0029371765 | J59: H
A60: Mercury and compounds | B60: 7439-97-6 | C60: 0.00026 | D60: =C60*$B$19 -> 5.5058824e-06 | E60: =C60*$B$18 -> 0.0020096471 | G60: =D60/$B$6 -> 5.5058824e-06 | H60: =E60/$B$6 -> 0.0020096471 | J60: H
A61: Molybdenum trioxide | B61: 1313-27-5 | C61: 0.00165 | D61: =C61*$B$19 -> 3.4941176e-05 | E61: =C61*$B$18 -> 0.012753529 | G61: =D61/$B$6 -> 3.4941176e-05 | H61: =E61/$B$6 -> 0.012753529
A62: Nickel compounds, insoluble | B62: 365 | C62: 0.0021 | D62: =C62*$B$19 -> 4.4470588e-05 | E62: =C62*$B$18 -> 0.016231765 | G62: =D62/$B$6 -> 4.4470588e-05 | H62: =E62/$B$6 -> 0.016231765 | J62: H
A63: Selenium and compounds | B63: 7782-49-2 | C63: 2.4e-05 | D63: =C63*$B$19 -> 5.0823529e-07 | E63: =C63*$B$18 -> 0.00018550588 | G63: =D63/$B$6 -> 5.0823529e-07 | H63: =E63/$B$6 -> 0.00018550588 | J63: H
A64: Toluene | B64: 108-88-3 | C64: 0.0366 | D64: =C64*$B$19 -> 0.00077505882 | E64: =C64*$B$18 -> 0.28289647 | G64: =D64/$B$6 -> 0.00077505882 | H64: =E64/$B$6 -> 0.28289647 | J64: H
A65: Vanadium (fume or dust) | B65: 7440-62-2 | C65: 0.0023 | D65: =C65*$B$19 -> 4.8705882e-05 | E65: =C65*$B$18 -> 0.017777647 | G65: =D65/$B$6 -> 4.8705882e-05 | H65: =E65/$B$6 -> 0.017777647
A66: Xylene (mixture), including m-xylene, o-xylene, p-xylene | B66: 1330-20-7 | C66: 0.0272 | D66: =C66*$B$19 -> 0.000576 | E66: =C66*$B$18 -> 0.21024 | G66: =D66/$B$6 -> 0.000576 | H66: =E66/$B$6 -> 0.21024 | J66: H
A67: Zinc and compounds | B67: 7440-66-6 | C67: 0.029 | D67: =C67*$B$19 -> 0.00061411765 | E67: =C67*$B$18 -> 0.22415294 | G67: =D67/$B$6 -> 0.00061411765 | H67: =E67/$B$6 -> 0.22415294
A68: Total TACs | D68: =SUM(D41:D67) -> 0.071073767 | E68: =SUM(E41:E67) -> 25.941925 | G68: =SUM(G41:G67) -> 0.071073767 | H68: =SUM(H41:H67) -> 25.941925 | J68: =H68-H48-H50-H55-H61-H65-H67 -> 0.91254363 | K68: HAPs
A142: Greenhouse Gases
A143: GHG-CH4 | B143: 1.04e-05 | C143: mtCO2e/gal | D143: (3) | E143: =B143*#REF! -> #REF! | G143: MT
A144: GHG-CO2 | B144: 0.010206 | C144: mtCO2e/gal | D144: (3) | E144: =B144*#REF! -> #REF! | G144: MT
A145: GHG-N20 | B145: 2.47e-05 | C145: mtCO2e/gal | D145: (3) | E145: =B145*#REF! -> #REF! | G145: MT | H145: =SUM(E143:E145) -> #REF! | I145: MT
A146: Hazardous Air Pollutants (HAPs) | H146: =H145*1.10231 -> #REF! | I146: Short Tons
A147: Benzene | B147: 0.000776 | C147: lb/MMBtu | D147: (4) | E147: =B147*#REF!*#REF!/1000000/2000 -> #REF!
A148: Toluene | B148: 0.000281 | C148: lb/MMBtu | D148: (4) | E148: =B148*#REF!*#REF!/1000000/2000 -> #REF! | H148: 2490
A149: Xylenes | B149: 0.000193 | C149: lb/MMBtu | D149: (4) | E149: =B149*#REF!*#REF!/1000000/2000 -> #REF! | H149: =H148*1.10231 -> 2744.7519 | I149: Short Tons
A150: Formaldehyde | B150: 7.89e-05 | C150: lb/MMBtu | D150: (4) | E150: =B150*#REF!*#REF!/1000000/2000 -> #REF!
A151: Acetaldehyde | B151: 2.52e-05 | C151: lb/MMBtu | D151: (4) | E151: =B151*#REF!*#REF!/1000000/2000 -> #REF!
A152: Acrolein | B152: 7.88e-06 | C152: lb/MMBtu | D152: (4) | E152: =B152*#REF!*#REF!/1000000/2000 -> #REF!
A153: Napthalene | B153: 0.00013 | C153: lb/MMBtu | D153: (4) | E153: =B153*#REF!*#REF!/1000000/2000 -> #REF!
A154: Total PAH | B154: 0.000212 | C154: lb/MMBtu | D154: (4) | E154: =B154*#REF!*#REF!/1000000/2000 -> #REF!
A155: Total HAPs | E155: =SUM(E147:E154) -> #REF!
A157: (1) "Worst-case" emission factor derived from manufacturers specifications.
A158: (2) SCAQMD Reporting Procedures for AB2588 Table B-2 Default EF for Diesel/Distillate Oil Fuel Combustion
A159: (3) 40 CFR 98 Tbl. C-1, C-2
A160: (4) AP-42 Table 3.4-3
A161: MT = Metric Tons
A163: Potential Emissions from Non-Emergency Operations - Annual Summary
A165: NOx | B165: CO | C165: VOC | D165: PM/PM10/PM2.5 | E165: SO2 | G165: GHG-CO2e | H165: HAPs
A166: tpy
A167: =#REF! -> #REF! | B167: =#REF! -> #REF! | C167: =#REF! -> #REF! | D167: =#REF! -> #REF! | E167: =#REF! -> #REF! | G167: =SUM(E143:E145) -> #REF! | H167: =E155 -> #REF!
A182: ULSD Fuel Use | B182: 624500 | C182: gal/yr
A183: ULSD Heating Value | B183: 138000 | C183: Btu/gal
A185: Pollutant | B185: Emission Factor | E185: Potential Emissions (tpy)
B186: Value | C186: Units | D186: Reference
A187: Criteria Pollutants
A188: NOx | B188: =#REF! -> #REF! | C188: lb/gal | D188: (1) | E188: =B188*$B$182/2000 -> #REF!
A189: CO | B189: =#REF! -> #REF! | C189: lb/gal | D189: (1) | E189: =B189*$B$182/2000 -> #REF!
A190: VOC | B190: =#REF! -> #REF! | C190: lb/gal | D190: (1) | E190: =B190*$B$182/2000 -> #REF!
A191: PM/PM10/PM2.5 | B191: =#REF! -> #REF! | C191: lb/gal | D191: (1) | E191: =B191*$B$182/2000 -> #REF!
A192: SO2 | B192: =#REF! -> #REF! | C192: lb/gal | D192: (1) | E192: =B192*$B$182/2000 -> #REF!
A193: Lead | B193: 0.0083 | C193: lb/kgal | D193: (2) | E193: =B193*B182/1000/2000 -> 0.002591675
A194: Greenhouse Gases
A195: GHG-CH4 | B195: 1.04e-05 | C195: mtCO2e/gal | D195: (3) | E195: =B195*$B$182 -> 6.4948 | G195: MT
A196: GHG-CO2 | B196: 0.010206 | C196: mtCO2e/gal | D196: (3) | E196: =B196*$B$182 -> 6373.647 | G196: MT
A197: GHG-N20 | B197: 2.47e-05 | C197: mtCO2e/gal | D197: (3) | E197: =B197*$B$182 -> 15.42515 | G197: MT
A198: Hazardous Air Pollutants (HAPs)
A199: Benzene | B199: 0.000776 | C199: lb/MMBtu | D199: (4) | E199: =B199*$B$182*$B$183/1000000/2000 -> 0.033438228
A200: Toluene | B200: 0.000281 | C200: lb/MMBtu | D200: (4) | E200: =B200*$B$182*$B$183/1000000/2000 -> 0.012108431
A201: Xylenes | B201: 0.000193 | C201: lb/MMBtu | D201: (4) | E201: =B201*$B$182*$B$183/1000000/2000 -> 0.0083164665
A202: Formaldehyde | B202: 7.89e-05 | C202: lb/MMBtu | D202: (4) | E202: =B202*$B$182*$B$183/1000000/2000 -> 0.0033998404
A203: Acetaldehyde | B203: 2.52e-05 | C203: lb/MMBtu | D203: (4) | E203: =B203*$B$182*$B$183/1000000/2000 -> 0.0010858806
A204: Acrolein | B204: 7.88e-06 | C204: lb/MMBtu | D204: (4) | E204: =B204*$B$182*$B$183/1000000/2000 -> 0.00033955314
...

Sheet 2Coating Oven Burner H3
A4: Table 3-2: Emissions from Coating Oven Burner (H3)
A6: Number of units | B6: 1
A7: Rating | B7: 4 | C7: MMBtu/hr
A8: HHV Natural Gas | B8: 1020 | C8: Btu/ft3
A9: Max. Daily Operating Hours | B9: 24
A10: Max. Annual Operating Hours | B10: 8760
A11: Expected Max. Annual Operating Capacity | B11: 1 | I11: Assumed annual operation
A12: Max. Annual Natural Gas Usage | B12: =B6*B7*B10*B11 -> 35040 | C12: MMBtu/yr
A13: Max. Annual Natural Gas Usage | B13: =B12/B8 -> 34.352941 | C13: MMCF/yr
A16: Total Fuel Usage
A17: Annual Natural Gas Usage | B17: =B12 -> 35040 | C17: MMBtu/yr
A18: Annual Natural Gas Usage | B18: =B13 -> 34.352941 | C18: MMCF/yr
A19: Daily Natural Gas Usage | B19: =B6*B7/B8*B9 -> 0.094117647 | C19: MMCF/day
A21: Criteria Pollutants(1)
A22: Pollutant | B22: Emission Factor (lb/MMCF) | C22: Emission Rate (tpy)
A23: NOx | B23: 100 | C23: =B23*$B$18/2000 -> 1.7176471
A24: CO | B24: 84 | C24: =B24*$B$18/2000 -> 1.4428235
A25: VOC | B25: 5.5 | C25: =B25*$B$18/2000 -> 0.094470588
A26: PM/PM10/PM2.5 | B26: 2.5 | C26: =B26*$B$18/2000 -> 0.042941176
A27: SO2 | B27: 2.6 | C27: =B27*$B$18/2000 -> 0.044658824
A28: (1) Emission factor from ODEQ, AQ-EF05
A30: Greenhouse Gases(2)
A31: Pollutant | B31: Emission Factor (kg/MMBtu) | C31: Emission Rate (tpy)
A32: CO2e | B32: 53.1148 | C32: =(B32*B17/1000)*1.10231 -> 2051.5561
A33: (2) Emission factor from EPA, 40 CFR Part 98, Subpart C
A36: Toxic Air Contaminants (TACs)(3) | F36: Single Unit
A37: Pollutant | B37: CAS | C37: Emission Factor (lb/MMCF) | D37: Daily Emissions (lb/day) | E37: Annual Emissions (lb/yr) | F37: Daily Emissions (lb/day) | G37: Annual Emissions (lb/yr)
A38: Benzene | B38: 71-43-2 | C38: 0.008 | D38: =C38*$B$19 -> 0.00075294118 | E38: =C38*$B$18 -> 0.27482353 | F38: =D38/$B$6 -> 0.00075294118 | G38: =E38/$B$6 -> 0.27482353 | I38: H
A39: Formaldehyde | B39: 50-00-0 | C39: 0.017 | D39: =C39*$B$19 -> 0.0016 | E39: =C39*$B$18 -> 0.584 | F39: =D39/$B$6 -> 0.0016 | G39: =E39/$B$6 -> 0.584 | I39: H
A40: Polycyclic aromatic hydrocarbons (PAHs) | B40: 401 | C40: 0.0001 | D40: =C40*$B$19 -> 9.4117647e-06 | E40: =C40*$B$18 -> 0.0034352941 | F40: =D40/$B$6 -> 9.4117647e-06 | G40: =E40/$B$6 -> 0.0034352941 | I40: H
A41: Benzo[a]pyrene | B41: 50-32-8 | C41: 1.2e-06 | D41: =C41*$B$19 -> 1.1294118e-07 | E41: =C41*$B$18 -> 4.1223529e-05 | F41: =D41/$B$6 -> 1.1294118e-07 | G41: =E41/$B$6 -> 4.1223529e-05 | I41: H
A42: Naphthalene | B42: 91-20-3 | C42: 0.0003 | D42: =C42*$B$19 -> 2.8235294e-05 | E42: =C42*$B$18 -> 0.010305882 | F42: =D42/$B$6 -> 2.8235294e-05 | G42: =E42/$B$6 -> 0.010305882 | I42: H
A43: Acetaldehyde | B43: 75-07-0 | C43: 0.0043 | D43: =C43*$B$19 -> 0.00040470588 | E43: =C43*$B$18 -> 0.14771765 | F43: =D43/$B$6 -> 0.00040470588 | G43: =E43/$B$6 -> 0.14771765 | I43: H
A44: Acrolein | B44: 107-02-8 | C44: 0.0027 | D44: =C44*$B$19 -> 0.00025411765 | E44: =C44*$B$18 -> 0.092752941 | F44: =D44/$B$6 -> 0.00025411765 | G44: =E44/$B$6 -> 0.092752941 | I44: H
A45: Ammonia | B45: 7664-41-7 | C45: 3.2 | D45: =C45*$B$19 -> 0.30117647 | E45: =C45*$B$18 -> 109.92941 | F45: =D45/$B$6 -> 0.30117647 | G45: =E45/$B$6 -> 109.92941
A46: Arsenic and compounds | B46: 7440-38-2 | C46: 0.0002 | D46: =C46*$B$19 -> 1.8823529e-05 | E46: =C46*$B$18 -> 0.0068705882 | F46: =D46/$B$6 -> 1.8823529e-05 | G46: =E46/$B$6 -> 0.0068705882 | I46: H
A47: Barium and compounds | B47: 7440-39-3 | C47: 0.0044 | D47: =C47*$B$19 -> 0.00041411765 | E47: =C47*$B$18 -> 0.15115294 | F47: =D47/$B$6 -> 0.00041411765 | G47: =E47/$B$6 -> 0.15115294
A48: Beryllium and compounds | B48: 7440-41-7 | C48: 1.2e-05 | D48: =C48*$B$19 -> 1.1294118e-06 | E48: =C48*$B$18 -> 0.00041223529 | F48: =D48/$B$6 -> 1.1294118e-06 | G48: =E48/$B$6 -> 0.00041223529 | I48: H
A49: Cadmium and compounds | B49: 7440-43-9 | C49: 0.0011 | D49: =C49*$B$19 -> 0.00010352941 | E49: =C49*$B$18 -> 0.037788235 | F49: =D49/$B$6 -> 0.00010352941 | G49: =E49/$B$6 -> 0.037788235 | I49: H
A50: Chromium VI, chromate and dichromate particulate | B50: 18540-29-9 | C50: 0.0014 | D50: =C50*$B$19 -> 0.00013176471 | E50: =C50*$B$18 -> 0.048094118 | F50: =D50/$B$6 -> 0.00013176471 | G50: =E50/$B$6 -> 0.048094118 | I50: H
A51: Cobalt and compounds | B51: 7440-48-4 | C51: 8.4e-05 | D51: =C51*$B$19 -> 7.9058824e-06 | E51: =C51*$B$18 -> 0.0028856471 | F51: =D51/$B$6 -> 7.9058824e-06 | G51: =E51/$B$6 -> 0.0028856471 | I51: H
A52: Copper and compounds | B52: 7440-50-8 | C52: 0.00085 | D52: =C52*$B$19 -> 8e-05 | E52: =C52*$B$18 -> 0.0292 | F52: =D52/$B$6 -> 8e-05 | G52: =E52/$B$6 -> 0.0292
A53: Ethyl benzene | B53: 100-41-4 | C53: 0.0095 | D53: =C53*$B$19 -> 0.00089411765 | E53: =C53*$B$18 -> 0.32635294 | F53: =D53/$B$6 -> 0.00089411765 | G53: =E53/$B$6 -> 0.32635294 | I53: H
A54: Hexane | B54: 110-54-3 | C54: 0.0063 | D54: =C54*$B$19 -> 0.00059294118 | E54: =C54*$B$18 -> 0.21642353 | F54: =D54/$B$6 -> 0.00059294118 | G54: =E54/$B$6 -> 0.21642353 | I54: H
A55: Lead and compounds | B55: 7439-92-1 | C55: 0.0005 | D55: =C55*$B$19 -> 4.7058824e-05 | E55: =C55*$B$18 -> 0.017176471 | F55: =D55/$B$6 -> 4.7058824e-05 | G55: =E55/$B$6 -> 0.017176471 | I55: H
A56: Manganese and compounds | B56: 7439-96-5 | C56: 0.00038 | D56: =C56*$B$19 -> 3.5764706e-05 | E56: =C56*$B$18 -> 0.013054118 | F56: =D56/$B$6 -> 3.5764706e-05 | G56: =E56/$B$6 -> 0.013054118 | I56: H
A57: Mercury and compounds | B57: 7439-97-6 | C57: 0.00026 | D57: =C57*$B$19 -> 2.4470588e-05 | E57: =C57*$B$18 -> 0.0089317647 | F57: =D57/$B$6 -> 2.4470588e-05 | G57: =E57/$B$6 -> 0.0089317647 | I57: H
A58: Molybdenum trioxide | B58: 1313-27-5 | C58: 0.00165 | D58: =C58*$B$19 -> 0.00015529412 | E58: =C58*$B$18 -> 0.056682353 | F58: =D58/$B$6 -> 0.00015529412 | G58: =E58/$B$6 -> 0.056682353
A59: Nickel compounds, insoluble | B59: 365 | C59: 0.0021 | D59: =C59*$B$19 -> 0.00019764706 | E59: =C59*$B$18 -> 0.072141176 | F59: =D59/$B$6 -> 0.00019764706 | G59: =E59/$B$6 -> 0.072141176 | I59: H
A60: Selenium and compounds | B60: 7782-49-2 | C60: 2.4e-05 | D60: =C60*$B$19 -> 2.2588235e-06 | E60: =C60*$B$18 -> 0.00082447059 | F60: =D60/$B$6 -> 2.2588235e-06 | G60: =E60/$B$6 -> 0.00082447059 | I60: H
A61: Toluene | B61: 108-88-3 | C61: 0.0366 | D61: =C61*$B$19 -> 0.0034447059 | E61: =C61*$B$18 -> 1.2573176 | F61: =D61/$B$6 -> 0.0034447059 | G61: =E61/$B$6 -> 1.2573176 | I61: H
A62: Vanadium (fume or dust) | B62: 7440-62-2 | C62: 0.0023 | D62: =C62*$B$19 -> 0.00021647059 | E62: =C62*$B$18 -> 0.079011765 | F62: =D62/$B$6 -> 0.00021647059 | G62: =E62/$B$6 -> 0.079011765
A63: Xylene (mixture), including m-xylene, o-xylene, p-xylene | B63: 1330-20-7 | C63: 0.0272 | D63: =C63*$B$19 -> 0.00256 | E63: =C63*$B$18 -> 0.9344 | F63: =D63/$B$6 -> 0.00256 | G63: =E63/$B$6 -> 0.9344 | I63: H
A64: Zinc and compounds | B64: 7440-66-6 | C64: 0.029 | D64: =C64*$B$19 -> 0.0027294118 | E64: =C64*$B$18 -> 0.99623529 | F64: =D64/$B$6 -> 0.0027294118 | G64: =E64/$B$6 -> 0.99623529
A65: Total TACs | D65: =SUM(D38:D64) -> 0.31588341 | E65: =SUM(E38:E64) -> 115.29744 | F65: =SUM(F38:F64) -> 0.31588341 | G65: =SUM(G38:G64) -> 115.29744 | I65: =G65-G45-G47-G52-G58-G62-G64 -> 4.0557495 | J65: HAPs
A139: Greenhouse Gases
A140: GHG-CH4 | B140: 1.04e-05 | C140: mtCO2e/gal | D140: (3) | E140: =B140*#REF! -> #REF! | F140: MT
A141: GHG-CO2 | B141: 0.010206 | C141: mtCO2e/gal | D141: (3) | E141: =B141*#REF! -> #REF! | F141: MT
A142: GHG-N20 | B142: 2.47e-05 | C142: mtCO2e/gal | D142: (3) | E142: =B142*#REF! -> #REF! | F142: MT | G142: =SUM(E140:E142) -> #REF! | H142: MT
A143: Hazardous Air Pollutants (HAPs) | G143: =G142*1.10231 -> #REF! | H143: Short Tons
A144: Benzene | B144: 0.000776 | C144: lb/MMBtu | D144: (4) | E144: =B144*#REF!*#REF!/1000000/2000 -> #REF!
A145: Toluene | B145: 0.000281 | C145: lb/MMBtu | D145: (4) | E145: =B145*#REF!*#REF!/1000000/2000 -> #REF! | G145: 2490
A146: Xylenes | B146: 0.000193 | C146: lb/MMBtu | D146: (4) | E146: =B146*#REF!*#REF!/1000000/2000 -> #REF! | G146: =G145*1.10231 -> 2744.7519 | H146: Short Tons
A147: Formaldehyde | B147: 7.89e-05 | C147: lb/MMBtu | D147: (4) | E147: =B147*#REF!*#REF!/1000000/2000 -> #REF!
A148: Acetaldehyde | B148: 2.52e-05 | C148: lb/MMBtu | D148: (4) | E148: =B148*#REF!*#REF!/1000000/2000 -> #REF!
A149: Acrolein | B149: 7.88e-06 | C149: lb/MMBtu | D149: (4) | E149: =B149*#REF!*#REF!/1000000/2000 -> #REF!
A150: Napthalene | B150: 0.00013 | C150: lb/MMBtu | D150: (4) | E150: =B150*#REF!*#REF!/1000000/2000 -> #REF!
A151: Total PAH | B151: 0.000212 | C151: lb/MMBtu | D151: (4) | E151: =B151*#REF!*#REF!/1000000/2000 -> #REF!
A152: Total HAPs | E152: =SUM(E144:E151) -> #REF!
A154: (1) "Worst-case" emission factor derived from manufacturers specifications.
A155: (2) SCAQMD Reporting Procedures for AB2588 Table B-2 Default EF for Diesel/Distillate Oil Fuel Combustion
A156: (3) 40 CFR 98 Tbl. C-1, C-2
A157: (4) AP-42 Table 3.4-3
A158: MT = Metric Tons
A160: Potential Emissions from Non-Emergency Operations - Annual Summary
A162: NOx | B162: CO | C162: VOC | D162: PM/PM10/PM2.5 | E162: SO2 | F162: GHG-CO2e | G162: HAPs
A163: tpy
A164: =#REF! -> #REF! | B164: =#REF! -> #REF! | C164: =#REF! -> #REF! | D164: =#REF! -> #REF! | E164: =#REF! -> #REF! | F164: =SUM(E140:E142) -> #REF! | G164: =E152 -> #REF!
A179: ULSD Fuel Use | B179: 624500 | C179: gal/yr
A180: ULSD Heating Value | B180: 138000 | C180: Btu/gal
A182: Pollutant | B182: Emission Factor | E182: Potential Emissions (tpy)
B183: Value | C183: Units | D183: Reference
A184: Criteria Pollutants
A185: NOx | B185: =#REF! -> #REF! | C185: lb/gal | D185: (1) | E185: =B185*$B$179/2000 -> #REF!
A186: CO | B186: =#REF! -> #REF! | C186: lb/gal | D186: (1) | E186: =B186*$B$179/2000 -> #REF!
A187: VOC | B187: =#REF! -> #REF! | C187: lb/gal | D187: (1) | E187: =B187*$B$179/2000 -> #REF!
A188: PM/PM10/PM2.5 | B188: =#REF! -> #REF! | C188: lb/gal | D188: (1) | E188: =B188*$B$179/2000 -> #REF!
A189: SO2 | B189: =#REF! -> #REF! | C189: lb/gal | D189: (1) | E189: =B189*$B$179/2000 -> #REF!
A190: Lead | B190: 0.0083 | C190: lb/kgal | D190: (2) | E190: =B190*B179/1000/2000 -> 0.002591675
A191: Greenhouse Gases
A192: GHG-CH4 | B192: 1.04e-05 | C192: mtCO2e/gal | D192: (3) | E192: =B192*$B$179 -> 6.4948 | F192: MT
A193: GHG-CO2 | B193: 0.010206 | C193: mtCO2e/gal | D193: (3) | E193: =B193*$B$179 -> 6373.647 | F193: MT
A194: GHG-N20 | B194: 2.47e-05 | C194: mtCO2e/gal | D194: (3) | E194: =B194*$B$179 -> 15.42515 | F194: MT
A195: Hazardous Air Pollutants (HAPs)
A196: Benzene | B196: 0.000776 | C196: lb/MMBtu | D196: (4) | E196: =B196*$B$179*$B$180/1000000/2000 -> 0.033438228
A197: Toluene | B197: 0.000281 | C197: lb/MMBtu | D197: (4) | E197: =B197*$B$179*$B$180/1000000/2000 -> 0.012108431
A198: Xylenes | B198: 0.000193 | C198: lb/MMBtu | D198: (4) | E198: =B198*$B$179*$B$180/1000000/2000 -> 0.0083164665
A199: Formaldehyde | B199: 7.89e-05 | C199: lb/MMBtu | D199: (4) | E199: =B199*$B$179*$B$180/1000000/2000 -> 0.0033998404
A200: Acetaldehyde | B200: 2.52e-05 | C200: lb/MMBtu | D200: (4) | E200: =B200*$B$179*$B$180/1000000/2000 -> 0.0010858806
A201: Acrolein | B201: 7.88e-06 | C201: lb/MMBtu | D201: (4) | E201: =B201*$B$179*$B$180/1000000/2000 -> 0.00033955314
...

Sheet 3Coating Oven (CO1)
A3: Table 3-3: Emissions from Coating Oven (CO1)
A6: Coating Use Information
A8: Coating* Usage | B8: 89219.331 | C8: gal/yr | D8: 488.87305 | E8: gal/day
A9: Resin | B9: =32354*2 -> 64708 | C9: gal/yr | D9: 354.56438 | E9: gal/day
A10: Pigment | B10: =12256*2 -> 24512 | C10: gal/yr | D10: 134.31233 | E10: gal/day
A11: Flow additive | B11: =100*3 -> 300 | C11: gal/yr | D11: 8.2191781 | E11: gal/day
A12: * 2.64 gal resin to 1 gal pigment
A14: Operating Hours | B14: 8760 | C14: hr/yr
B15: 24 | C15: hr/day
A16: Daily Peaking Factors | B16: 2 | C16: (Resin & Pigment)
B17: 10 | C17: (Flow Additive)
A19: Coating Emissions
A21: Criteria Pollutant | C21: AquaEC 5100
A22: Pollutant | B22: Coating Component | C22: Coating Usage gal/yr | D22: Coating Usage gal/day | E22: Coating Density (lb/gal) | F22: VOC Content by wt. (%) | G22: Daily Emission lb/day | H22: Annual Emission lb/yr | I22: Annual Emission tpy
A23: VOC | B23: Resin | C23: =B9 -> 64708 | D23: =D9 -> 354.56438 | E23: =1.05*8.34 -> 8.757 | F23: 0.02 | G23: =D23*E23*F23 -> 62.098406 | H23: =C23*E23*F23 -> 11332.959 | I23: =H23/2000 -> 5.6664796
B24: Pigment | C24: =B10 -> 24512 | D24: =D10 -> 134.31233 | E24: =1.361*8.34 -> 11.35074 | F24: 0.0944 | G24: =D24*E24*F24 -> 143.91698 | H24: =C24*E24*F24 -> 26264.85 | I24: =H24/2000 -> 13.132425
B25: Flow Additive | C25: =B11 -> 300 | D25: =D11 -> 8.2191781 | E25: =0.895*8.34 -> 7.4643 | F25: 1 | G25: =D25*E25*F25 -> 61.350411 | H25: =C25*E25*F25 -> 2239.29 | I25: =H25/2000 -> 1.119645
A26: Total VOC | I26: =SUM(I23:I25) -> 19.918549
A29: Toxic Air Contaminants (TACs)
A30: Coating Component | B30: Chemical | C30: CAS | D30: Wt Percent of Component | E30: Density (lb/gal) | F30: Emission (lb/day) | G30: Emission (lb/yr)
A31: Resin | B31: 1-methoxy-2-propanol | C31: 107-98-2 | D31: 0.03 | E31: =1.05*8.34 -> 8.757 | F31: =D9*E31*D31 -> 93.147609 | G31: =D31*E31*B9 -> 16999.439
A32: Pigment | B32: butan-2-ol | C32: 78-92-2 | D32: 0.064 | E32: =1.361*8.34 -> 11.35074 | F32: =D10*E32*D32 -> 97.570837 | G32: =D32*E32*B10 -> 17806.678
A33: Pigment | B33: 2-butoxyethanol | C33: 111-76-2 | D33: 0.018 | E33: =E32 -> 11.35074 | F33: =D10*E33*D33 -> 27.441798 | G33: =D33*E33*B10 -> 5008.1281
A34: Flow Additive | B34: 2-butoxyethanol | C34: 111-76-2 | D34: 0.55 | E34: =0.895*8.34 -> 7.4643 | F34: =D11*E34*D34 -> 33.742726 | G34: =D34*E34*B11 -> 1231.6095 | N34: =SUM(F33:F34) -> 61.184524 | O34: =SUM(G33:G34) -> 6239.7376
E35: Total TAC from Coating Oven | F35: =SUM(F31:F34) -> 251.90297 | G35: =SUM(G31:G34) -> 41045.854

Sheet 4Coating Line Baths (CL1)
A3: Table 3-4: Emissions from Coating Line Baths (CL1)
A5: Pretreatment Baths
A16: Operating Hrs | B16: 8760 | C16: hrs/yr
B17: 24 | C17: hr/day | H17: 1.26
H18: 1.06 | I18: =MEDIAN(H17:H18) -> 1.16
A19: Toxic Air Contaminants (TACs)
A20: Pretreat Option | B20: Tank Process Name | C20: Tank # | D20: Additive | E20: Additive Concentration in Bath (gal/100 gal) | F20: Additive Density (lb/gal) | G20: Chemical/ TAC Pollutant | H20: CAS (See Note 2) | I20: Chemical Weight % In Additive | J20: Chemical Concentration (lb/gal) | K20: Surface Tension, σ (lbf/ft) | L20: Average Bubble Radius, Rb (Inches) | M20: Factor, a (0.072 Rb2/σ) | N20: Tank Liquid Emission Rate (grains/ft3-aeration air) | O20: Aeration Rate (cfm/ft2) | P20: Tank Surface Area (ft2) | Q20: Tank Liquid Emission Rate (lb/hr) | R20: MWAF (see Note 3) | S20: Chemical Emission Rate (lb/hr) | T20: Chemical Emission Rate (lb/day) | U20: Chemical Emission Rate (lb/yr)
A21: Zinc Option | B21: Alkaline Clean | C21: Stage 2 | D21: Bonderite NP-2 | E21: 3 | G21: no TACs | H21: -- | S21: 0 | T21: 0 | U21: 0
B22: Conditioner | C22: Stage 5 | D22: Prepalene X | E22: 0.26 | F22: =1.26*8.34 -> 10.5084 | G22: zinc orthophosphate | H22: 7440-66-6 | I22: 0.3 | J22: =I22*(E22*F22)/(100) -> 0.008196552 | K22: 0.0048 | L22: 0.05 | M22: =0.072*(L22^2)/K22 -> 0.0375 | N22: =(1.9*K22/L22)*((((1-2*M22+9*M22^2)^0.5+(M22-1))/((1+3*M22)-(1-2*M22+9*M22^2)^0.5)))^0.5 -> 0.036667962 | O22: 10 | P22: 59 | Q22: =N22*O22*P22*60/7000 -> 0.18543512 | R22: =(3*65.38)/386.11 -> 0.50798995 | S22: =(Q22*J22/(8.34))*R22 -> 9.2578954e-05 | T22: =S22*$B$17 -> 0.0022218949 | U22: =S22*$B$16 -> 0.81099163
B23: Zinc Pretreat | C23: Stage 6 | D23: Bonderite 3410 | E23: 3.4 | F23: =1.4*8.34 -> 11.676 | G23: zinc dihydrogen phosphate | H23: 7440-66-6 | I23: 0.2 | J23: =I23*(E23*F23)/(100) -> 0.0793968 | K23: 0.0048 | L23: 0.05 | M23: =0.072*(L23^2)/K23 -> 0.0375 | N23: =(1.9*K23/L23)*((((1-2*M23+9*M23^2)^0.5+(M23-1))/((1+3*M23)-(1-2*M23+9*M23^2)^0.5)))^0.5 -> 0.036667962 | O23: 10 | P23: 59 | Q23: =N23*O23*P23*60/7000 -> 0.18543512 | R23: =(1*65.38)/259.4 -> 0.25204318 | S23: =(Q23*J23/(8.34))*R23 -> 0.0004449425 | T23: =S23*$B$17 -> 0.01067862 | U23: =S23*$B$16 -> 3.8976963
B24: Zinc Pretreat | C24: Stage 6 | D24: Bonderite 3410 | E24: 3.4 | F24: =1.4*8.34 -> 11.676 | G24: nickel nitrate | H24: 7440-02-0 | I24: 0.1 | J24: =I24*(E24*F24)/(100) -> 0.0396984 | K24: 0.0048 | L24: 0.05 | M24: =0.072*(L24^2)/K24 -> 0.0375 | N24: =(1.9*K24/L24)*((((1-2*M24+9*M24^2)^0.5+(M24-1))/((1+3*M24)-(1-2*M24+9*M24^2)^0.5)))^0.5 -> 0.036667962 | O24: 10 | P24: 59 | Q24: =N24*O24*P24*60/7000 -> 0.18543512 | R24: =58.69/290.8 -> 0.20182256 | S24: =(Q24*J24/(8.34))*R24 -> 0.00017814296 | T24: =S24*$B$17 -> 0.004275431 | U24: =S24*$B$16 -> 1.5605323 | V24: H
B25: Zinc Pretreat | C25: Stage 6 | D25: Bonderite 3410 | E25: 3.4 | F25: =1.4*8.34 -> 11.676 | G25: phophoric acid | H25: 7664-38-2 | I25: 0.05 | J25: =I25*(E25*F25)/(100) -> 0.0198492 | K25: 0.0048 | L25: 0.05 | M25: =0.072*(L25^2)/K25 -> 0.0375 | N25: =(1.9*K25/L25)*((((1-2*M25+9*M25^2)^0.5+(M25-1))/((1+3*M25)-(1-2*M25+9*M25^2)^0.5)))^0.5 -> 0.036667962 | O25: 10 | P25: 59 | Q25: =N25*O25*P25*60/7000 -> 0.18543512 | R25: 1 | S25: =(Q25*J25/(8.34))*R25 -> 0.0004413356 | T25: =S25*$B$17 -> 0.010592054 | U25: =S25*$B$16 -> 3.8660998
B26: Zinc Pretreat | C26: Stage 6 | D26: Bonderite 3410 | E26: 3.4 | F26: =1.4*8.34 -> 11.676 | G26: zinc nitrate | H26: 7440-66-6 | I26: 0.05 | J26: =I26*(E26*F26)/(100) -> 0.0198492 | K26: 0.0048 | L26: 0.05 | M26: =0.072*(L26^2)/K26 -> 0.0375 | N26: =(1.9*K26/L26)*((((1-2*M26+9*M26^2)^0.5+(M26-1))/((1+3*M26)-(1-2*M26+9*M26^2)^0.5)))^0.5 -> 0.036667962 | O26: 10 | P26: 59 | Q26: =N26*O26*P26*60/7000 -> 0.18543512 | R26: =65.38/297.49 -> 0.21977209 | S26: =(Q26*J26/(8.34))*R26 -> 9.6993248e-05 | T26: =S26*$B$17 -> 0.0023278379 | U26: =S26*$B$16 -> 0.84966085 | W26: =U22+U23+U26 -> 5.5583488 | X26: =T22+T23+T26 -> 0.015228353 | Y26: zinc
B27: Zinc Pretreat | C27: Stage 6 | D27: Bonderite 3410 | E27: 3.4 | F27: =1.4*8.34 -> 11.676 | G27: hydrogen fluoride | H27: 7664-39-3 | I27: 0.01 | J27: =I27*(E27*F27)/(100) -> 0.00396984 | K27: 0.0048 | L27: 0.05 | M27: =0.072*(L27^2)/K27 -> 0.0375 | N27: =(1.9*K27/L27)*((((1-2*M27+9*M27^2)^0.5+(M27-1))/((1+3*M27)-(1-2*M27+9*M27^2)^0.5)))^0.5 -> 0.036667962 | O27: 10 | P27: 59 | Q27: =N27*O27*P27*60/7000 -> 0.18543512 | R27: 1 | S27: =(Q27*J27/(8.34))*R27 -> 8.8267119e-05 | T27: =S27*$B$17 -> 0.0021184109 | U27: =S27*$B$16 -> 0.77321996 | V27: H
B28: Zinc Pretreat | C28: Stage 6 | D28: Bonderite M-AD 131 | E28: 0.042 | G28: no TACs | H28: -- | S28: 0 | T28: =S28*$B$17 -> 0 | U28: =S28*$B$16 -> 0
B29: Zinc Pretreat | C29: Stage 6 | D29: Bonderite M-AD 700 | E29: 0.042 | G29: no TACs | S29: 0 | T29: =S29*$B$17 -> 0 | U29: =S29*$B$16 -> 0
B30: Zinc Pretreat | C30: Stage 6 | D30: Bonderite C-IC 2520 | E30: 1 | F30: =1.06*8.34 -> 8.8404 | G30: nitric acid | H30: 7697-37-2 | I30: 0.1 | J30: =I30*(E30*F30)/(100) -> 0.0088404 | K30: 0.0048 | L30: 0.05 | M30: =0.072*(L30^2)/K30 -> 0.0375 | N30: =(1.9*K30/L30)*((((1-2*M30+9*M30^2)^0.5+(M30-1))/((1+3*M30)-(1-2*M30+9*M30^2)^0.5)))^0.5 -> 0.036667962 | O30: 10 | P30: 59 | Q30: =N30*O30*P30*60/7000 -> 0.18543512 | R30: 1 | S30: =(Q30*J30/(8.34))*R30 -> 0.00019656123 | T30: =S30*$B$17 -> 0.0047174696 | U30: =S30*$B$16 -> 1.7218764
Q31: Zinc Pretreat Option Total TACs | S31: =SUM(S21:S28) -> 0.0013422604 | T31: =SUM(T21:T28) -> 0.032214249 | U31: =SUM(U21:U28) -> 11.758201 | V31: =U27+U24 -> 2.3337523 | W31: HAPs
A33: Pretreat Option | B33: Tank Process Name | C33: Tank # | D33: Additive | E33: Additive Concentration in Bath (gal/100 gal) | F33: Additive Density (lb/gal) | G33: Chemical/ TAC Pollutant | H33: CAS (See Note 2) | I33: Chemical Weight % In Additive | J33: Chemical Concentration (lb/gal) | K33: Surface Tension, σ (lbf/ft) | L33: Average Bubble Radius, Rb (Inches) | M33: Factor, a (0.072 Rb2/σ) | N33: Tank Liquid Emission Rate (grains/ft3-aeration air) | O33: Aeration Rate (cfm/ft2) | P33: Tank Surface Area (ft2) | Q33: Tank Liquid Emission Rate (lb/hr) | S33: Chemical Emission Rate (lb/hr) | T33: Chemical Emission Rate (lb/day) | U33: Chemical Emission Rate (lb/yr)
A34: Nano Option | B34: Alkaline Clean | C34: Stage 2 | D34: Bonderite NP-2 | E34: 3 | G34: no TACs | H34: -- | S34: 0 | T34: 0 | U34: 0
B35: Nano Pretreat | C35: Stage 5 | D35: Bonderite M-NT2 | E35: 4 | F35: =1.02*8.34 -> 8.5068 | G35: ammonium nitrate | H35: 6482-52-2 | I35: 0.01 | J35: =I35*(E35*F35)/(100) -> 0.00340272 | K35: 0.0048 | L35: 0.05 | M35: =0.072*(L35^2)/K35 -> 0.0375 | N35: =(1.9*K35/L35)*((((1-2*M35+9*M35^2)^0.5+(M35-1))/((1+3*M35)-(1-2*M35+9*M35^2)^0.5)))^0.5 -> 0.036667962 | O35: 10 | P35: 59 | Q35: =N35*O35*P35*60/7000 -> 0.18543512 | S35: =Q35*J35/(8.34) -> 7.5657531e-05 | T35: =S35*$B$17 -> 0.0018157807 | U35: =S35*$B$16 -> 0.66275997 | V35: 0 | W35: HAPs
A60: Electrocoating Stage (Stage 8 or Stage 9 in coating line depending on Pretreatment option used)
A63: Operating Hours | B63: 8760 | C63: hr/yr
B64: 24 | C64: hr/day
A66: Using EPA emission equation from EIIP Volume II, Chapter 6- Semiconductor MFG, Equation 6.5-5, page 6.5-6 and -7:
B68: Wx = (MWx * K * A * Pvapx)/(R*T)
A70: where:
B71: Wx = Evaporation rate of pollutant x (lb/sec)
B72: MWx = molecular weight of pollutant x (lb/lb-mole)
B73: K = gas phase mass transfer coefficient (ft/sec)= 0.00438 * U 0.78 * (18/MWx)1/3
B74: U = wind speed (mph)
B75: A - surface area (square ft)
B76: Pvapx - vapor pressure of pollutant x (psia)
B77: R = ideal gas constant= 10.73
B78: T = Temperature (oR)
A80: Toxic Air Contaminants (TACs)
A81: AquaEC 5100 Coating Component | C81: Chemical/TAC Pollutant | E81: CAS | F81: Chemical Weight % in component | G81: Chemical Molecular Weight (MW) | H81: U-Wind Speed (mph) | I81: K (ft/sec) | J81: A-Surface Area (ft2) | K81: P vapx (psia) | L81: R (psia-ft3/oR-lb-mole) | M81: T- Temperature (oR) | N81: W (lb/sec) | O81: Chemical Emission (lb/hr) | P81: Chemical Emission (lb/day) | Q81: Chemical Emission (lb/yr)
A82: Resin | C82: 1-methoxy-2-propanol | E82: 107-98-2 | F82: 0.03 | G82: 90.12 | H82: 1.7 | I82: =0.00438*(H82^0.78)*((18/G82)^0.333) -> 0.0038750255 | J82: 65 | K82: 0.242 | L82: 10.73 | M82: =85+459.67 -> 544.67 | N82: =F82*(G82*I82*J82*K82)/(L82*M82) -> 2.8197626e-05 | O82: =N82*3600 -> 0.10151145 | P82: =O82*$B$64 -> 2.4362749 | Q82: =O82*$B$63 -> 889.24033
A83: Pigment paste | C83: 2-butanol | E83: 78-92-2 | F83: 0.064 | G83: 74.12 | H83: 1.7 | I83: =0.00438*(H83^0.78)*((18/G83)^0.333) -> 0.0041356285 | J83: 65 | K83: 0.354 | L83: 10.73 | M83: =85+459.67 -> 544.67 | N83: =F83*(G83*I83*J83*K83)/(L83*M83) -> 7.7239659e-05 | O83: =N83*3600 -> 0.27806277 | P83: =O83*$B$64 -> 6.6735065 | Q83: =O83*$B$63 -> 2435.8299
A84: Pigment paste | C84: 2-butoxyethanol | E84: 111-76-2 | F84: 0.018 | G84: 118.17 | H84: 1.7 | I84: =0.00438*(H84^0.78)*((18/G84)^0.333) -> 0.0035406672 | J84: 65 | K84: 0.017 | L84: 10.73 | M84: =85+459.67 -> 544.67 | N84: =F84*(G84*I84*J84*K84)/(L84*M84) -> 1.4239474e-06 | O84: =N84*3600 -> 0.0051262106 | P84: =O84*$B$64 -> 0.12302905 | Q84: =O84*$B$63 -> 44.905605 | S84: =P84+P85 -> 33.865755 | T84: =Q84+Q85 -> 1276.5151
A85: Flow additive | C85: 2-butoxyethanol | E85: 111-76-2 | F85: ='3Coating Oven (CO1)'!D34 -> 0.55 | G85: Assume all TAC in flow additive comes off in coating bath | P85: ='3Coating Oven (CO1)'!F34 -> 33.742726 | Q85: ='3Coating Oven (CO1)'!G34 -> 1231.6095
N86: Total TACs from Ecoat bath | P86: =SUM(P82:P85) -> 42.975536 | Q86: =SUM(Q82:Q85) -> 4601.5853
A89: Vapor Pressure Documentation:
A91: 1-methoxy-2-propanol | C91: https://pubchem.ncbi.nlm.nih.gov/compound/1-Methoxy-2-propanol#section=Vapor-Pressure | H91: (12.5 mm Hg @ 25C)
A92: 2-butanol | C92: https://pubchem.ncbi.nlm.nih.gov/compound/6568#section=Vapor-Pressure | H92: (18.3 mm Hg @ 25C)
A93: 2-butoxyethanol | C93: https://pubchem.ncbi.nlm.nih.gov/compound/8133#section=Vapor-Pressure | H93: (0.88 mm Hg @ 25C)

Sheet 5Welding (W1)
A4: Table 3-5: Emissions from Welding (W1)
A6: Operating Information
A7: Type of Welding Process | B7: GMAW | C7: (Gas Metal Arc Welding)
A8: Electrode Type | B8: E70S
A9: Annual Electrode Consumption | B9: =48000*3 -> 144000 | C9: lb/yr
A10: Daily Electrode Consumption | B10: =B9/250 *1.5 -> 864 | C10: lb/day
A13: Capture Efficiency | B13: 0.95
A14: Filter Removal Efficiency | B14: 0.95
A15: Building Control Factor | B15: 0.5
A16: Overall Particulate Removal Efficiency and Attenuation | B16: =1-(((1-B13)+B13*(1-B14))*(1-B15)) -> 0.95125
A19: Criteria Pollutants
A20: Pollutant | B20: Emission Factor(1) (lb/1000 lb electrode) | C20: Controlled lb/1000 lb electrode | D20: Emission Rate (tpy)
A21: PM10 | B21: 5.2 | C21: =B21*(1-B16) -> 0.2535 | D21: =C21*B9/1000/2000 -> 0.018252
A22: (1) AP-42 Table 12.19-1
A26: Toxic Air Contaminants (TACs)
A27: Pollutant | B27: CAS | C27: lb/1000 lb electrode (2) | D27: Controlled lb/1000 lb electrode | E27: Daily Emissions (lb/day) | F27: Annual Emissions (lb/yr)
A28: Chromium VI, chromate and dichromate particulate | B28: 18540-29-9 | C28: 0.001 | D28: =C28*(1-$B$16) -> 4.875e-05 | E28: =D28*$B$10/1000 -> 4.212e-05 | F28: =D28*$B$9/1000 -> 0.00702 | H28: H
A29: Cobalt and compounds | B29: 7440-48-4 | C29: 0.001 | D29: =C29*(1-$B$16) -> 4.875e-05 | E29: =D29*$B$10/1000 -> 4.212e-05 | F29: =D29*$B$9/1000 -> 0.00702 | H29: H
A30: Manganese and compounds | B30: 7439-96-5 | C30: 0.318 | D30: =C30*(1-$B$16) -> 0.0155025 | E30: =D30*$B$10/1000 -> 0.01339416 | F30: =D30*$B$9/1000 -> 2.23236 | H30: H
A31: Nickel and compounds, insoluble | B31: 365 | C31: 0.001 | D31: =C31*(1-$B$16) -> 4.875e-05 | E31: =D31*$B$10/1000 -> 4.212e-05 | F31: =D31*$B$9/1000 -> 0.00702 | H31: H
A32: Total TACs | E32: =SUM(E28:E31) -> 0.01352052 | F32: =SUM(F28:F31) -> 2.25342 | H32: =F32 -> 2.25342 | I32: HAPs
A106: Greenhouse Gases
A107: GHG-CH4 | B107: 1.04e-05 | C107: mtCO2e/gal | E107: (3) | F107: =B107*#REF! -> #REF! | G107: MT
A108: GHG-CO2 | B108: 0.010206 | C108: mtCO2e/gal | E108: (3) | F108: =B108*#REF! -> #REF! | G108: MT
A109: GHG-N20 | B109: 2.47e-05 | C109: mtCO2e/gal | E109: (3) | F109: =B109*#REF! -> #REF! | G109: MT | H109: =SUM(F107:F109) -> #REF! | I109: MT
A110: Hazardous Air Pollutants (HAPs) | H110: =H109*1.10231 -> #REF! | I110: Short Tons
A111: Benzene | B111: 0.000776 | C111: lb/MMBtu | E111: (4) | F111: =B111*#REF!*#REF!/1000000/2000 -> #REF!
A112: Toluene | B112: 0.000281 | C112: lb/MMBtu | E112: (4) | F112: =B112*#REF!*#REF!/1000000/2000 -> #REF! | H112: 2490
A113: Xylenes | B113: 0.000193 | C113: lb/MMBtu | E113: (4) | F113: =B113*#REF!*#REF!/1000000/2000 -> #REF! | H113: =H112*1.10231 -> 2744.7519 | I113: Short Tons
A114: Formaldehyde | B114: 7.89e-05 | C114: lb/MMBtu | E114: (4) | F114: =B114*#REF!*#REF!/1000000/2000 -> #REF!
A115: Acetaldehyde | B115: 2.52e-05 | C115: lb/MMBtu | E115: (4) | F115: =B115*#REF!*#REF!/1000000/2000 -> #REF!
A116: Acrolein | B116: 7.88e-06 | C116: lb/MMBtu | E116: (4) | F116: =B116*#REF!*#REF!/1000000/2000 -> #REF!
A117: Napthalene | B117: 0.00013 | C117: lb/MMBtu | E117: (4) | F117: =B117*#REF!*#REF!/1000000/2000 -> #REF!
A118: Total PAH | B118: 0.000212 | C118: lb/MMBtu | E118: (4) | F118: =B118*#REF!*#REF!/1000000/2000 -> #REF!
A119: Total HAPs | F119: =SUM(F111:F118) -> #REF!
A121: (1) "Worst-case" emission factor derived from manufacturers specifications.
A122: (2) SCAQMD Reporting Procedures for AB2588 Table B-2 Default EF for Diesel/Distillate Oil Fuel Combustion
A123: (3) 40 CFR 98 Tbl. C-1, C-2
A124: (4) AP-42 Table 3.4-3
A125: MT = Metric Tons
A127: Potential Emissions from Non-Emergency Operations - Annual Summary
A129: NOx | B129: CO | C129: VOC | E129: PM/PM10/PM2.5 | F129: SO2 | G129: GHG-CO2e | H129: HAPs
A130: tpy
A131: =#REF! -> #REF! | B131: =#REF! -> #REF! | C131: =#REF! -> #REF! | E131: =#REF! -> #REF! | F131: =#REF! -> #REF! | G131: =SUM(F107:F109) -> #REF! | H131: =F119 -> #REF!
A146: ULSD Fuel Use | B146: 624500 | C146: gal/yr
A147: ULSD Heating Value | B147: 138000 | C147: Btu/gal
A149: Pollutant | B149: Emission Factor | F149: Potential Emissions (tpy)
B150: Value | C150: Units | E150: Reference
A151: Criteria Pollutants
A152: NOx | B152: =#REF! -> #REF! | C152: lb/gal | E152: (1) | F152: =B152*$B$146/2000 -> #REF!
A153: CO | B153: =#REF! -> #REF! | C153: lb/gal | E153: (1) | F153: =B153*$B$146/2000 -> #REF!
A154: VOC | B154: =#REF! -> #REF! | C154: lb/gal | E154: (1) | F154: =B154*$B$146/2000 -> #REF!
A155: PM/PM10/PM2.5 | B155: =#REF! -> #REF! | C155: lb/gal | E155: (1) | F155: =B155*$B$146/2000 -> #REF!
A156: SO2 | B156: =#REF! -> #REF! | C156: lb/gal | E156: (1) | F156: =B156*$B$146/2000 -> #REF!
A157: Lead | B157: 0.0083 | C157: lb/kgal | E157: (2) | F157: =B157*B146/1000/2000 -> 0.002591675
A158: Greenhouse Gases
A159: GHG-CH4 | B159: 1.04e-05 | C159: mtCO2e/gal | E159: (3) | F159: =B159*$B$146 -> 6.4948 | G159: MT
A160: GHG-CO2 | B160: 0.010206 | C160: mtCO2e/gal | E160: (3) | F160: =B160*$B$146 -> 6373.647 | G160: MT
A161: GHG-N20 | B161: 2.47e-05 | C161: mtCO2e/gal | E161: (3) | F161: =B161*$B$146 -> 15.42515 | G161: MT
A162: Hazardous Air Pollutants (HAPs)
A163: Benzene | B163: 0.000776 | C163: lb/MMBtu | E163: (4) | F163: =B163*$B$146*$B$147/1000000/2000 -> 0.033438228
A164: Toluene | B164: 0.000281 | C164: lb/MMBtu | E164: (4) | F164: =B164*$B$146*$B$147/1000000/2000 -> 0.012108431
A165: Xylenes | B165: 0.000193 | C165: lb/MMBtu | E165: (4) | F165: =B165*$B$146*$B$147/1000000/2000 -> 0.0083164665
A166: Formaldehyde | B166: 7.89e-05 | C166: lb/MMBtu | E166: (4) | F166: =B166*$B$146*$B$147/1000000/2000 -> 0.0033998404
A167: Acetaldehyde | B167: 2.52e-05 | C167: lb/MMBtu | E167: (4) | F167: =B167*$B$146*$B$147/1000000/2000 -> 0.0010858806
A168: Acrolein | B168: 7.88e-06 | C168: lb/MMBtu | E168: (4) | F168: =B168*$B$146*$B$147/1000000/2000 -> 0.00033955314
A169: Napthalene | B169: 0.00013 | C169: lb/MMBtu | E169: (4) | F169: =B169*$B$146*$B$147/1000000/2000 -> 0.005601765
A170: Total PAH | B170: 0.000212 | C170: lb/MMBtu | E170: (4) | F170: =B170*$B$146*$B$147/1000000/2000 -> 0.009135186
A171: Total HAPs | F171: =SUM(F163:F170) -> 0.07342535
A173: (1) "Worst-case" emission factor derived from manufacturers specifications.
A174: (2) SCAQMD Reporting Procedures for AB2588 Table B-2 Default EF for Diesel/Distillate Oil Fuel Combustion
A175: (3) 40 CFR 98 Tbl. C-1, C-2
A176: (4) AP-42 Table 3.4-3
A179: Potential Emissions from Emergency & Non-Emergency Operations - Annual Summary
A181: NOx | B181: CO | C181: VOC | E181: PM/PM10/PM2.5 | F181: SO2 | G181: GHG-CO2e | H181: HAPs
A182: tpy
A183: =F152 -> #REF! | B183: =F153 -> #REF! | C183: =F154 -> #REF! | E183: =F155 -> #REF! | F183: =F156 -> #REF! | G183: =SUM(F159:F161) -> 6395.567 | H183: =F171 -> 0.07342535

Sheet Laser Cutters (L1)
A1: Arcimoto
A2: Emission Detail Sheets
A3: Fiber Laser Cutters (L1)
A5: PM/PM10/PM2.5 Emissions
A6: Unit Identification | B6: Cutting Technique | C6: Metal Type | D6: Metal Thickness (Inches) | E6: Kerf (Inches) | F6: Metal Cutting Speed (IPM) | G6: Control Device Type | H6: % Control Efficiency | I6: Building Control Factor (%) | J6: Density (g/cm3) | K6: Density Conversion (lb/in3) | L6: Fume Generated (% of Particulate Generated) | M6: PM/PM2.5/PM10 Emission Factor (lb/inch) | N6: Metal Feed Rate (IPH) | O6: Uncontrolled Emissions (lb/hr) | P6: Potential Emissions (lb/hr) | Q6: Uncontrolled Emissions (TPY) | R6: Potential Emissions (TPY)
A7: L1-Steel | B7: Dry | C7: Steel | D7: 0.75 | E7: =CONVERT(0.001,"m","in") -> 0.039370079 | F7: 2000 | G7: Dust Collector | H7: 0.95 | I7: 0.5 | J7: 7.83 | K7: =J7*0.036127 -> 0.28287441 | L7: 5 | M7: =D7*E7*K7*(L7/100) -> 0.00041762954 | N7: =F7*60 -> 120000 | O7: =M7*N7 -> 50.115545 | P7: =O7*((1-H7))*(1-I7) -> 1.2528886 | Q7: =O7*8760/2000 -> 219.50609 | R7: =P7*8760/2000 -> 5.4876522
A8: L1-Copper | B8: Dry | C8: Copper | D8: =3/16 -> 0.1875 | E8: =CONVERT(0.0004,"m","in") -> 0.015748031 | F8: 400 | G8: Dust Collector | H8: 0.95 | I8: 0.5 | J8: 8.96 | K8: =J8*0.036127 -> 0.32369792 | L8: 5 | M8: =D8*E8*K8*(L8/100) -> 4.7790047e-05 | N8: =F8*60 -> 24000 | O8: =M8*N8 -> 1.1469611 | P8: =O8*((1-H8))*(1-I8) -> 0.028674028 | Q8: =O8*8760/2000 -> 5.0236898 | R8: =P8*8760/2000 -> 0.12559224
A9: L1- Aluminum | B9: Dry | C9: Aluminum | D9: 0.09 | E9: =CONVERT(0.0002,"m","in") -> 0.0078740157 | F9: 1000 | G9: Dust Collector | H9: 0.95 | I9: 0.5 | J9: 2.7 | K9: =J9*0.036127 -> 0.0975429 | L9: 5 | M9: =D9*E9*K9*(L9/100) -> 3.4562445e-06 | N9: =F9*60 -> 60000 | O9: =M9*N9 -> 0.20737467 | P9: =O9*((1-H9))*(1-I9) -> 0.0051843667 | Q9: =O9*8760/2000 -> 0.90830105 | R9: =P9*8760/2000 -> 0.022707526
N10: Total = | O10: =SUM(O7:O9) -> 51.469881 | P10: =SUM(P7:P9) -> 1.286747 | Q10: =SUM(Q7:Q9) -> 225.43808 | R10: =SUM(R7:R9) -> 5.635952
A16: HAP/TAC Emissions
A17: Pollutant | B17: CAS No. | C17: Fume Percent | D17: Uncontrolled Emissions (lb/hr) | E17: Potential Emissions (lb/hr) | F17: Uncontrolled Emissions (TPY) | G17: Potential Emissions (TPY)
A18: Copper and Compounds - Mild Steel | B18: 7440-50-8 | C18: 0.014 | D18: =O7*$C$18 -> 0.70161763 | E18: =P7*$C$18 -> 0.017540441 | F18: =Q7*$C$18 -> 3.0730852 | G18: =R7*$C$18 -> 0.076827131 | H18: CAO Potential Emissions (lb/day) | I18: CAO Potential Emissions (lb/yr)
A19: Copper and Compounds - Copper | B19: 7440-50-8 | C19: 1 | D19: =O8*$C$19 -> 1.1469611 | E19: =P8*$C$19 -> 0.028674028 | F19: =Q8*$C$19 -> 5.0236898 | G19: =R8*$C$19 -> 0.12559224
A20: Copper and Compounds - Total | B20: 7440-50-8 | D20: =D18+D19 -> 1.8485788 | E20: =E18+E19 -> 0.046214469 | F20: =F18+F19 -> 8.096775 | G20: =G18+G19 -> 0.20241937 | H20: =E20*24 -> 1.1091473 | I20: =G20*2000 -> 404.83875
A21: Manganese and Compounds | B21: 7439-96-5 | C21: 0.1 | D21: =O8*$C$21 -> 0.11469611 | E21: =P8*$C$21 -> 0.0028674028 | F21: =Q8*$C$21 -> 0.50236898 | G21: =R8*$C$21 -> 0.012559224 | H21: =E21*24 -> 0.068817668 | I21: =G21*2000 -> 25.118449 | J21: H
A22: Aluminum and Compounds | B22: 7429-90-5 | C22: 1 | D22: =O9*$C$22 -> 0.20737467 | E22: =P9*$C$22 -> 0.0051843667 | F22: =Q9*$C$22 -> 0.90830105 | G22: =R9*$C$22 -> 0.022707526 | H22: =E22*24 -> 0.1244248 | I22: =G22*2000 -> 45.415053 | K22: =I21 -> 25.118449 | L22: HAPs
G23: Total TACs | H23: =SUM(H20:H22) -> 1.3023897 | I23: =SUM(I20:I22) -> 475.37225
A24: Fume Generation Rate/Specific Gravity Table
A25: Metal | B25: Dry | C25: Semidry | D25: Wet | E25: Specific Gravity
A26: Mild Steel, 8mm | B26: 5 | C26: 0.5 | D26: 0.05 | E26: 7.83
A28: Notes:
A29: Emissions are based on "Emission of Fume, Nitrogen Oxides and Noise in Plasma Cutting of Stainless and Mild Steel" by Bromsen B. et al. (1994)
A30: Study referenced above did not evaluate fiber laser cutting or cutting of copper and aluminum.
A31: Fume generation rate of copper and aluminum assumed to be the same as mild steel.
A32: This assumption is reasonable because a fiber optic laser is expected to generate lower emissions than the high energy and high heat plasma type cutting system evaluated in the study.
A33: Mild steel fume is 67-73% iron, 2-10% manganese, and ND-1.4% copper.
A34: 310 stainless steel fume is 25.4% iron, 4.4% manganese, 10.3% nickel, and 20.2% chromium(VI).
A35: Potential emissions assume 24 hours per day and 8760 hours per year of operation. Typical maximum operating hours will be 8 hrs/day and 2000 hours per year.
