Workbook
Name _GoBack: Instructions!#REF!
Name CAS_numbers: '[1]DEQ Pollutant List'!$B$7:$B$612
Name CAS_numbers: 'DEQ TAC List'!$B$3:$B$605
Name chemical_names: '[1]DEQ Pollutant List'!$C$7:$C$612
Name chemical_names: 'DEQ TAC List'!$C$3:$C$609
Name delimiter: [1]constants!$A$3
Name delimiter: constants!$A$3
Name facility_address: '1. Facility Information'!$B$4
Name facility_city: '1. Facility Information'!$B$5
Name facility_contact: '1. Facility Information'!$B$8
Name facility_contact_phone: '1. Facility Information'!$B$10
Name facility_name: '1. Facility Information'!$B$3
Name facility_ZIP: '1. Facility Information'!$B$6
Name HAPs: 'DEQ TAC List'!#REF!
Name HAPs: #REF!
Name OLE_LINK7: Instructions!#REF!
Name sequence_IDs: '[1]DEQ Pollutant List'!$A$7:$A$612
Name sequence_IDs: 'DEQ TAC List'!$A$3:$A$609
Name source_number: '1. Facility Information'!$B$7
Name submittal_date: '1. Facility Information'!$B$11
Name version_date: constants!$A$9
Name version_number: constants!$A$10
Name ws_2: '2. Emissions Units & Activities'!$A$2
Name ws_3: '3. Pollutant Emissions - EF'!$A$2
Name ws_4: '5. Material Balance Activities'!$A$2
Name ws_5: '6. Pollutant Emissions - MB'!$A$2
Name ws3_EU_ID_blank: [1]constants!$A$5
Name ws3_EU_ID_blank: constants!$A$5
Name ws3_matching_error_msg: [1]constants!$A$4
Name ws3_matching_error_msg: constants!$A$4
Name ws5_EU_ID_MaterialName_blank: [1]constants!$A$7
Name ws5_EU_ID_MaterialName_blank: constants!$A$7
Name ws5_matching_error_msg: [1]constants!$A$6
Name ws5_matching_error_msg: constants!$A$6

Sheet Instructions
C1: Lane Regional Air Protection Agency
C2: 2026 Air Toxics Emission Inventory (ATEI)
B4: Reporting Form Instructions
B5: ="Version " & version_number & ", " &"Updated " & version_date -> Version 1.2, Updated 5/11/2026
B6: Please save this file to your own computer before filling out this reporting form.
B8: OVERVIEW (Please see Instructions below Tab summary table)
B9: See LRAPA website for more information
B11: See also DEQ's ATEI Reporting web page for additional guidance
B13: All facilities holding an LRAPA Title V Operating Permit, or a Standard or Simple Air Contaminant Discharge Permit (ACDP) will need to complete this form for the 2026 Air Toxics Emissions Inventory (ATEI) Reporting.
B15: Tabs are color-coded by emissions estimation method. Orange (Tabs 2 & 3) indicates Activity and Emission Factor-derived emission estimation methods; and Green (Tabs 5 & 6) indicates Material Balance-derived emission estimation methods.
B17: Air Toxics Emissions Inventory - Tabs (Worksheets) to be completed by Facility
B18: Facility Note | C18: Facility Note | D18: Space provided for facility to attach a note or a cover letter to accompany the submission. Use of this space is optional. Copy/paste material into the provided space and expand as needed.
B19: Tab 1 | C19: Facility Information | D19: Record facility name and address, source number, and contact information in the boxes. Enter date of form submission to LRAPA, and check the box to certify your report.
B20: Tab 2 | C20: Emission Units & Activities | D20: Record all Toxics Emissions Units (TEUs) and activities that emit air toxics included in the list of associated Air Toxic contaminants. Provide annual production and process rates, emission type, and control devices/efficiency for each emissions unit.
B21: Tab 3 | C21: Pollutant Emissions - EF | D21: Record all Air Toxic pollutants CAS/DEQ ID and chemical names, pollutant-specific emissions factors and control efficiencies, and calculated emissions.
B22: Tab 5 | C22: Material Balance Activities | D22: Record all emission units and materials that emit air toxics included in the list of associated air toxic pollutants. Provide annual material usage and waste activities, material names and manufacturer, and emission type.
B23: Tab 6 | C23: Pollutant Emissions - MB | D23: Record all Air Toxic pollutants CAS/DEQ ID and chemical names associated with recorded materials, pollutant-specific percent composition and control efficiencies, and calculated emissions.
B26: INSTRUCTIONS
B28: Assemble the following information before you begin:
B29: 1. Current Permit, Permit Review Report, and Emission Detail Sheet. These documents can be located on LRAPA's website:
B30: https://www.lrapa-or.gov/air-quality-protection/permitting-lane-county-sources/acdp-info-page/active-lane-county-air-permits/
B31: 2. Safety Data Sheets, Certified Product Data Sheets, Environmental Data Sheets, or any lab data for each material used
B32: 3. Annual report for 2026 operating year
B33: 4. Any other documentation needed to help fulfill the request - e.g. emissions factor references, source test review reports, etc.
B35: Tab 1: Facility Information
B37: 1. Provide the facility name and address, and source number (i.e., the permit number, 20-XXXX). Record the date of submission to LRAPA. Update the date of submission if revisions are necessary.
B39: 2. Provide the name(s) of the preparer and contact information - This individual may be a facility employee or consultant charged with completing the emissions inventory submission. Also provide the name of the certifying individual who checked the box to certify that the information is accurate. This may or may not be the same individual as the facility contact.
B41: 3. Check the box to certify that the information contained in the submission is accurate.
B43: Tab 2: Emission Units & Activities
B45: 1. List all Emissions Units (EUs) and the Unit or Activity Descriptions for all emission units or activities that emit air toxics at the facility. Use emission unit or activity IDs from the source permit and create new IDs as necessary. For Material Balance activities proceed to Tab 5. For a single EU with multiple processes, use a new line for each process. For example, a boiler unit that runs on natural gas and ultra low sulfur diesel might appear as EU ID: 'BLR1-NG', Unit Description: 'Boiler - Natural Gas' and separately as EU ID: 'BLR1-ULSD', Unit Description: 'Boiler - ULSD'.
C47: Note: Do not duplicate EUs by recording the same emitting unit as both Activity (Tabs 2 and 3) and Material Balance (Tabs 5 and 6). If emission estimations are derived from Activity and Emission Factors, use Tabs 2 and 3; if emissions are derived from usage and % composition, use Tabs 5 and 6. Use only the tabs required to capture your facility's operations.
B49: 2. List the Control Devices for each unit, even if it is integral to the emission unit and/or the emission factor. If an EU is routed to multiple controls, e.g. a baghouse and an RTO, list both and identify them as they appear in the permit. If no control devices are present, write "none".
B51: 3. Provide the units of measure (e.g. MMscf, gallons, tons, MMBTU, pounds, etc.) and activity type (e.g. natural gas, wood species, metal poured, etc.) for each specific emissions unit/activity. Ideally these units of measure should match the permit, however they may need to be converted if the available air toxics emission factors for the EU are in different units (Tab 3).
C53: Note: Make sure the units of measure (gallons, tons, etc.) are consistent between Tab 2 and Tab 3 for each EU.
B55: 4. Record the annual activity, quantity, or throughput for the given EU and process. These should be Actual operations only, not capacity or potential, and should agree with information submitted with the 2026 facility annual report.
C57: Note: "Actual" is based on the 2026 reporting year from Jan 1- Dec 31, 2026. If the facility was only operational for a portion of the year, please indicate this in the Facility Note tab.
B59: Tab 3: Pollutant Emissions - EF
B61: 1. In Columns A, B and C, provide a row for each air toxic pollutant emitted from a specified EU. Either select a CAS number or DEQ ID from the dropdown list or cut and paste the CAS/DEQ ID for each pollutant. The EU ID in Column A should be completed on each row and match exactly how it appears on Tab 2.
B63: 2. In Column D, indicate if the Emission Factor (EF) in Column F is inclusive of a control efficiency for the control unit described on Tab 2 Column C. If control or destruction efficiency is already accounted in the EF, then complete Column D as "Y". In this scenario, Column E can be completed as blank, "0.00%", or provide the actual control efficiency. If the control efficiency is not included in the selected EF, then complete Column D as "N" and provide the Total Combined Control Efficiency for each pollutant from the specified EU in Column E - this value may be composed of multiple capture/transfer efficiencies and destruction/removal efficiencies, depending on the air toxic pollutant. (See note at bottom of this tab for formula to calculate combined control efficiency from multiple control devices). If no control device is present and the EF is not inclusive of a control efficiency, complete Column D as "N" and Column E as "0.00%".
C65: Note: A "Y" in the control efficiency column means the control efficiency will be ignored in the calculations. An "N" in the control efficiency column means the control efficiency will be included in the calculations.
C68: Note: Control efficiencies for a given emitting unit may differ for different pollutants. For example, a baghouse may be very effective at capturing and removing particulates, but not at capturing volatile compounds.
B70: 3. In Columns F and G provide pollutant-specific Emissions Factors (EFs) for annual emissions and the unit of measure for the EF values in pounds/activity units. Be sure to note if the EF includes any control efficiencies and if the controls are representative of those at the facility. Provide the EF references (e.g., AP-42 chapter and section, WebFire, Source Tests, etc.) and any related notes (e.g. Control Efficiency references) in Column H.
B72: 4. Calculate emissions in Column I. The form includes an embedded formula for calculating emissions based on the equation below, but utilizes Index and Match functions to pull data from other parts of the reporting form. Users may elect to perform the calculation without the Index and Match functions by writing in the equation below, or using a different or permit-specified equation. Provide explanation if the emission estimation equation differs from the one provided here.
C73: E = (P)*(EF)*(1-CE)
C74: E | D74: = | E74: Annual air toxics emissions [Pounds/(Year)]
C75: P | D75: = | E75: Production or Process Usage Rate [Activity Units/(Year)]
C76: EF | D76: = | E76: Pollutant Emission Factor [Pounds/ Activity Unit]
C77: CE | D77: = | E77: Overall Control Efficiency expressed as a decimal.
C79: Note: When the EF is inclusive of the control efficiency, as identified in Column D, then CE = 0, such that (1-CE) = 1 and the control efficiency is not applied double. This is only applicable when the EF includes a specific control.
B82: Tab 4: EF Summary
B84: 1) This tab has a summary of the information entered and calculated on Tab 3. It is not necessary to enter any new information, it is presented for convenience as a sum total of emissions by pollutant and emissions of HAPs.
B87: Tab 5: Material Balance Activities
B89: 1. In Columns A and B, list all EU IDs and EU/Activity descriptions with emissions from material balance activities. For example, high volume low pressure (HVLP) spraying or coating operations performed in a spray booth might be captured as, EU ID: "BOOTH" and Unit Description: "HVLP spray coating". If the activities are listed in the source permit, please use the EU IDs and description as found in the permit.
B91: 2. In Columns C and D, list all materials (e.g. paints, coating materials, thinners, solvents, etc.) containing pollutants from the provided Air Toxics list - include the specific product name and manufacturer for each. If the Safety Data Sheet for a product does not list any air toxics pollutants found on the DEQ TAC List, it does not need to be recorded.
C93: Note: Some products may contain pollutants that are not listed individually but are still considered air toxic pollutants. For example, Cadmium zinc sulfide pigment (CAS 11129-14-9) is both a Cadmium compound and a Zinc compound, even though it is not listed specifically on the reporting list. This pollutant should be listed as found on the SDS, despite not appearing in the Pollutant List.
B95: 3. In Column E identify any control devices present, e.g. fabric filter or RTO. If no control devices are present, enter "none".
B97: 4. Record "Material Usage" quantities in pounds for annual activity/production/process rates for each EU/activity. It may be necessary to first convert product information found on the SDS sheet from volume to weight, i.e., gallons to pounds.
B99: 5. Record "Material Waste" as the amount of product that should be excluded from emissions calculation, in quantities of pounds per year. Use Column G on Tab 5 to provide justification.
C101: Note: "Material Waste" may consist of waste collected and shipped off-site, materials that drain as liquid to a collection/treatment system, material that may be retained in the product, or any material that should be excluded from emissions calculations.
B103: Tab 6: Pollutant Emissions - MB
B105: 1. In Columns A-D, provide a row for each air toxic pollutant emitted from a specified material and its associated EU/Activity. For Columns C and D, either select a CAS number or DEQ ID from the dropdown list or cut and paste the CAS/DEQ ID for each pollutant. The EU ID and Material Name in Columns A and B should be completed on each row and match exactly how they appear on Tab 5.
C107: Note: When a listed compound belongs to a pollutant group, such as the above example (Cadmium zinc sulfide pigment (CAS 11129-14-9)), enter this compound name and CAS as it appears on the SDS sheet, 'CAS or DEQ ID': "11129-14-9", Chemical Name: "Cadmium zinc sulfide".
B109: 2. In Column E, provide the Total Combined Control Efficiency for each pollutant contained in each material - this value may be composed of multiple capture/transfer efficiencies and destruction/removal efficiencies for different air toxic pollutants within a given product.
C111: Note: Control efficiencies for a given emitting unit may differ for different pollutants. For example, a fabric filter may be effective at capturing and removing particulates, but not volatile compounds.
B113: 3. In Column F, provide the percent composition for the Air Toxic in the specified material as provided by the manufacturer supplied data (e.g. SDS).
C115: Note: If percent weight is a range, use the average of the range. (e.g., if range is 10-50% use 30%, or if the SDS lists < 5% use 2.5%).
B117: 4. In Column G, provide any notes or references relevant to the pollutant emissions - e.g. technical references, details of control efficiencies, etc.
B119: 5. Calculate emissions in Column H. The form includes an embedded formula for calculating emissions based on the equation below, though users may elect to overwrite with their own equation.
C121: E = [(CX–WX)*KX]*(1–CE)
C123: E | D123: = | E123: Annual air toxic emissions [Pounds/(Year)]
C124: X | D124: = | E124: Subscript X represents a specific material
C125: C | D125: = | E125: Material usage [Pounds/(Year)]
C126: W | D126: = | E126: Material waste [Pounds/(Year)]
C127: K | D127: = | E127: Percent weight air toxic pollutant concentration expressed as a decimal
C128: CE | D128: = | E128: Control efficiency expressed as decimal
B130: Tab 7: MB Summary
B132: 1) This tab has a summary of the information entered and calculated on Tab 6. It is not necessary to enter any new information, it is presented for convenience as a sum total of emissions by pollutant and emissions of HAPs.
B138: Calculating total Control Efficiency for more than one control device
B140: Total control efficiency is calculated as such:
B141: Total Control Efficiency = 1-((1-CE1)(1-CE2)(1-CE3)..)
B143: Example: Transfer Efficiency = 70%, Filter Efficiency = 95%
B144: Total Control Efficiency = 1-(1-0.7)*(1-0.95) = 98.5%
B149: Showing and Hiding embedded notes.
B151: There are notes embedded in various places throughout the spreadsheet, shown by the red triangle in the upper right corner of some cells.
B152: Hovering the cursor over the triangle will temporarily pop up that note.
B156: To show all notes on all tabs, go to Review → Notes → Show All Notes (See image below).
B174: To hide all notes on all tabs, the process is the same as above. Go to Review → Notes → Show All Notes (See image below).

Sheet Facility Notes
A1: ="2026 ATEI Form - Version "&version_number -> 2026 ATEI Form - Version 1.2 | H1: =version_date -> 5/11/2026
A2: Facility Information
A4: This tab is optional. Please use this space to provide clarifying notes.

Sheet 1. Facility Information
A1: ='Facility Notes'!A1&" - "&version_date -> 2026 ATEI Form - Version 1.2 - 5/11/2026
A2: Facility Information
A3: Facility Name
A4: Facility Address
A5: City
A6: Zip Code
A7: Source Number | B7: 20-
A8: Facility Contact or Preparer
A9: Certifying Individual
A10: Contact Email or Phone
A11: Date of form submittal

Sheet 2. Emissions Units & Activities
A2: Emissions Unit Information | E2: Activity Information
A3: Emissions Unit ID | B3: Point/ Fugitive | C3: Unit Description | D3: Control Device[s] | E3: Unit of Measure | F3: Description/Type | G3: Activity [units/yr]
A4: EU-1 | B4: Point | C4: Widget Maker 1 (EXAMPLE) | D4: Widget Waste RCO | E4: tons | F4: Input Material X | G4: 100
A5: Blr1-NG | B5: Point | C5: Boiler 1 750 HP, 26 MMBtu/hr (EXAMPLE) | D5: none | E5: MMscf | F5: Natural Gas | G5: 900
A6: EU_ID | B6: PointType | C6: UnitDescription | D6: ControlDevice | E6: UnitOfMeasure | F6: Description | G6: Activity
A101: INSERT ROWS ABOVE THIS LINE INSERT ROWS ABOVE THIS LINE

Sheet 3. Pollutant Emissions - EF
K1: =MAX(K8:K900) -> 1
A2: Emissions Unit ID | B2: Pollutant Information | D2: Emission Factor Information | I2: Calculated Annual Emissions [lb/yr]
B3: CAS or DEQ ID | C3: Pollutant Name | D3: Controlled EF? | E3: Control Efficiency | F3: EF Values | G3: Units | H3: EF Reference/Notes | J3: DEQ ID | K3: MB Unique | L3: RBC?
A4: EU-1 | B4: 61-82-5 | C4: Amitrole | D4: N | E4: 0.975 | F4: 2.5 | G4: lb/ton | H4: Manufacturer estimate | I4: 6.25 | J4: 25 | K4: 1 | L4: =_xlfn.XLOOKUP(B4,'DEQ TAC List'!$B$3:$B$609,'DEQ TAC List'!$I$3:$I$609,"")
A5: EU-1 | B5: 7440-38-2 | C5: Arsenic and compounds | D5: N | E5: 0 | F5: 0.1 | G5: lb/ton | H5: The control efficiency does not apply to this pollutant | I5: 10 | J5: 37 | K5: 2 | L5: =_xlfn.XLOOKUP(B5,'DEQ TAC List'!$B$3:$B$609,'DEQ TAC List'!$I$3:$I$609,"") -> Yes
A6: Blr1-NG | B6: 71-43-2 | C6: Benzene | D6: N | E6: 0 | F6: 0.0058 | G6: lb/MMSCF | H6: CAO NG Ext.Comb. (b) | I6: 5.22 | J6: 46 | K6: 3 | L6: =_xlfn.XLOOKUP(B6,'DEQ TAC List'!$B$3:$B$609,'DEQ TAC List'!$I$3:$I$609,"") -> Yes
A7: EU_ID | B7: CAS | C7: PollutantName | D7: ControlledEF | E7: ControlEfficiency | F7: EFValue | G7: Units | H7: Notes | I7: Emissions | J7: DEQPollutantSEQID | K7: MBUnique
C8: =IFERROR(INDEX(chemical_names,MATCH(TEXT(B8,"0"),CAS_numbers,0)),"") | I8: =IF(A8="",IF(CONCATENATE(B8,C8,D8,E8,F8,G8,H8)="","",ws3_EU_ID_blank),IF(ISERROR(MATCH(A8,tbWS_2[EU_ID],0)),ws3_matching_error_msg,F8*IF(D8="Y",1,1-E8)*INDEX(tbWS_2[Activity],MATCH(A8,tbWS_2[EU_ID],0)))) | J8: =IF(AND(B8="",C8=""),"",IFERROR(IF(OR(B8="",B8="No CAS"),INDEX(sequence_IDs,MATCH(C8,chemical_names,0)),INDEX(sequence_IDs,MATCH(B8,CAS_numbers,0))),"?")) | K8: 1 | L8: =_xlfn.XLOOKUP(B8,'DEQ TAC List'!$B$3:$B$609,'DEQ TAC List'!$I$3:$I$609,"") -> 0
C9: =IFERROR(INDEX(chemical_names,MATCH(TEXT(B9,"0"),CAS_numbers,0)),"") | I9: =IF(A9="",IF(CONCATENATE(B9,C9,D9,E9,F9,G9,H9)="","",ws3_EU_ID_blank),IF(ISERROR(MATCH(A9,tbWS_2[EU_ID],0)),ws3_matching_error_msg,F9*IF(D9="Y",1,1-E9)*INDEX(tbWS_2[Activity],MATCH(A9,tbWS_2[EU_ID],0)))) | J9: =IF(AND(B9="",C9=""),"",IFERROR(IF(OR(B9="",B9="No CAS"),INDEX(sequence_IDs,MATCH(C9,chemical_names,0)),INDEX(sequence_IDs,MATCH(B9,CAS_numbers,0))),"?")) | K9: =IF(B9="","",IF(ISNA(VLOOKUP(J9,$J$8:K8,1,FALSE)),MAX($K$8:K8)+1,0)) | L9: =_xlfn.XLOOKUP(B9,'DEQ TAC List'!$B$3:$B$609,'DEQ TAC List'!$I$3:$I$609,"") -> 0
C10: =IFERROR(INDEX(chemical_names,MATCH(TEXT(B10,"0"),CAS_numbers,0)),"") | I10: =IF(A10="",IF(CONCATENATE(B10,C10,D10,E10,F10,G10,H10)="","",ws3_EU_ID_blank),IF(ISERROR(MATCH(A10,tbWS_2[EU_ID],0)),ws3_matching_error_msg,F10*IF(D10="Y",1,1-E10)*INDEX(tbWS_2[Activity],MATCH(A10,tbWS_2[EU_ID],0)))) | J10: =IF(AND(B10="",C10=""),"",IFERROR(IF(OR(B10="",B10="No CAS"),INDEX(sequence_IDs,MATCH(C10,chemical_names,0)),INDEX(sequence_IDs,MATCH(B10,CAS_numbers,0))),"?")) | K10: =IF(B10="","",IF(ISNA(VLOOKUP(J10,$J$8:K9,1,FALSE)),MAX($K$8:K9)+1,0)) | L10: =_xlfn.XLOOKUP(B10,'DEQ TAC List'!$B$3:$B$609,'DEQ TAC List'!$I$3:$I$609,"") -> 0
C11: =IFERROR(INDEX(chemical_names,MATCH(TEXT(B11,"0"),CAS_numbers,0)),"") | I11: =IF(A11="",IF(CONCATENATE(B11,C11,D11,E11,F11,G11,H11)="","",ws3_EU_ID_blank),IF(ISERROR(MATCH(A11,tbWS_2[EU_ID],0)),ws3_matching_error_msg,F11*IF(D11="Y",1,1-E11)*INDEX(tbWS_2[Activity],MATCH(A11,tbWS_2[EU_ID],0)))) | J11: =IF(AND(B11="",C11=""),"",IFERROR(IF(OR(B11="",B11="No CAS"),INDEX(sequence_IDs,MATCH(C11,chemical_names,0)),INDEX(sequence_IDs,MATCH(B11,CAS_numbers,0))),"?")) | K11: =IF(B11="","",IF(ISNA(VLOOKUP(J11,$J$8:K10,1,FALSE)),MAX($K$8:K10)+1,0)) | L11: =_xlfn.XLOOKUP(B11,'DEQ TAC List'!$B$3:$B$609,'DEQ TAC List'!$I$3:$I$609,"") -> 0
C12: =IFERROR(INDEX(chemical_names,MATCH(TEXT(B12,"0"),CAS_numbers,0)),"") | I12: =IF(A12="",IF(CONCATENATE(B12,C12,D12,E12,F12,G12,H12)="","",ws3_EU_ID_blank),IF(ISERROR(MATCH(A12,tbWS_2[EU_ID],0)),ws3_matching_error_msg,F12*IF(D12="Y",1,1-E12)*INDEX(tbWS_2[Activity],MATCH(A12,tbWS_2[EU_ID],0)))) | J12: =IF(AND(B12="",C12=""),"",IFERROR(IF(OR(B12="",B12="No CAS"),INDEX(sequence_IDs,MATCH(C12,chemical_names,0)),INDEX(sequence_IDs,MATCH(B12,CAS_numbers,0))),"?")) | K12: =IF(B12="","",IF(ISNA(VLOOKUP(J12,$J$8:K11,1,FALSE)),MAX($K$8:K11)+1,0)) | L12: =_xlfn.XLOOKUP(B12,'DEQ TAC List'!$B$3:$B$609,'DEQ TAC List'!$I$3:$I$609,"") -> 0
C13: =IFERROR(INDEX(chemical_names,MATCH(TEXT(B13,"0"),CAS_numbers,0)),"") | I13: =IF(A13="",IF(CONCATENATE(B13,C13,D13,E13,F13,G13,H13)="","",ws3_EU_ID_blank),IF(ISERROR(MATCH(A13,tbWS_2[EU_ID],0)),ws3_matching_error_msg,F13*IF(D13="Y",1,1-E13)*INDEX(tbWS_2[Activity],MATCH(A13,tbWS_2[EU_ID],0)))) | J13: =IF(AND(B13="",C13=""),"",IFERROR(IF(OR(B13="",B13="No CAS"),INDEX(sequence_IDs,MATCH(C13,chemical_names,0)),INDEX(sequence_IDs,MATCH(B13,CAS_numbers,0))),"?")) | K13: =IF(B13="","",IF(ISNA(VLOOKUP(J13,$J$8:K12,1,FALSE)),MAX($K$8:K12)+1,0)) | L13: =_xlfn.XLOOKUP(B13,'DEQ TAC List'!$B$3:$B$609,'DEQ TAC List'!$I$3:$I$609,"") -> 0
C14: =IFERROR(INDEX(chemical_names,MATCH(TEXT(B14,"0"),CAS_numbers,0)),"") | I14: =IF(A14="",IF(CONCATENATE(B14,C14,D14,E14,F14,G14,H14)="","",ws3_EU_ID_blank),IF(ISERROR(MATCH(A14,tbWS_2[EU_ID],0)),ws3_matching_error_msg,F14*IF(D14="Y",1,1-E14)*INDEX(tbWS_2[Activity],MATCH(A14,tbWS_2[EU_ID],0)))) | J14: =IF(AND(B14="",C14=""),"",IFERROR(IF(OR(B14="",B14="No CAS"),INDEX(sequence_IDs,MATCH(C14,chemical_names,0)),INDEX(sequence_IDs,MATCH(B14,CAS_numbers,0))),"?")) | K14: =IF(B14="","",IF(ISNA(VLOOKUP(J14,$J$8:K13,1,FALSE)),MAX($K$8:K13)+1,0)) | L14: =_xlfn.XLOOKUP(B14,'DEQ TAC List'!$B$3:$B$609,'DEQ TAC List'!$I$3:$I$609,"") -> 0
C15: =IFERROR(INDEX(chemical_names,MATCH(TEXT(B15,"0"),CAS_numbers,0)),"") | I15: =IF(A15="",IF(CONCATENATE(B15,C15,D15,E15,F15,G15,H15)="","",ws3_EU_ID_blank),IF(ISERROR(MATCH(A15,tbWS_2[EU_ID],0)),ws3_matching_error_msg,F15*IF(D15="Y",1,1-E15)*INDEX(tbWS_2[Activity],MATCH(A15,tbWS_2[EU_ID],0)))) | J15: =IF(AND(B15="",C15=""),"",IFERROR(IF(OR(B15="",B15="No CAS"),INDEX(sequence_IDs,MATCH(C15,chemical_names,0)),INDEX(sequence_IDs,MATCH(B15,CAS_numbers,0))),"?")) | K15: =IF(B15="","",IF(ISNA(VLOOKUP(J15,$J$8:K14,1,FALSE)),MAX($K$8:K14)+1,0)) | L15: =_xlfn.XLOOKUP(B15,'DEQ TAC List'!$B$3:$B$609,'DEQ TAC List'!$I$3:$I$609,"") -> 0
C16: =IFERROR(INDEX(chemical_names,MATCH(TEXT(B16,"0"),CAS_numbers,0)),"") | I16: =IF(A16="",IF(CONCATENATE(B16,C16,D16,E16,F16,G16,H16)="","",ws3_EU_ID_blank),IF(ISERROR(MATCH(A16,tbWS_2[EU_ID],0)),ws3_matching_error_msg,F16*IF(D16="Y",1,1-E16)*INDEX(tbWS_2[Activity],MATCH(A16,tbWS_2[EU_ID],0)))) | J16: =IF(AND(B16="",C16=""),"",IFERROR(IF(OR(B16="",B16="No CAS"),INDEX(sequence_IDs,MATCH(C16,chemical_names,0)),INDEX(sequence_IDs,MATCH(B16,CAS_numbers,0))),"?")) | K16: =IF(B16="","",IF(ISNA(VLOOKUP(J16,$J$8:K15,1,FALSE)),MAX($K$8:K15)+1,0)) | L16: =_xlfn.XLOOKUP(B16,'DEQ TAC List'!$B$3:$B$609,'DEQ TAC List'!$I$3:$I$609,"") -> 0
C17: =IFERROR(INDEX(chemical_names,MATCH(TEXT(B17,"0"),CAS_numbers,0)),"") | I17: =IF(A17="",IF(CONCATENATE(B17,C17,D17,E17,F17,G17,H17)="","",ws3_EU_ID_blank),IF(ISERROR(MATCH(A17,tbWS_2[EU_ID],0)),ws3_matching_error_msg,F17*IF(D17="Y",1,1-E17)*INDEX(tbWS_2[Activity],MATCH(A17,tbWS_2[EU_ID],0)))) | J17: =IF(AND(B17="",C17=""),"",IFERROR(IF(OR(B17="",B17="No CAS"),INDEX(sequence_IDs,MATCH(C17,chemical_names,0)),INDEX(sequence_IDs,MATCH(B17,CAS_numbers,0))),"?")) | K17: =IF(B17="","",IF(ISNA(VLOOKUP(J17,$J$8:K16,1,FALSE)),MAX($K$8:K16)+1,0)) | L17: =_xlfn.XLOOKUP(B17,'DEQ TAC List'!$B$3:$B$609,'DEQ TAC List'!$I$3:$I$609,"") -> 0
C18: =IFERROR(INDEX(chemical_names,MATCH(TEXT(B18,"0"),CAS_numbers,0)),"") | I18: =IF(A18="",IF(CONCATENATE(B18,C18,D18,E18,F18,G18,H18)="","",ws3_EU_ID_blank),IF(ISERROR(MATCH(A18,tbWS_2[EU_ID],0)),ws3_matching_error_msg,F18*IF(D18="Y",1,1-E18)*INDEX(tbWS_2[Activity],MATCH(A18,tbWS_2[EU_ID],0)))) | J18: =IF(AND(B18="",C18=""),"",IFERROR(IF(OR(B18="",B18="No CAS"),INDEX(sequence_IDs,MATCH(C18,chemical_names,0)),INDEX(sequence_IDs,MATCH(B18,CAS_numbers,0))),"?")) | K18: =IF(B18="","",IF(ISNA(VLOOKUP(J18,$J$8:K17,1,FALSE)),MAX($K$8:K17)+1,0)) | L18: =_xlfn.XLOOKUP(B18,'DEQ TAC List'!$B$3:$B$609,'DEQ TAC List'!$I$3:$I$609,"") -> 0
C19: =IFERROR(INDEX(chemical_names,MATCH(TEXT(B19,"0"),CAS_numbers,0)),"") | I19: =IF(A19="",IF(CONCATENATE(B19,C19,D19,E19,F19,G19,H19)="","",ws3_EU_ID_blank),IF(ISERROR(MATCH(A19,tbWS_2[EU_ID],0)),ws3_matching_error_msg,F19*IF(D19="Y",1,1-E19)*INDEX(tbWS_2[Activity],MATCH(A19,tbWS_2[EU_ID],0)))) | J19: =IF(AND(B19="",C19=""),"",IFERROR(IF(OR(B19="",B19="No CAS"),INDEX(sequence_IDs,MATCH(C19,chemical_names,0)),INDEX(sequence_IDs,MATCH(B19,CAS_numbers,0))),"?")) | K19: =IF(B19="","",IF(ISNA(VLOOKUP(J19,$J$8:K18,1,FALSE)),MAX($K$8:K18)+1,0)) | L19: =_xlfn.XLOOKUP(B19,'DEQ TAC List'!$B$3:$B$609,'DEQ TAC List'!$I$3:$I$609,"") -> 0
C20: =IFERROR(INDEX(chemical_names,MATCH(TEXT(B20,"0"),CAS_numbers,0)),"") | I20: =IF(A20="",IF(CONCATENATE(B20,C20,D20,E20,F20,G20,H20)="","",ws3_EU_ID_blank),IF(ISERROR(MATCH(A20,tbWS_2[EU_ID],0)),ws3_matching_error_msg,F20*IF(D20="Y",1,1-E20)*INDEX(tbWS_2[Activity],MATCH(A20,tbWS_2[EU_ID],0)))) | J20: =IF(AND(B20="",C20=""),"",IFERROR(IF(OR(B20="",B20="No CAS"),INDEX(sequence_IDs,MATCH(C20,chemical_names,0)),INDEX(sequence_IDs,MATCH(B20,CAS_numbers,0))),"?")) | K20: =IF(B20="","",IF(ISNA(VLOOKUP(J20,$J$8:K19,1,FALSE)),MAX($K$8:K19)+1,0)) | L20: =_xlfn.XLOOKUP(B20,'DEQ TAC List'!$B$3:$B$609,'DEQ TAC List'!$I$3:$I$609,"") -> 0
... C900: =IFERROR(INDEX(chemical_names,MATCH(TEXT(B900,"0"),CAS_numbers,0)),"") | I900: =IF(A900="",IF(CONCATENATE(B900,C900,D900,E900,F900,G900,H900)="","",ws3_EU_ID_blank),IF(ISERROR(MATCH(A900,tbWS_2[EU_ID],0)),ws3_matching_error_msg,F900*IF(D900="Y",1,1-E900)*INDEX(tbWS_2[Activity],MATCH(A900,tbWS_2[EU_ID],0)))) | J900: =IF(AND(B900="",C900=""),"",IFERROR(IF(OR(B900="",B900="No CAS"),INDEX(sequence_IDs,MATCH(C900,chemical_names,0)),INDEX(sequence_IDs,MATCH(B900,CAS_numbers,0))),"?")) | K900: =IF(B900="","",IF(ISNA(VLOOKUP(J900,$J$8:K899,1,FALSE)),MAX($K$8:K899)+1,0)) | L900: =_xlfn.XLOOKUP(B900,'DEQ TAC List'!$B$3:$B$609,'DEQ TAC List'!$I$3:$I$609,"") -> 0
A901: =IFERROR(INDEX(chemical_names,MATCH(B901,CAS_numbers,0)),"") | K901: =IF(D904="","",IF(ISNA(VLOOKUP(J904,$I$11:J903,1,FALSE)),MAX($J$11:K903)+1,0))
A902: INSERT ROWS ABOVE THIS LINE INSERT ROWS ABOVE THIS LINE INSERT ROWS ABOVE THIS LINE INSERT ROWS ABOVE THIS LINE | K902: =IF(D905="","",IF(ISNA(VLOOKUP(J905,$I$11:J904,1,FALSE)),MAX($J$11:K904)+1,0))

Sheet 4. EF Summary
C1: Material Balance Summary by Pollutant
C2: This tab is a summary of everything entered or calculated on Worksheet 3. Pollutant Emissions - EF.
C3: It is not necessary to fill out any information in this tab. The table should auto-populate.
E4: =SUM(E10:E302) -> 0 | F4: Total MB Emissions (lbs)
E5: =SUMIF($F$10:$F$302,"Yes",$E$10:$E$302) -> 0 | F5: Total HAP (lbs) | J5: =_xlfn.MAXIFS($E$10:$E$209,$F$10:$F$209,"YES") -> 0 | K5: Max Individual HAP (lb)
E6: =SUMIF($F$10:$F$302,"Yes",$E$10:$E$302)/2000 -> 0 | F6: Total HAP (ton) | J6: =_xlfn.MAXIFS($E$10:$E$209,$F$10:$F$209,"YES")/2000 -> 0 | K6: Max Individual HAP (ton)
A7: Pollutant Information | E7: Calculated Annual Emissions [lb/yr] | F7: HAP | G7: RBC | K7: Max Individual HAP
A8: MB Unique | B8: DEQ ID | C8: CAS | D8: Pollutant Name | K8: {=_xlfn._xlws.FILTER($D$10:$D$209,$E$10:$E$209=J5)} -> #N/A
A9: MBUnique | B9: DEQPollutantSEQID | C9: CAS | D9: PollutantName | E9: MBEmissionsSum | F9: HAP
A10: 1 | B10: =IF(A10="","",INDEX('3. Pollutant Emissions - EF'!$J$8:$J$900,MATCH(A10,'3. Pollutant Emissions - EF'!$K$8:$K$900,0),1)) | C10: =IF(A10="","",VLOOKUP(B10,'DEQ TAC List'!$A$3:$C$609,2,FALSE)) -> #N/A | D10: =IF(A10="","",VLOOKUP(B10,'DEQ TAC List'!$A$3:$C$609,3,FALSE)) -> #N/A | E10: =IF(A10="","",SUMIF('3. Pollutant Emissions - EF'!$J$8:$J$900,B10,'3. Pollutant Emissions - EF'!$I$8:$I$900)) -> 0 | F10: =IF(A10="","",IF(_xlfn.XLOOKUP(B10,'DEQ TAC List'!$A$3:$A$609,'DEQ TAC List'!$F$3:$F$609)="HAP","Yes","")) -> #N/A | G10: =_xlfn.XLOOKUP(C10,'DEQ TAC List'!$B$3:$B$609,'DEQ TAC List'!$I$3:$I$609,"") -> #N/A
A11: =IF(A10="","",IF(A10+1>'3. Pollutant Emissions - EF'!$K$1,"",A10+1)) | B11: =IF(A11="","",INDEX('3. Pollutant Emissions - EF'!$J$8:$J$900,MATCH(A11,'3. Pollutant Emissions - EF'!$K$8:$K$900,0),1)) | C11: =IF(A11="","",VLOOKUP(B11,'DEQ TAC List'!$A$3:$C$609,2,FALSE)) | D11: =IF(A11="","",VLOOKUP(B11,'DEQ TAC List'!$A$3:$C$609,3,FALSE)) | E11: =IF(A11="","",SUMIF('3. Pollutant Emissions - EF'!$J$8:$J$900,B11,'3. Pollutant Emissions - EF'!$I$8:$I$900)) | F11: =IF(A11="","",IF(_xlfn.XLOOKUP(B11,'DEQ TAC List'!$A$3:$A$609,'DEQ TAC List'!$F$3:$F$609)="HAP","Yes","")) | G11: =_xlfn.XLOOKUP(C11,'DEQ TAC List'!$B$3:$B$609,'DEQ TAC List'!$I$3:$I$609,"")
A12: =IF(A11="","",IF(A11+1>'3. Pollutant Emissions - EF'!$K$1,"",A11+1)) | B12: =IF(A12="","",INDEX('3. Pollutant Emissions - EF'!$J$8:$J$900,MATCH(A12,'3. Pollutant Emissions - EF'!$K$8:$K$900,0),1)) | C12: =IF(A12="","",VLOOKUP(B12,'DEQ TAC List'!$A$3:$C$609,2,FALSE)) | D12: =IF(A12="","",VLOOKUP(B12,'DEQ TAC List'!$A$3:$C$609,3,FALSE)) | E12: =IF(A12="","",SUMIF('3. Pollutant Emissions - EF'!$J$8:$J$900,B12,'3. Pollutant Emissions - EF'!$I$8:$I$900)) | F12: =IF(A12="","",IF(_xlfn.XLOOKUP(B12,'DEQ TAC List'!$A$3:$A$609,'DEQ TAC List'!$F$3:$F$609)="HAP","Yes","")) | G12: =_xlfn.XLOOKUP(C12,'DEQ TAC List'!$B$3:$B$609,'DEQ TAC List'!$I$3:$I$609,"")
A13: =IF(A12="","",IF(A12+1>'3. Pollutant Emissions - EF'!$K$1,"",A12+1)) | B13: =IF(A13="","",INDEX('3. Pollutant Emissions - EF'!$J$8:$J$900,MATCH(A13,'3. Pollutant Emissions - EF'!$K$8:$K$900,0),1)) | C13: =IF(A13="","",VLOOKUP(B13,'DEQ TAC List'!$A$3:$C$609,2,FALSE)) | D13: =IF(A13="","",VLOOKUP(B13,'DEQ TAC List'!$A$3:$C$609,3,FALSE)) | E13: =IF(A13="","",SUMIF('3. Pollutant Emissions - EF'!$J$8:$J$900,B13,'3. Pollutant Emissions - EF'!$I$8:$I$900)) | F13: =IF(A13="","",IF(_xlfn.XLOOKUP(B13,'DEQ TAC List'!$A$3:$A$609,'DEQ TAC List'!$F$3:$F$609)="HAP","Yes","")) | G13: =_xlfn.XLOOKUP(C13,'DEQ TAC List'!$B$3:$B$609,'DEQ TAC List'!$I$3:$I$609,"")
A14: =IF(A13="","",IF(A13+1>'3. Pollutant Emissions - EF'!$K$1,"",A13+1)) | B14: =IF(A14="","",INDEX('3. Pollutant Emissions - EF'!$J$8:$J$900,MATCH(A14,'3. Pollutant Emissions - EF'!$K$8:$K$900,0),1)) | C14: =IF(A14="","",VLOOKUP(B14,'DEQ TAC List'!$A$3:$C$609,2,FALSE)) | D14: =IF(A14="","",VLOOKUP(B14,'DEQ TAC List'!$A$3:$C$609,3,FALSE)) | E14: =IF(A14="","",SUMIF('3. Pollutant Emissions - EF'!$J$8:$J$900,B14,'3. Pollutant Emissions - EF'!$I$8:$I$900)) | F14: =IF(A14="","",IF(_xlfn.XLOOKUP(B14,'DEQ TAC List'!$A$3:$A$609,'DEQ TAC List'!$F$3:$F$609)="HAP","Yes","")) | G14: =_xlfn.XLOOKUP(C14,'DEQ TAC List'!$B$3:$B$609,'DEQ TAC List'!$I$3:$I$609,"")
A15: =IF(A14="","",IF(A14+1>'3. Pollutant Emissions - EF'!$K$1,"",A14+1)) | B15: =IF(A15="","",INDEX('3. Pollutant Emissions - EF'!$J$8:$J$900,MATCH(A15,'3. Pollutant Emissions - EF'!$K$8:$K$900,0),1)) | C15: =IF(A15="","",VLOOKUP(B15,'DEQ TAC List'!$A$3:$C$609,2,FALSE)) | D15: =IF(A15="","",VLOOKUP(B15,'DEQ TAC List'!$A$3:$C$609,3,FALSE)) | E15: =IF(A15="","",SUMIF('3. Pollutant Emissions - EF'!$J$8:$J$900,B15,'3. Pollutant Emissions - EF'!$I$8:$I$900)) | F15: =IF(A15="","",IF(_xlfn.XLOOKUP(B15,'DEQ TAC List'!$A$3:$A$609,'DEQ TAC List'!$F$3:$F$609)="HAP","Yes","")) | G15: =_xlfn.XLOOKUP(C15,'DEQ TAC List'!$B$3:$B$609,'DEQ TAC List'!$I$3:$I$609,"")
A16: =IF(A15="","",IF(A15+1>'3. Pollutant Emissions - EF'!$K$1,"",A15+1)) | B16: =IF(A16="","",INDEX('3. Pollutant Emissions - EF'!$J$8:$J$900,MATCH(A16,'3. Pollutant Emissions - EF'!$K$8:$K$900,0),1)) | C16: =IF(A16="","",VLOOKUP(B16,'DEQ TAC List'!$A$3:$C$609,2,FALSE)) | D16: =IF(A16="","",VLOOKUP(B16,'DEQ TAC List'!$A$3:$C$609,3,FALSE)) | E16: =IF(A16="","",SUMIF('3. Pollutant Emissions - EF'!$J$8:$J$900,B16,'3. Pollutant Emissions - EF'!$I$8:$I$900)) | F16: =IF(A16="","",IF(_xlfn.XLOOKUP(B16,'DEQ TAC List'!$A$3:$A$609,'DEQ TAC List'!$F$3:$F$609)="HAP","Yes","")) | G16: =_xlfn.XLOOKUP(C16,'DEQ TAC List'!$B$3:$B$609,'DEQ TAC List'!$I$3:$I$609,"")
A17: =IF(A16="","",IF(A16+1>'3. Pollutant Emissions - EF'!$K$1,"",A16+1)) | B17: =IF(A17="","",INDEX('3. Pollutant Emissions - EF'!$J$8:$J$900,MATCH(A17,'3. Pollutant Emissions - EF'!$K$8:$K$900,0),1)) | C17: =IF(A17="","",VLOOKUP(B17,'DEQ TAC List'!$A$3:$C$609,2,FALSE)) | D17: =IF(A17="","",VLOOKUP(B17,'DEQ TAC List'!$A$3:$C$609,3,FALSE)) | E17: =IF(A17="","",SUMIF('3. Pollutant Emissions - EF'!$J$8:$J$900,B17,'3. Pollutant Emissions - EF'!$I$8:$I$900)) | F17: =IF(A17="","",IF(_xlfn.XLOOKUP(B17,'DEQ TAC List'!$A$3:$A$609,'DEQ TAC List'!$F$3:$F$609)="HAP","Yes","")) | G17: =_xlfn.XLOOKUP(C17,'DEQ TAC List'!$B$3:$B$609,'DEQ TAC List'!$I$3:$I$609,"")
A18: =IF(A17="","",IF(A17+1>'3. Pollutant Emissions - EF'!$K$1,"",A17+1)) | B18: =IF(A18="","",INDEX('3. Pollutant Emissions - EF'!$J$8:$J$900,MATCH(A18,'3. Pollutant Emissions - EF'!$K$8:$K$900,0),1)) | C18: =IF(A18="","",VLOOKUP(B18,'DEQ TAC List'!$A$3:$C$609,2,FALSE)) | D18: =IF(A18="","",VLOOKUP(B18,'DEQ TAC List'!$A$3:$C$609,3,FALSE)) | E18: =IF(A18="","",SUMIF('3. Pollutant Emissions - EF'!$J$8:$J$900,B18,'3. Pollutant Emissions - EF'!$I$8:$I$900)) | F18: =IF(A18="","",IF(_xlfn.XLOOKUP(B18,'DEQ TAC List'!$A$3:$A$609,'DEQ TAC List'!$F$3:$F$609)="HAP","Yes","")) | G18: =_xlfn.XLOOKUP(C18,'DEQ TAC List'!$B$3:$B$609,'DEQ TAC List'!$I$3:$I$609,"")
A19: =IF(A18="","",IF(A18+1>'3. Pollutant Emissions - EF'!$K$1,"",A18+1)) | B19: =IF(A19="","",INDEX('3. Pollutant Emissions - EF'!$J$8:$J$900,MATCH(A19,'3. Pollutant Emissions - EF'!$K$8:$K$900,0),1)) | C19: =IF(A19="","",VLOOKUP(B19,'DEQ TAC List'!$A$3:$C$609,2,FALSE)) | D19: =IF(A19="","",VLOOKUP(B19,'DEQ TAC List'!$A$3:$C$609,3,FALSE)) | E19: =IF(A19="","",SUMIF('3. Pollutant Emissions - EF'!$J$8:$J$900,B19,'3. Pollutant Emissions - EF'!$I$8:$I$900)) | F19: =IF(A19="","",IF(_xlfn.XLOOKUP(B19,'DEQ TAC List'!$A$3:$A$609,'DEQ TAC List'!$F$3:$F$609)="HAP","Yes","")) | G19: =_xlfn.XLOOKUP(C19,'DEQ TAC List'!$B$3:$B$609,'DEQ TAC List'!$I$3:$I$609,"")
A20: =IF(A19="","",IF(A19+1>'3. Pollutant Emissions - EF'!$K$1,"",A19+1)) | B20: =IF(A20="","",INDEX('3. Pollutant Emissions - EF'!$J$8:$J$900,MATCH(A20,'3. Pollutant Emissions - EF'!$K$8:$K$900,0),1)) | C20: =IF(A20="","",VLOOKUP(B20,'DEQ TAC List'!$A$3:$C$609,2,FALSE)) | D20: =IF(A20="","",VLOOKUP(B20,'DEQ TAC List'!$A$3:$C$609,3,FALSE)) | E20: =IF(A20="","",SUMIF('3. Pollutant Emissions - EF'!$J$8:$J$900,B20,'3. Pollutant Emissions - EF'!$I$8:$I$900)) | F20: =IF(A20="","",IF(_xlfn.XLOOKUP(B20,'DEQ TAC List'!$A$3:$A$609,'DEQ TAC List'!$F$3:$F$609)="HAP","Yes","")) | G20: =_xlfn.XLOOKUP(C20,'DEQ TAC List'!$B$3:$B$609,'DEQ TAC List'!$I$3:$I$609,"")
A21: =IF(A20="","",IF(A20+1>'3. Pollutant Emissions - EF'!$K$1,"",A20+1)) | B21: =IF(A21="","",INDEX('3. Pollutant Emissions - EF'!$J$8:$J$900,MATCH(A21,'3. Pollutant Emissions - EF'!$K$8:$K$900,0),1)) | C21: =IF(A21="","",VLOOKUP(B21,'DEQ TAC List'!$A$3:$C$609,2,FALSE)) | D21: =IF(A21="","",VLOOKUP(B21,'DEQ TAC List'!$A$3:$C$609,3,FALSE)) | E21: =IF(A21="","",SUMIF('3. Pollutant Emissions - EF'!$J$8:$J$900,B21,'3. Pollutant Emissions - EF'!$I$8:$I$900)) | F21: =IF(A21="","",IF(_xlfn.XLOOKUP(B21,'DEQ TAC List'!$A$3:$A$609,'DEQ TAC List'!$F$3:$F$609)="HAP","Yes","")) | G21: =_xlfn.XLOOKUP(C21,'DEQ TAC List'!$B$3:$B$609,'DEQ TAC List'!$I$3:$I$609,"")
A22: =IF(A21="","",IF(A21+1>'3. Pollutant Emissions - EF'!$K$1,"",A21+1)) | B22: =IF(A22="","",INDEX('3. Pollutant Emissions - EF'!$J$8:$J$900,MATCH(A22,'3. Pollutant Emissions - EF'!$K$8:$K$900,0),1)) | C22: =IF(A22="","",VLOOKUP(B22,'DEQ TAC List'!$A$3:$C$609,2,FALSE)) | D22: =IF(A22="","",VLOOKUP(B22,'DEQ TAC List'!$A$3:$C$609,3,FALSE)) | E22: =IF(A22="","",SUMIF('3. Pollutant Emissions - EF'!$J$8:$J$900,B22,'3. Pollutant Emissions - EF'!$I$8:$I$900)) | F22: =IF(A22="","",IF(_xlfn.XLOOKUP(B22,'DEQ TAC List'!$A$3:$A$609,'DEQ TAC List'!$F$3:$F$609)="HAP","Yes","")) | G22: =_xlfn.XLOOKUP(C22,'DEQ TAC List'!$B$3:$B$609,'DEQ TAC List'!$I$3:$I$609,"")
... A209: =IF(A208="","",IF(A208+1>'3. Pollutant Emissions - EF'!$K$1,"",A208+1)) | B209: =IF(A209="","",INDEX('3. Pollutant Emissions - EF'!$J$8:$J$900,MATCH(A209,'3. Pollutant Emissions - EF'!$K$8:$K$900,0),1)) | C209: =IF(A209="","",VLOOKUP(B209,'DEQ TAC List'!$A$3:$C$609,2,FALSE)) | D209: =IF(A209="","",VLOOKUP(B209,'DEQ TAC List'!$A$3:$C$609,3,FALSE)) | E209: =IF(A209="","",SUMIF('3. Pollutant Emissions - EF'!$J$8:$J$900,B209,'3. Pollutant Emissions - EF'!$I$8:$I$900)) | F209: =IF(A209="","",IF(_xlfn.XLOOKUP(B209,'DEQ TAC List'!$A$3:$A$609,'DEQ TAC List'!$F$3:$F$609)="HAP","Yes","")) | G209: =_xlfn.XLOOKUP(C209,'DEQ TAC List'!$B$3:$B$609,'DEQ TAC List'!$I$3:$I$609,"")
A210: =IF(A209="","",IF(A209+1>'6. Pollutant Emissions - MB'!$J$1,"",A209+1)) | B210: =IF(A210="","",INDEX('3. Pollutant Emissions - EF'!$J$8:$J$900,MATCH(A210,'3. Pollutant Emissions - EF'!$K$8:$K$900,0),1)) | C210: =IF(A210="","",VLOOKUP(B210,'DEQ TAC List'!$A$3:$C$609,2,FALSE)) | D210: =IF(A210="","",VLOOKUP(B210,'DEQ TAC List'!$A$3:$C$609,3,FALSE)) | E210: =IF(A210="","",SUMIF('6. Pollutant Emissions - MB'!$I$9:$I$284,'4. EF Summary'!B210,'6. Pollutant Emissions - MB'!$H$9:$H$284)) | F210: =IF(A210="","",IF(VLOOKUP(B210,'DEQ TAC List'!$A$3:$F$609,4,FALSE)="HAP","Yes",""))
A211: =IF(A210="","",IF(A210+1>'6. Pollutant Emissions - MB'!$J$1,"",A210+1)) | B211: =IF(A211="","",INDEX('3. Pollutant Emissions - EF'!$J$8:$J$900,MATCH(A211,'3. Pollutant Emissions - EF'!$K$8:$K$900,0),1)) | C211: =IF(A211="","",VLOOKUP(B211,'DEQ TAC List'!$A$3:$C$609,2,FALSE)) | D211: =IF(A211="","",VLOOKUP(B211,'DEQ TAC List'!$A$3:$C$609,3,FALSE)) | E211: =IF(A211="","",SUMIF('6. Pollutant Emissions - MB'!$I$9:$I$284,'4. EF Summary'!B211,'6. Pollutant Emissions - MB'!$H$9:$H$284)) | F211: =IF(A211="","",IF(VLOOKUP(B211,'DEQ TAC List'!$A$3:$F$609,4,FALSE)="HAP","Yes",""))
A212: =IF(A211="","",IF(A211+1>'6. Pollutant Emissions - MB'!$J$1,"",A211+1)) | B212: =IF(A212="","",INDEX('3. Pollutant Emissions - EF'!$J$8:$J$900,MATCH(A212,'3. Pollutant Emissions - EF'!$K$8:$K$900,0),1)) | C212: =IF(A212="","",VLOOKUP(B212,'DEQ TAC List'!$A$3:$C$609,2,FALSE)) | D212: =IF(A212="","",VLOOKUP(B212,'DEQ TAC List'!$A$3:$C$609,3,FALSE)) | E212: =IF(A212="","",SUMIF('6. Pollutant Emissions - MB'!$I$9:$I$284,'4. EF Summary'!B212,'6. Pollutant Emissions - MB'!$H$9:$H$284)) | F212: =IF(A212="","",IF(VLOOKUP(B212,'DEQ TAC List'!$A$3:$F$609,4,FALSE)="HAP","Yes",""))
A213: =IF(A212="","",IF(A212+1>'6. Pollutant Emissions - MB'!$J$1,"",A212+1)) | B213: =IF(A213="","",INDEX('3. Pollutant Emissions - EF'!$J$8:$J$900,MATCH(A213,'3. Pollutant Emissions - EF'!$K$8:$K$900,0),1)) | C213: =IF(A213="","",VLOOKUP(B213,'DEQ TAC List'!$A$3:$C$609,2,FALSE)) | D213: =IF(A213="","",VLOOKUP(B213,'DEQ TAC List'!$A$3:$C$609,3,FALSE)) | E213: =IF(A213="","",SUMIF('6. Pollutant Emissions - MB'!$I$9:$I$284,'4. EF Summary'!B213,'6. Pollutant Emissions - MB'!$H$9:$H$284)) | F213: =IF(A213="","",IF(VLOOKUP(B213,'DEQ TAC List'!$A$3:$F$609,4,FALSE)="HAP","Yes",""))
A214: =IF(A213="","",IF(A213+1>'6. Pollutant Emissions - MB'!$J$1,"",A213+1)) | B214: =IF(A214="","",INDEX('3. Pollutant Emissions - EF'!$J$8:$J$900,MATCH(A214,'3. Pollutant Emissions - EF'!$K$8:$K$900,0),1)) | C214: =IF(A214="","",VLOOKUP(B214,'DEQ TAC List'!$A$3:$C$609,2,FALSE)) | D214: =IF(A214="","",VLOOKUP(B214,'DEQ TAC List'!$A$3:$C$609,3,FALSE)) | E214: =IF(A214="","",SUMIF('6. Pollutant Emissions - MB'!$I$9:$I$284,'4. EF Summary'!B214,'6. Pollutant Emissions - MB'!$H$9:$H$284)) | F214: =IF(A214="","",IF(VLOOKUP(B214,'DEQ TAC List'!$A$3:$F$609,4,FALSE)="HAP","Yes",""))
A215: =IF(A214="","",IF(A214+1>'6. Pollutant Emissions - MB'!$J$1,"",A214+1)) | B215: =IF(A215="","",INDEX('3. Pollutant Emissions - EF'!$J$8:$J$900,MATCH(A215,'3. Pollutant Emissions - EF'!$K$8:$K$900,0),1)) | C215: =IF(A215="","",VLOOKUP(B215,'DEQ TAC List'!$A$3:$C$609,2,FALSE)) | D215: =IF(A215="","",VLOOKUP(B215,'DEQ TAC List'!$A$3:$C$609,3,FALSE)) | E215: =IF(A215="","",SUMIF('6. Pollutant Emissions - MB'!$I$9:$I$284,'4. EF Summary'!B215,'6. Pollutant Emissions - MB'!$H$9:$H$284)) | F215: =IF(A215="","",IF(VLOOKUP(B215,'DEQ TAC List'!$A$3:$F$609,4,FALSE)="HAP","Yes",""))
A216: =IF(A215="","",IF(A215+1>'6. Pollutant Emissions - MB'!$J$1,"",A215+1)) | B216: =IF(A216="","",INDEX('3. Pollutant Emissions - EF'!$J$8:$J$900,MATCH(A216,'3. Pollutant Emissions - EF'!$K$8:$K$900,0),1)) | C216: =IF(A216="","",VLOOKUP(B216,'DEQ TAC List'!$A$3:$C$609,2,FALSE)) | D216: =IF(A216="","",VLOOKUP(B216,'DEQ TAC List'!$A$3:$C$609,3,FALSE)) | E216: =IF(A216="","",SUMIF('6. Pollutant Emissions - MB'!$I$9:$I$284,'4. EF Summary'!B216,'6. Pollutant Emissions - MB'!$H$9:$H$284)) | F216: =IF(A216="","",IF(VLOOKUP(B216,'DEQ TAC List'!$A$3:$F$609,4,FALSE)="HAP","Yes",""))
A217: =IF(A216="","",IF(A216+1>'6. Pollutant Emissions - MB'!$J$1,"",A216+1)) | B217: =IF(A217="","",INDEX('3. Pollutant Emissions - EF'!$J$8:$J$900,MATCH(A217,'3. Pollutant Emissions - EF'!$K$8:$K$900,0),1)) | C217: =IF(A217="","",VLOOKUP(B217,'DEQ TAC List'!$A$3:$C$609,2,FALSE)) | D217: =IF(A217="","",VLOOKUP(B217,'DEQ TAC List'!$A$3:$C$609,3,FALSE)) | E217: =IF(A217="","",SUMIF('6. Pollutant Emissions - MB'!$I$9:$I$284,'4. EF Summary'!B217,'6. Pollutant Emissions - MB'!$H$9:$H$284)) | F217: =IF(A217="","",IF(VLOOKUP(B217,'DEQ TAC List'!$A$3:$F$609,4,FALSE)="HAP","Yes",""))
A218: =IF(A217="","",IF(A217+1>'6. Pollutant Emissions - MB'!$J$1,"",A217+1)) | B218: =IF(A218="","",INDEX('3. Pollutant Emissions - EF'!$J$8:$J$900,MATCH(A218,'3. Pollutant Emissions - EF'!$K$8:$K$900,0),1)) | C218: =IF(A218="","",VLOOKUP(B218,'DEQ TAC List'!$A$3:$C$609,2,FALSE)) | D218: =IF(A218="","",VLOOKUP(B218,'DEQ TAC List'!$A$3:$C$609,3,FALSE)) | E218: =IF(A218="","",SUMIF('6. Pollutant Emissions - MB'!$I$9:$I$284,'4. EF Summary'!B218,'6. Pollutant Emissions - MB'!$H$9:$H$284)) | F218: =IF(A218="","",IF(VLOOKUP(B218,'DEQ TAC List'!$A$3:$F$609,4,FALSE)="HAP","Yes",""))
A219: =IF(A218="","",IF(A218+1>'6. Pollutant Emissions - MB'!$J$1,"",A218+1)) | B219: =IF(A219="","",INDEX('3. Pollutant Emissions - EF'!$J$8:$J$900,MATCH(A219,'3. Pollutant Emissions - EF'!$K$8:$K$900,0),1)) | C219: =IF(A219="","",VLOOKUP(B219,'DEQ TAC List'!$A$3:$C$609,2,FALSE)) | D219: =IF(A219="","",VLOOKUP(B219,'DEQ TAC List'!$A$3:$C$609,3,FALSE)) | E219: =IF(A219="","",SUMIF('6. Pollutant Emissions - MB'!$I$9:$I$284,'4. EF Summary'!B219,'6. Pollutant Emissions - MB'!$H$9:$H$284)) | F219: =IF(A219="","",IF(VLOOKUP(B219,'DEQ TAC List'!$A$3:$F$609,4,FALSE)="HAP","Yes",""))
A220: =IF(A219="","",IF(A219+1>'6. Pollutant Emissions - MB'!$J$1,"",A219+1)) | B220: =IF(A220="","",INDEX('3. Pollutant Emissions - EF'!$J$8:$J$900,MATCH(A220,'3. Pollutant Emissions - EF'!$K$8:$K$900,0),1)) | C220: =IF(A220="","",VLOOKUP(B220,'DEQ TAC List'!$A$3:$C$609,2,FALSE)) | D220: =IF(A220="","",VLOOKUP(B220,'DEQ TAC List'!$A$3:$C$609,3,FALSE)) | E220: =IF(A220="","",SUMIF('6. Pollutant Emissions - MB'!$I$9:$I$284,'4. EF Summary'!B220,'6. Pollutant Emissions - MB'!$H$9:$H$284)) | F220: =IF(A220="","",IF(VLOOKUP(B220,'DEQ TAC List'!$A$3:$F$609,4,FALSE)="HAP","Yes",""))
A221: =IF(A220="","",IF(A220+1>'6. Pollutant Emissions - MB'!$J$1,"",A220+1)) | B221: =IF(A221="","",INDEX('3. Pollutant Emissions - EF'!$J$8:$J$900,MATCH(A221,'3. Pollutant Emissions - EF'!$K$8:$K$900,0),1)) | C221: =IF(A221="","",VLOOKUP(B221,'DEQ TAC List'!$A$3:$C$609,2,FALSE)) | D221: =IF(A221="","",VLOOKUP(B221,'DEQ TAC List'!$A$3:$C$609,3,FALSE)) | E221: =IF(A221="","",SUMIF('6. Pollutant Emissions - MB'!$I$9:$I$284,'4. EF Summary'!B221,'6. Pollutant Emissions - MB'!$H$9:$H$284)) | F221: =IF(A221="","",IF(VLOOKUP(B221,'DEQ TAC List'!$A$3:$F$609,4,FALSE)="HAP","Yes",""))
... A302: =IF(A301="","",IF(A301+1>'6. Pollutant Emissions - MB'!$J$1,"",A301+1)) | B302: =IF(A302="","",INDEX('3. Pollutant Emissions - EF'!$J$8:$J$900,MATCH(A302,'3. Pollutant Emissions - EF'!$K$8:$K$900,0),1)) | C302: =IF(A302="","",VLOOKUP(B302,'DEQ TAC List'!$A$3:$C$609,2,FALSE)) | D302: =IF(A302="","",VLOOKUP(B302,'DEQ TAC List'!$A$3:$C$609,3,FALSE)) | E302: =IF(A302="","",SUMIF('6. Pollutant Emissions - MB'!$I$9:$I$284,'4. EF Summary'!B302,'6. Pollutant Emissions - MB'!$H$9:$H$284)) | F302: =IF(A302="","",IF(VLOOKUP(B302,'DEQ TAC List'!$A$3:$F$609,4,FALSE)="HAP","Yes",""))

Sheet 5. Material Balance Activities
A2: Emissions Unit/Product Information | G2: Material Usage [lb/yr] | H2: Material Waste [lb/yr]
A3: Emissions Unit ID | B3: Point/ Fugitive | C3: Emission Unit Description | D3: Material Name | E3: Manufacturer | F3: Control Device Type (if applicable) | I3: EU ID + Material Name
A4: EU-Booth | B4: Point | C4: Widget Paint Booth - atomizer spray guns (EXAMPLE) | D4: Widget Paint-A | E4: Widget Paint Co. | F4: booth filter | G4: 13188 | H4: 2000 | I4: TEU-Booth|Widget Paint-A
A5: EU-Booth | B5: Fugitive | C5: Epoxy resin (EXAMPLE) | D5: Widget Epoxy | E5: Widget Epoxy Co. | F5: none | G5: 950 | H5: 15 | I5: TEU-Booth|Widget Epoxy
A6: EU_ID | B6: PointType | C6: Description | D6: MaterialName | E6: Manufacturer | F6: ControlDevice | G6: MaterialUsage | H6: MaterialWaste | I6: EU_ID_and_Material_Name
I7: =A7&delimiter&D7 -> |
I8: =A8&delimiter&D8 -> |
I9: =A9&delimiter&D9 -> |
I10: =A10&delimiter&D10 -> |
I11: =A11&delimiter&D11 -> |
I12: =A12&delimiter&D12 -> |
I13: =A13&delimiter&D13 -> |
I14: =A14&delimiter&D14 -> |
I15: =A15&delimiter&D15 -> |
I16: =A16&delimiter&D16 -> |
I17: =A17&delimiter&D17 -> |
I18: =A18&delimiter&D18 -> |
... I186: =A186&delimiter&D186 -> |
A188: INSERT ROWS ABOVE THIS LINE INSERT ROWS ABOVE THIS LINE

Sheet 6. Pollutant Emissions - MB
J1: =MAX(tbWS_5[MBUnique]) -> 1
A2: Emissions Unit ID | B2: Material Name | C2: Pollutant Information | E2: Emissions Data | H2: Calculated Annual Emissions [lb/yr]
C3: CAS or DEQ ID | D3: Pollutant Name | E3: Control Efficiency | F3: Percent Composition | G3: Reference/Notes | I3: DEQ ID | J3: MB Unique | K3: RBC?
A4: EU-BOOTH | B4: Widget Paint-A | C4: 67-56-1 | D4: Methanol | E4: 0 | F4: 0.35 | H4: 3915.8 | I4: 321 | J4: 1 | K4: =_xlfn.XLOOKUP(C4,'DEQ TAC List'!$B$3:$B$609,'DEQ TAC List'!$I$3:$I$609,"") -> Yes
A5: EU-BOOTH | B5: Widget Paint-A | C5: 18540-29-9 | D5: Chromium VI, chromate and dichromate particulate | E5: 0.9972 | F5: 0.05 | G5: Includes Transfer Efficiency (72%) and Filter Removal Efficiency (99%) | H5: 1.56632 | I5: 136 | J5: 2 | K5: =_xlfn.XLOOKUP(C5,'DEQ TAC List'!$B$3:$B$609,'DEQ TAC List'!$I$3:$I$609,"") -> Yes
A6: EU-BOOTH | B6: Widget Epoxy | C6: 100-41-4 | D6: Ethyl benzene | E6: 0 | F6: 0.05 | H6: 46.75 | I6: 229 | J6: 3 | K6: =_xlfn.XLOOKUP(C6,'DEQ TAC List'!$B$3:$B$609,'DEQ TAC List'!$I$3:$I$609,"") -> Yes
A7: EU-BOOTH | B7: Widget Epoxy | C7: 108-88-3 | D7: Toluene | E7: 0 | F7: 0.03 | H7: 28.05 | I7: 600 | J7: 4 | K7: =_xlfn.XLOOKUP(C7,'DEQ TAC List'!$B$3:$B$609,'DEQ TAC List'!$I$3:$I$609,"") -> Yes
A8: EU_ID | B8: MaterialName | C8: CAS | D8: PollutantName | E8: ControlEfficiency | F8: PercentComposition | G8: Notes | H8: Emissions | I8: DEQPollutantSEQID | J8: MBUnique
D9: =IFERROR(INDEX(chemical_names,MATCH(TEXT(C9,"0"),CAS_numbers,0)),"") | H9: =IF(CONCATENATE(A9,B9)="",IF(CONCATENATE(B9,C9,D9,E9,F9,G9)="","",ws5_EU_ID_MaterialName_blank),IF(ISERROR(MATCH(A9&delimiter&B9,tbWS_4[EU_ID_and_Material_Name],0)),ws5_matching_error_msg,(INDEX(tbWS_4[MaterialUsage],MATCH(A9&delimiter&B9,tbWS_4[EU_ID_and_Material_Name],0))-INDEX(tbWS_4[MaterialWaste],MATCH(A9&delimiter&B9,tbWS_4[EU_ID_and_Material_Name],0)))*$F9*(1-$E9))) | I9: =IF(AND(C9="",D9=""),"",IFERROR(IF(OR(C9="",C9="No CAS"),INDEX(sequence_IDs,MATCH(D9,chemical_names,0)),INDEX(sequence_IDs,MATCH(C9,CAS_numbers,0))),"?")) | J9: 1 | K9: =_xlfn.XLOOKUP(C9,'DEQ TAC List'!$B$3:$B$609,'DEQ TAC List'!$I$3:$I$609,"") -> 0
D10: =IFERROR(INDEX(chemical_names,MATCH(TEXT(C10,"0"),CAS_numbers,0)),"") | H10: =IF(CONCATENATE(A10,B10)="",IF(CONCATENATE(B10,C10,D10,E10,F10,G10)="","",ws5_EU_ID_MaterialName_blank),IF(ISERROR(MATCH(A10&delimiter&B10,tbWS_4[EU_ID_and_Material_Name],0)),ws5_matching_error_msg,(INDEX(tbWS_4[MaterialUsage],MATCH(A10&delimiter&B10,tbWS_4[EU_ID_and_Material_Name],0))-INDEX(tbWS_4[MaterialWaste],MATCH(A10&delimiter&B10,tbWS_4[EU_ID_and_Material_Name],0)))*$F10*(1-$E10))) | I10: =IF(AND(C10="",D10=""),"",IFERROR(IF(OR(C10="",C10="No CAS"),INDEX(sequence_IDs,MATCH(D10,chemical_names,0)),INDEX(sequence_IDs,MATCH(C10,CAS_numbers,0))),"?")) | J10: =IF(C10="","",IF(ISNA(VLOOKUP(I10,$I$9:I9,1,FALSE)),MAX($J$9:J9)+1,0)) | K10: =_xlfn.XLOOKUP(C10,'DEQ TAC List'!$B$3:$B$609,'DEQ TAC List'!$I$3:$I$609,"") -> 0
D11: =IFERROR(INDEX(chemical_names,MATCH(TEXT(C11,"0"),CAS_numbers,0)),"") | H11: =IF(CONCATENATE(A11,B11)="",IF(CONCATENATE(B11,C11,D11,E11,F11,G11)="","",ws5_EU_ID_MaterialName_blank),IF(ISERROR(MATCH(A11&delimiter&B11,tbWS_4[EU_ID_and_Material_Name],0)),ws5_matching_error_msg,(INDEX(tbWS_4[MaterialUsage],MATCH(A11&delimiter&B11,tbWS_4[EU_ID_and_Material_Name],0))-INDEX(tbWS_4[MaterialWaste],MATCH(A11&delimiter&B11,tbWS_4[EU_ID_and_Material_Name],0)))*$F11*(1-$E11))) | I11: =IF(AND(C11="",D11=""),"",IFERROR(IF(OR(C11="",C11="No CAS"),INDEX(sequence_IDs,MATCH(D11,chemical_names,0)),INDEX(sequence_IDs,MATCH(C11,CAS_numbers,0))),"?")) | J11: =IF(C11="","",IF(ISNA(VLOOKUP(I11,$I$9:I10,1,FALSE)),MAX($J$9:J10)+1,0)) | K11: =_xlfn.XLOOKUP(C11,'DEQ TAC List'!$B$3:$B$609,'DEQ TAC List'!$I$3:$I$609,"") -> 0
D12: =IFERROR(INDEX(chemical_names,MATCH(TEXT(C12,"0"),CAS_numbers,0)),"") | H12: =IF(CONCATENATE(A12,B12)="",IF(CONCATENATE(B12,C12,D12,E12,F12,G12)="","",ws5_EU_ID_MaterialName_blank),IF(ISERROR(MATCH(A12&delimiter&B12,tbWS_4[EU_ID_and_Material_Name],0)),ws5_matching_error_msg,(INDEX(tbWS_4[MaterialUsage],MATCH(A12&delimiter&B12,tbWS_4[EU_ID_and_Material_Name],0))-INDEX(tbWS_4[MaterialWaste],MATCH(A12&delimiter&B12,tbWS_4[EU_ID_and_Material_Name],0)))*$F12*(1-$E12))) | I12: =IF(AND(C12="",D12=""),"",IFERROR(IF(OR(C12="",C12="No CAS"),INDEX(sequence_IDs,MATCH(D12,chemical_names,0)),INDEX(sequence_IDs,MATCH(C12,CAS_numbers,0))),"?")) | J12: =IF(C12="","",IF(ISNA(VLOOKUP(I12,$I$9:I11,1,FALSE)),MAX($J$9:J11)+1,0)) | K12: =_xlfn.XLOOKUP(C12,'DEQ TAC List'!$B$3:$B$609,'DEQ TAC List'!$I$3:$I$609,"") -> 0
D13: =IFERROR(INDEX(chemical_names,MATCH(TEXT(C13,"0"),CAS_numbers,0)),"") | H13: =IF(CONCATENATE(A13,B13)="",IF(CONCATENATE(B13,C13,D13,E13,F13,G13)="","",ws5_EU_ID_MaterialName_blank),IF(ISERROR(MATCH(A13&delimiter&B13,tbWS_4[EU_ID_and_Material_Name],0)),ws5_matching_error_msg,(INDEX(tbWS_4[MaterialUsage],MATCH(A13&delimiter&B13,tbWS_4[EU_ID_and_Material_Name],0))-INDEX(tbWS_4[MaterialWaste],MATCH(A13&delimiter&B13,tbWS_4[EU_ID_and_Material_Name],0)))*$F13*(1-$E13))) | I13: =IF(AND(C13="",D13=""),"",IFERROR(IF(OR(C13="",C13="No CAS"),INDEX(sequence_IDs,MATCH(D13,chemical_names,0)),INDEX(sequence_IDs,MATCH(C13,CAS_numbers,0))),"?")) | J13: =IF(C13="","",IF(ISNA(VLOOKUP(I13,$I$9:I12,1,FALSE)),MAX($J$9:J12)+1,0)) | K13: =_xlfn.XLOOKUP(C13,'DEQ TAC List'!$B$3:$B$609,'DEQ TAC List'!$I$3:$I$609,"") -> 0
D14: =IFERROR(INDEX(chemical_names,MATCH(TEXT(C14,"0"),CAS_numbers,0)),"") | H14: =IF(CONCATENATE(A14,B14)="",IF(CONCATENATE(B14,C14,D14,E14,F14,G14)="","",ws5_EU_ID_MaterialName_blank),IF(ISERROR(MATCH(A14&delimiter&B14,tbWS_4[EU_ID_and_Material_Name],0)),ws5_matching_error_msg,(INDEX(tbWS_4[MaterialUsage],MATCH(A14&delimiter&B14,tbWS_4[EU_ID_and_Material_Name],0))-INDEX(tbWS_4[MaterialWaste],MATCH(A14&delimiter&B14,tbWS_4[EU_ID_and_Material_Name],0)))*$F14*(1-$E14))) | I14: =IF(AND(C14="",D14=""),"",IFERROR(IF(OR(C14="",C14="No CAS"),INDEX(sequence_IDs,MATCH(D14,chemical_names,0)),INDEX(sequence_IDs,MATCH(C14,CAS_numbers,0))),"?")) | J14: =IF(C14="","",IF(ISNA(VLOOKUP(I14,$I$9:I13,1,FALSE)),MAX($J$9:J13)+1,0)) | K14: =_xlfn.XLOOKUP(C14,'DEQ TAC List'!$B$3:$B$609,'DEQ TAC List'!$I$3:$I$609,"") -> 0
D15: =IFERROR(INDEX(chemical_names,MATCH(TEXT(C15,"0"),CAS_numbers,0)),"") | H15: =IF(CONCATENATE(A15,B15)="",IF(CONCATENATE(B15,C15,D15,E15,F15,G15)="","",ws5_EU_ID_MaterialName_blank),IF(ISERROR(MATCH(A15&delimiter&B15,tbWS_4[EU_ID_and_Material_Name],0)),ws5_matching_error_msg,(INDEX(tbWS_4[MaterialUsage],MATCH(A15&delimiter&B15,tbWS_4[EU_ID_and_Material_Name],0))-INDEX(tbWS_4[MaterialWaste],MATCH(A15&delimiter&B15,tbWS_4[EU_ID_and_Material_Name],0)))*$F15*(1-$E15))) | I15: =IF(AND(C15="",D15=""),"",IFERROR(IF(OR(C15="",C15="No CAS"),INDEX(sequence_IDs,MATCH(D15,chemical_names,0)),INDEX(sequence_IDs,MATCH(C15,CAS_numbers,0))),"?")) | J15: =IF(C15="","",IF(ISNA(VLOOKUP(I15,$I$9:I14,1,FALSE)),MAX($J$9:J14)+1,0)) | K15: =_xlfn.XLOOKUP(C15,'DEQ TAC List'!$B$3:$B$609,'DEQ TAC List'!$I$3:$I$609,"") -> 0
D16: =IFERROR(INDEX(chemical_names,MATCH(TEXT(C16,"0"),CAS_numbers,0)),"") | H16: =IF(CONCATENATE(A16,B16)="",IF(CONCATENATE(B16,C16,D16,E16,F16,G16)="","",ws5_EU_ID_MaterialName_blank),IF(ISERROR(MATCH(A16&delimiter&B16,tbWS_4[EU_ID_and_Material_Name],0)),ws5_matching_error_msg,(INDEX(tbWS_4[MaterialUsage],MATCH(A16&delimiter&B16,tbWS_4[EU_ID_and_Material_Name],0))-INDEX(tbWS_4[MaterialWaste],MATCH(A16&delimiter&B16,tbWS_4[EU_ID_and_Material_Name],0)))*$F16*(1-$E16))) | I16: =IF(AND(C16="",D16=""),"",IFERROR(IF(OR(C16="",C16="No CAS"),INDEX(sequence_IDs,MATCH(D16,chemical_names,0)),INDEX(sequence_IDs,MATCH(C16,CAS_numbers,0))),"?")) | J16: =IF(C16="","",IF(ISNA(VLOOKUP(I16,$I$9:I15,1,FALSE)),MAX($J$9:J15)+1,0)) | K16: =_xlfn.XLOOKUP(C16,'DEQ TAC List'!$B$3:$B$609,'DEQ TAC List'!$I$3:$I$609,"") -> 0
D17: =IFERROR(INDEX(chemical_names,MATCH(TEXT(C17,"0"),CAS_numbers,0)),"") | H17: =IF(CONCATENATE(A17,B17)="",IF(CONCATENATE(B17,C17,D17,E17,F17,G17)="","",ws5_EU_ID_MaterialName_blank),IF(ISERROR(MATCH(A17&delimiter&B17,tbWS_4[EU_ID_and_Material_Name],0)),ws5_matching_error_msg,(INDEX(tbWS_4[MaterialUsage],MATCH(A17&delimiter&B17,tbWS_4[EU_ID_and_Material_Name],0))-INDEX(tbWS_4[MaterialWaste],MATCH(A17&delimiter&B17,tbWS_4[EU_ID_and_Material_Name],0)))*$F17*(1-$E17))) | I17: =IF(AND(C17="",D17=""),"",IFERROR(IF(OR(C17="",C17="No CAS"),INDEX(sequence_IDs,MATCH(D17,chemical_names,0)),INDEX(sequence_IDs,MATCH(C17,CAS_numbers,0))),"?")) | J17: =IF(C17="","",IF(ISNA(VLOOKUP(I17,$I$9:I16,1,FALSE)),MAX($J$9:J16)+1,0)) | K17: =_xlfn.XLOOKUP(C17,'DEQ TAC List'!$B$3:$B$609,'DEQ TAC List'!$I$3:$I$609,"") -> 0
D18: =IFERROR(INDEX(chemical_names,MATCH(TEXT(C18,"0"),CAS_numbers,0)),"") | H18: =IF(CONCATENATE(A18,B18)="",IF(CONCATENATE(B18,C18,D18,E18,F18,G18)="","",ws5_EU_ID_MaterialName_blank),IF(ISERROR(MATCH(A18&delimiter&B18,tbWS_4[EU_ID_and_Material_Name],0)),ws5_matching_error_msg,(INDEX(tbWS_4[MaterialUsage],MATCH(A18&delimiter&B18,tbWS_4[EU_ID_and_Material_Name],0))-INDEX(tbWS_4[MaterialWaste],MATCH(A18&delimiter&B18,tbWS_4[EU_ID_and_Material_Name],0)))*$F18*(1-$E18))) | I18: =IF(AND(C18="",D18=""),"",IFERROR(IF(OR(C18="",C18="No CAS"),INDEX(sequence_IDs,MATCH(D18,chemical_names,0)),INDEX(sequence_IDs,MATCH(C18,CAS_numbers,0))),"?")) | J18: =IF(C18="","",IF(ISNA(VLOOKUP(I18,$I$9:I17,1,FALSE)),MAX($J$9:J17)+1,0)) | K18: =_xlfn.XLOOKUP(C18,'DEQ TAC List'!$B$3:$B$609,'DEQ TAC List'!$I$3:$I$609,"") -> 0
D19: =IFERROR(INDEX(chemical_names,MATCH(TEXT(C19,"0"),CAS_numbers,0)),"") | H19: =IF(CONCATENATE(A19,B19)="",IF(CONCATENATE(B19,C19,D19,E19,F19,G19)="","",ws5_EU_ID_MaterialName_blank),IF(ISERROR(MATCH(A19&delimiter&B19,tbWS_4[EU_ID_and_Material_Name],0)),ws5_matching_error_msg,(INDEX(tbWS_4[MaterialUsage],MATCH(A19&delimiter&B19,tbWS_4[EU_ID_and_Material_Name],0))-INDEX(tbWS_4[MaterialWaste],MATCH(A19&delimiter&B19,tbWS_4[EU_ID_and_Material_Name],0)))*$F19*(1-$E19))) | I19: =IF(AND(C19="",D19=""),"",IFERROR(IF(OR(C19="",C19="No CAS"),INDEX(sequence_IDs,MATCH(D19,chemical_names,0)),INDEX(sequence_IDs,MATCH(C19,CAS_numbers,0))),"?")) | J19: =IF(C19="","",IF(ISNA(VLOOKUP(I19,$I$9:I18,1,FALSE)),MAX($J$9:J18)+1,0)) | K19: =_xlfn.XLOOKUP(C19,'DEQ TAC List'!$B$3:$B$609,'DEQ TAC List'!$I$3:$I$609,"") -> 0
D20: =IFERROR(INDEX(chemical_names,MATCH(TEXT(C20,"0"),CAS_numbers,0)),"") | H20: =IF(CONCATENATE(A20,B20)="",IF(CONCATENATE(B20,C20,D20,E20,F20,G20)="","",ws5_EU_ID_MaterialName_blank),IF(ISERROR(MATCH(A20&delimiter&B20,tbWS_4[EU_ID_and_Material_Name],0)),ws5_matching_error_msg,(INDEX(tbWS_4[MaterialUsage],MATCH(A20&delimiter&B20,tbWS_4[EU_ID_and_Material_Name],0))-INDEX(tbWS_4[MaterialWaste],MATCH(A20&delimiter&B20,tbWS_4[EU_ID_and_Material_Name],0)))*$F20*(1-$E20))) | I20: =IF(AND(C20="",D20=""),"",IFERROR(IF(OR(C20="",C20="No CAS"),INDEX(sequence_IDs,MATCH(D20,chemical_names,0)),INDEX(sequence_IDs,MATCH(C20,CAS_numbers,0))),"?")) | J20: =IF(C20="","",IF(ISNA(VLOOKUP(I20,$I$9:I19,1,FALSE)),MAX($J$9:J19)+1,0)) | K20: =_xlfn.XLOOKUP(C20,'DEQ TAC List'!$B$3:$B$609,'DEQ TAC List'!$I$3:$I$609,"") -> 0
D21: =IFERROR(INDEX(chemical_names,MATCH(TEXT(C21,"0"),CAS_numbers,0)),"") | H21: =IF(CONCATENATE(A21,B21)="",IF(CONCATENATE(B21,C21,D21,E21,F21,G21)="","",ws5_EU_ID_MaterialName_blank),IF(ISERROR(MATCH(A21&delimiter&B21,tbWS_4[EU_ID_and_Material_Name],0)),ws5_matching_error_msg,(INDEX(tbWS_4[MaterialUsage],MATCH(A21&delimiter&B21,tbWS_4[EU_ID_and_Material_Name],0))-INDEX(tbWS_4[MaterialWaste],MATCH(A21&delimiter&B21,tbWS_4[EU_ID_and_Material_Name],0)))*$F21*(1-$E21))) | I21: =IF(AND(C21="",D21=""),"",IFERROR(IF(OR(C21="",C21="No CAS"),INDEX(sequence_IDs,MATCH(D21,chemical_names,0)),INDEX(sequence_IDs,MATCH(C21,CAS_numbers,0))),"?")) | J21: =IF(C21="","",IF(ISNA(VLOOKUP(I21,$I$9:I20,1,FALSE)),MAX($J$9:J20)+1,0)) | K21: =_xlfn.XLOOKUP(C21,'DEQ TAC List'!$B$3:$B$609,'DEQ TAC List'!$I$3:$I$609,"") -> 0
... D475: =IFERROR(INDEX(chemical_names,MATCH(TEXT(C475,"0"),CAS_numbers,0)),"") | H475: =IF(CONCATENATE(A475,B475)="",IF(CONCATENATE(B475,C475,D475,E475,F475,G475)="","",ws5_EU_ID_MaterialName_blank),IF(ISERROR(MATCH(A475&delimiter&B475,tbWS_4[EU_ID_and_Material_Name],0)),ws5_matching_error_msg,(INDEX(tbWS_4[MaterialUsage],MATCH(A475&delimiter&B475,tbWS_4[EU_ID_and_Material_Name],0))-INDEX(tbWS_4[MaterialWaste],MATCH(A475&delimiter&B475,tbWS_4[EU_ID_and_Material_Name],0)))*$F475*(1-$E475))) | I475: =IF(AND(C475="",D475=""),"",IFERROR(IF(OR(C475="",C475="No CAS"),INDEX(sequence_IDs,MATCH(D475,chemical_names,0)),INDEX(sequence_IDs,MATCH(C475,CAS_numbers,0))),"?")) | J475: =IF(C475="","",IF(ISNA(VLOOKUP(I475,$I$9:I474,1,FALSE)),MAX($J$9:J474)+1,0)) | K475: =_xlfn.XLOOKUP(C475,'DEQ TAC List'!$B$3:$B$609,'DEQ TAC List'!$I$3:$I$609,"") -> 0
A476: =IFERROR(INDEX(chemical_names,MATCH(C476,CAS_numbers,0)),"")
A477: INSERT ROWS ABOVE THIS LINE INSERT ROWS ABOVE THIS LINE

Sheet 7. MB Summary
C1: Material Balance Summary by Pollutant
C2: This tab is a summary of everything entered or calculated on Worksheet 5. Pollutant Emissions - MB.
C3: It is not necessary to fill out any information in this tab. The table should auto-populate.
E5: =SUM(E10:E302) -> 0 | F5: Total MB Emissions (lbs) | J5: =_xlfn.MAXIFS($E$10:$E$209,$F$10:$F$209,"YES") -> 0 | K5: Max Individual HAP (lb)
E6: =SUMIF($F$10:$F$302,"Yes",$E$10:$E$302) -> 0 | F6: Total HAP (lbs) | J6: =_xlfn.MAXIFS($E$10:$E$209,$F$10:$F$209,"YES")/2000 -> 0 | K6: Max Individual HAP (ton)
A7: Pollutant Information | E7: Calculated Annual Emissions [lb/yr] | F7: HAP | G7: RBC | K7: Max Individual HAP
A8: MB Unique | B8: DEQ ID | C8: CAS | D8: Pollutant Name | K8: {=_xlfn._xlws.FILTER($D$10:$D$209,$E$10:$E$209=J5)} -> #N/A
A9: MBUnique | B9: DEQPollutantSEQID | C9: CAS | D9: PollutantName | E9: MBEmissionsSum | F9: HAP
A10: 1 | B10: =IF(A10="","",INDEX('6. Pollutant Emissions - MB'!$I$9:$I$475,MATCH(A10,'6. Pollutant Emissions - MB'!$J$9:$J$475,0),1)) | C10: =IF(A10="","",VLOOKUP(B10,'DEQ TAC List'!$A$3:$C$609,2,FALSE)) -> #N/A | D10: =IF(A10="","",VLOOKUP(B10,'DEQ TAC List'!$A$3:$C$609,3,FALSE)) -> #N/A | E10: =IF(A10="","",SUMIF('6. Pollutant Emissions - MB'!$I$9:$I$475,B10,'6. Pollutant Emissions - MB'!$H$9:$H$475)) -> 0 | F10: =IF(A10="","",IF(_xlfn.XLOOKUP(B10,'DEQ TAC List'!$A$3:$A$609,'DEQ TAC List'!$F$3:$F$609)="HAP","Yes","")) -> #N/A | G10: =_xlfn.XLOOKUP(C10,'DEQ TAC List'!$B$3:$B$609,'DEQ TAC List'!$I$3:$I$609,"") -> #N/A
A11: =IF(A10="","",IF(A10+1>'6. Pollutant Emissions - MB'!$J$1,"",A10+1)) | B11: =IF(A11="","",INDEX('6. Pollutant Emissions - MB'!$I$9:$I$475,MATCH(A11,'6. Pollutant Emissions - MB'!$J$9:$J$475,0),1)) | C11: =IF(A11="","",VLOOKUP(B11,'DEQ TAC List'!$A$3:$C$609,2,FALSE)) | D11: =IF(A11="","",VLOOKUP(B11,'DEQ TAC List'!$A$3:$C$609,3,FALSE)) | E11: =IF(A11="","",SUMIF('6. Pollutant Emissions - MB'!$I$9:$I$475,B11,'6. Pollutant Emissions - MB'!$H$9:$H$475)) | F11: =IF(A11="","",IF(_xlfn.XLOOKUP(B11,'DEQ TAC List'!$A$3:$A$609,'DEQ TAC List'!$F$3:$F$609)="HAP","Yes","")) | G11: =_xlfn.XLOOKUP(C11,'DEQ TAC List'!$B$3:$B$609,'DEQ TAC List'!$I$3:$I$609,"")
A12: =IF(A11="","",IF(A11+1>'6. Pollutant Emissions - MB'!$J$1,"",A11+1)) | B12: =IF(A12="","",INDEX('6. Pollutant Emissions - MB'!$I$9:$I$475,MATCH(A12,'6. Pollutant Emissions - MB'!$J$9:$J$475,0),1)) | C12: =IF(A12="","",VLOOKUP(B12,'DEQ TAC List'!$A$3:$C$609,2,FALSE)) | D12: =IF(A12="","",VLOOKUP(B12,'DEQ TAC List'!$A$3:$C$609,3,FALSE)) | E12: =IF(A12="","",SUMIF('6. Pollutant Emissions - MB'!$I$9:$I$475,B12,'6. Pollutant Emissions - MB'!$H$9:$H$475)) | F12: =IF(A12="","",IF(_xlfn.XLOOKUP(B12,'DEQ TAC List'!$A$3:$A$609,'DEQ TAC List'!$F$3:$F$609)="HAP","Yes","")) | G12: =_xlfn.XLOOKUP(C12,'DEQ TAC List'!$B$3:$B$609,'DEQ TAC List'!$I$3:$I$609,"")
A13: =IF(A12="","",IF(A12+1>'6. Pollutant Emissions - MB'!$J$1,"",A12+1)) | B13: =IF(A13="","",INDEX('6. Pollutant Emissions - MB'!$I$9:$I$475,MATCH(A13,'6. Pollutant Emissions - MB'!$J$9:$J$475,0),1)) | C13: =IF(A13="","",VLOOKUP(B13,'DEQ TAC List'!$A$3:$C$609,2,FALSE)) | D13: =IF(A13="","",VLOOKUP(B13,'DEQ TAC List'!$A$3:$C$609,3,FALSE)) | E13: =IF(A13="","",SUMIF('6. Pollutant Emissions - MB'!$I$9:$I$475,B13,'6. Pollutant Emissions - MB'!$H$9:$H$475)) | F13: =IF(A13="","",IF(_xlfn.XLOOKUP(B13,'DEQ TAC List'!$A$3:$A$609,'DEQ TAC List'!$F$3:$F$609)="HAP","Yes","")) | G13: =_xlfn.XLOOKUP(C13,'DEQ TAC List'!$B$3:$B$609,'DEQ TAC List'!$I$3:$I$609,"")
A14: =IF(A13="","",IF(A13+1>'6. Pollutant Emissions - MB'!$J$1,"",A13+1)) | B14: =IF(A14="","",INDEX('6. Pollutant Emissions - MB'!$I$9:$I$475,MATCH(A14,'6. Pollutant Emissions - MB'!$J$9:$J$475,0),1)) | C14: =IF(A14="","",VLOOKUP(B14,'DEQ TAC List'!$A$3:$C$609,2,FALSE)) | D14: =IF(A14="","",VLOOKUP(B14,'DEQ TAC List'!$A$3:$C$609,3,FALSE)) | E14: =IF(A14="","",SUMIF('6. Pollutant Emissions - MB'!$I$9:$I$475,B14,'6. Pollutant Emissions - MB'!$H$9:$H$475)) | F14: =IF(A14="","",IF(_xlfn.XLOOKUP(B14,'DEQ TAC List'!$A$3:$A$609,'DEQ TAC List'!$F$3:$F$609)="HAP","Yes","")) | G14: =_xlfn.XLOOKUP(C14,'DEQ TAC List'!$B$3:$B$609,'DEQ TAC List'!$I$3:$I$609,"")
A15: =IF(A14="","",IF(A14+1>'6. Pollutant Emissions - MB'!$J$1,"",A14+1)) | B15: =IF(A15="","",INDEX('6. Pollutant Emissions - MB'!$I$9:$I$475,MATCH(A15,'6. Pollutant Emissions - MB'!$J$9:$J$475,0),1)) | C15: =IF(A15="","",VLOOKUP(B15,'DEQ TAC List'!$A$3:$C$609,2,FALSE)) | D15: =IF(A15="","",VLOOKUP(B15,'DEQ TAC List'!$A$3:$C$609,3,FALSE)) | E15: =IF(A15="","",SUMIF('6. Pollutant Emissions - MB'!$I$9:$I$475,B15,'6. Pollutant Emissions - MB'!$H$9:$H$475)) | F15: =IF(A15="","",IF(_xlfn.XLOOKUP(B15,'DEQ TAC List'!$A$3:$A$609,'DEQ TAC List'!$F$3:$F$609)="HAP","Yes","")) | G15: =_xlfn.XLOOKUP(C15,'DEQ TAC List'!$B$3:$B$609,'DEQ TAC List'!$I$3:$I$609,"")
A16: =IF(A15="","",IF(A15+1>'6. Pollutant Emissions - MB'!$J$1,"",A15+1)) | B16: =IF(A16="","",INDEX('6. Pollutant Emissions - MB'!$I$9:$I$475,MATCH(A16,'6. Pollutant Emissions - MB'!$J$9:$J$475,0),1)) | C16: =IF(A16="","",VLOOKUP(B16,'DEQ TAC List'!$A$3:$C$609,2,FALSE)) | D16: =IF(A16="","",VLOOKUP(B16,'DEQ TAC List'!$A$3:$C$609,3,FALSE)) | E16: =IF(A16="","",SUMIF('6. Pollutant Emissions - MB'!$I$9:$I$475,B16,'6. Pollutant Emissions - MB'!$H$9:$H$475)) | F16: =IF(A16="","",IF(_xlfn.XLOOKUP(B16,'DEQ TAC List'!$A$3:$A$609,'DEQ TAC List'!$F$3:$F$609)="HAP","Yes","")) | G16: =_xlfn.XLOOKUP(C16,'DEQ TAC List'!$B$3:$B$609,'DEQ TAC List'!$I$3:$I$609,"")
A17: =IF(A16="","",IF(A16+1>'6. Pollutant Emissions - MB'!$J$1,"",A16+1)) | B17: =IF(A17="","",INDEX('6. Pollutant Emissions - MB'!$I$9:$I$475,MATCH(A17,'6. Pollutant Emissions - MB'!$J$9:$J$475,0),1)) | C17: =IF(A17="","",VLOOKUP(B17,'DEQ TAC List'!$A$3:$C$609,2,FALSE)) | D17: =IF(A17="","",VLOOKUP(B17,'DEQ TAC List'!$A$3:$C$609,3,FALSE)) | E17: =IF(A17="","",SUMIF('6. Pollutant Emissions - MB'!$I$9:$I$475,B17,'6. Pollutant Emissions - MB'!$H$9:$H$475)) | F17: =IF(A17="","",IF(_xlfn.XLOOKUP(B17,'DEQ TAC List'!$A$3:$A$609,'DEQ TAC List'!$F$3:$F$609)="HAP","Yes","")) | G17: =_xlfn.XLOOKUP(C17,'DEQ TAC List'!$B$3:$B$609,'DEQ TAC List'!$I$3:$I$609,"")
A18: =IF(A17="","",IF(A17+1>'6. Pollutant Emissions - MB'!$J$1,"",A17+1)) | B18: =IF(A18="","",INDEX('6. Pollutant Emissions - MB'!$I$9:$I$475,MATCH(A18,'6. Pollutant Emissions - MB'!$J$9:$J$475,0),1)) | C18: =IF(A18="","",VLOOKUP(B18,'DEQ TAC List'!$A$3:$C$609,2,FALSE)) | D18: =IF(A18="","",VLOOKUP(B18,'DEQ TAC List'!$A$3:$C$609,3,FALSE)) | E18: =IF(A18="","",SUMIF('6. Pollutant Emissions - MB'!$I$9:$I$475,B18,'6. Pollutant Emissions - MB'!$H$9:$H$475)) | F18: =IF(A18="","",IF(_xlfn.XLOOKUP(B18,'DEQ TAC List'!$A$3:$A$609,'DEQ TAC List'!$F$3:$F$609)="HAP","Yes","")) | G18: =_xlfn.XLOOKUP(C18,'DEQ TAC List'!$B$3:$B$609,'DEQ TAC List'!$I$3:$I$609,"")
A19: =IF(A18="","",IF(A18+1>'6. Pollutant Emissions - MB'!$J$1,"",A18+1)) | B19: =IF(A19="","",INDEX('6. Pollutant Emissions - MB'!$I$9:$I$475,MATCH(A19,'6. Pollutant Emissions - MB'!$J$9:$J$475,0),1)) | C19: =IF(A19="","",VLOOKUP(B19,'DEQ TAC List'!$A$3:$C$609,2,FALSE)) | D19: =IF(A19="","",VLOOKUP(B19,'DEQ TAC List'!$A$3:$C$609,3,FALSE)) | E19: =IF(A19="","",SUMIF('6. Pollutant Emissions - MB'!$I$9:$I$475,B19,'6. Pollutant Emissions - MB'!$H$9:$H$475)) | F19: =IF(A19="","",IF(_xlfn.XLOOKUP(B19,'DEQ TAC List'!$A$3:$A$609,'DEQ TAC List'!$F$3:$F$609)="HAP","Yes","")) | G19: =_xlfn.XLOOKUP(C19,'DEQ TAC List'!$B$3:$B$609,'DEQ TAC List'!$I$3:$I$609,"")
A20: =IF(A19="","",IF(A19+1>'6. Pollutant Emissions - MB'!$J$1,"",A19+1)) | B20: =IF(A20="","",INDEX('6. Pollutant Emissions - MB'!$I$9:$I$475,MATCH(A20,'6. Pollutant Emissions - MB'!$J$9:$J$475,0),1)) | C20: =IF(A20="","",VLOOKUP(B20,'DEQ TAC List'!$A$3:$C$609,2,FALSE)) | D20: =IF(A20="","",VLOOKUP(B20,'DEQ TAC List'!$A$3:$C$609,3,FALSE)) | E20: =IF(A20="","",SUMIF('6. Pollutant Emissions - MB'!$I$9:$I$475,B20,'6. Pollutant Emissions - MB'!$H$9:$H$475)) | F20: =IF(A20="","",IF(_xlfn.XLOOKUP(B20,'DEQ TAC List'!$A$3:$A$609,'DEQ TAC List'!$F$3:$F$609)="HAP","Yes","")) | G20: =_xlfn.XLOOKUP(C20,'DEQ TAC List'!$B$3:$B$609,'DEQ TAC List'!$I$3:$I$609,"")
A21: =IF(A20="","",IF(A20+1>'6. Pollutant Emissions - MB'!$J$1,"",A20+1)) | B21: =IF(A21="","",INDEX('6. Pollutant Emissions - MB'!$I$9:$I$475,MATCH(A21,'6. Pollutant Emissions - MB'!$J$9:$J$475,0),1)) | C21: =IF(A21="","",VLOOKUP(B21,'DEQ TAC List'!$A$3:$C$609,2,FALSE)) | D21: =IF(A21="","",VLOOKUP(B21,'DEQ TAC List'!$A$3:$C$609,3,FALSE)) | E21: =IF(A21="","",SUMIF('6. Pollutant Emissions - MB'!$I$9:$I$475,B21,'6. Pollutant Emissions - MB'!$H$9:$H$475)) | F21: =IF(A21="","",IF(_xlfn.XLOOKUP(B21,'DEQ TAC List'!$A$3:$A$609,'DEQ TAC List'!$F$3:$F$609)="HAP","Yes","")) | G21: =_xlfn.XLOOKUP(C21,'DEQ TAC List'!$B$3:$B$609,'DEQ TAC List'!$I$3:$I$609,"")
A22: =IF(A21="","",IF(A21+1>'6. Pollutant Emissions - MB'!$J$1,"",A21+1)) | B22: =IF(A22="","",INDEX('6. Pollutant Emissions - MB'!$I$9:$I$475,MATCH(A22,'6. Pollutant Emissions - MB'!$J$9:$J$475,0),1)) | C22: =IF(A22="","",VLOOKUP(B22,'DEQ TAC List'!$A$3:$C$609,2,FALSE)) | D22: =IF(A22="","",VLOOKUP(B22,'DEQ TAC List'!$A$3:$C$609,3,FALSE)) | E22: =IF(A22="","",SUMIF('6. Pollutant Emissions - MB'!$I$9:$I$475,B22,'6. Pollutant Emissions - MB'!$H$9:$H$475)) | F22: =IF(A22="","",IF(_xlfn.XLOOKUP(B22,'DEQ TAC List'!$A$3:$A$609,'DEQ TAC List'!$F$3:$F$609)="HAP","Yes","")) | G22: =_xlfn.XLOOKUP(C22,'DEQ TAC List'!$B$3:$B$609,'DEQ TAC List'!$I$3:$I$609,"")
... A209: =IF(A208="","",IF(A208+1>'6. Pollutant Emissions - MB'!$J$1,"",A208+1)) | B209: =IF(A209="","",INDEX('6. Pollutant Emissions - MB'!$I$9:$I$475,MATCH(A209,'6. Pollutant Emissions - MB'!$J$9:$J$475,0),1)) | C209: =IF(A209="","",VLOOKUP(B209,'DEQ TAC List'!$A$3:$C$609,2,FALSE)) | D209: =IF(A209="","",VLOOKUP(B209,'DEQ TAC List'!$A$3:$C$609,3,FALSE)) | E209: =IF(A209="","",SUMIF('6. Pollutant Emissions - MB'!$I$9:$I$475,B209,'6. Pollutant Emissions - MB'!$H$9:$H$475)) | F209: =IF(A209="","",IF(_xlfn.XLOOKUP(B209,'DEQ TAC List'!$A$3:$A$609,'DEQ TAC List'!$F$3:$F$609)="HAP","Yes","")) | G209: =_xlfn.XLOOKUP(C209,'DEQ TAC List'!$B$3:$B$609,'DEQ TAC List'!$I$3:$I$609,"")
A210: =IF(A209="","",IF(A209+1>'6. Pollutant Emissions - MB'!$J$1,"",A209+1)) | B210: =IF(A210="","",INDEX('6. Pollutant Emissions - MB'!$I$9:$I$284,MATCH(A210,'6. Pollutant Emissions - MB'!$J$9:$J$284,0),1)) | C210: =IF(A210="","",VLOOKUP(B210,'DEQ TAC List'!$A$3:$C$609,2,FALSE)) | D210: =IF(A210="","",VLOOKUP(B210,'DEQ TAC List'!$A$3:$C$609,3,FALSE)) | E210: =IF(A210="","",SUMIF('6. Pollutant Emissions - MB'!$I$9:$I$284,'7. MB Summary'!B210,'6. Pollutant Emissions - MB'!$H$9:$H$284)) | F210: =IF(A210="","",IF(VLOOKUP(B210,'DEQ TAC List'!$A$3:$F$609,4,FALSE)="HAP","Yes",""))
A211: =IF(A210="","",IF(A210+1>'6. Pollutant Emissions - MB'!$J$1,"",A210+1)) | B211: =IF(A211="","",INDEX('6. Pollutant Emissions - MB'!$I$9:$I$284,MATCH(A211,'6. Pollutant Emissions - MB'!$J$9:$J$284,0),1)) | C211: =IF(A211="","",VLOOKUP(B211,'DEQ TAC List'!$A$3:$C$609,2,FALSE)) | D211: =IF(A211="","",VLOOKUP(B211,'DEQ TAC List'!$A$3:$C$609,3,FALSE)) | E211: =IF(A211="","",SUMIF('6. Pollutant Emissions - MB'!$I$9:$I$284,'7. MB Summary'!B211,'6. Pollutant Emissions - MB'!$H$9:$H$284)) | F211: =IF(A211="","",IF(VLOOKUP(B211,'DEQ TAC List'!$A$3:$F$609,4,FALSE)="HAP","Yes",""))
A212: =IF(A211="","",IF(A211+1>'6. Pollutant Emissions - MB'!$J$1,"",A211+1)) | B212: =IF(A212="","",INDEX('6. Pollutant Emissions - MB'!$I$9:$I$284,MATCH(A212,'6. Pollutant Emissions - MB'!$J$9:$J$284,0),1)) | C212: =IF(A212="","",VLOOKUP(B212,'DEQ TAC List'!$A$3:$C$609,2,FALSE)) | D212: =IF(A212="","",VLOOKUP(B212,'DEQ TAC List'!$A$3:$C$609,3,FALSE)) | E212: =IF(A212="","",SUMIF('6. Pollutant Emissions - MB'!$I$9:$I$284,'7. MB Summary'!B212,'6. Pollutant Emissions - MB'!$H$9:$H$284)) | F212: =IF(A212="","",IF(VLOOKUP(B212,'DEQ TAC List'!$A$3:$F$609,4,FALSE)="HAP","Yes",""))
A213: =IF(A212="","",IF(A212+1>'6. Pollutant Emissions - MB'!$J$1,"",A212+1)) | B213: =IF(A213="","",INDEX('6. Pollutant Emissions - MB'!$I$9:$I$284,MATCH(A213,'6. Pollutant Emissions - MB'!$J$9:$J$284,0),1)) | C213: =IF(A213="","",VLOOKUP(B213,'DEQ TAC List'!$A$3:$C$609,2,FALSE)) | D213: =IF(A213="","",VLOOKUP(B213,'DEQ TAC List'!$A$3:$C$609,3,FALSE)) | E213: =IF(A213="","",SUMIF('6. Pollutant Emissions - MB'!$I$9:$I$284,'7. MB Summary'!B213,'6. Pollutant Emissions - MB'!$H$9:$H$284)) | F213: =IF(A213="","",IF(VLOOKUP(B213,'DEQ TAC List'!$A$3:$F$609,4,FALSE)="HAP","Yes",""))
A214: =IF(A213="","",IF(A213+1>'6. Pollutant Emissions - MB'!$J$1,"",A213+1)) | B214: =IF(A214="","",INDEX('6. Pollutant Emissions - MB'!$I$9:$I$284,MATCH(A214,'6. Pollutant Emissions - MB'!$J$9:$J$284,0),1)) | C214: =IF(A214="","",VLOOKUP(B214,'DEQ TAC List'!$A$3:$C$609,2,FALSE)) | D214: =IF(A214="","",VLOOKUP(B214,'DEQ TAC List'!$A$3:$C$609,3,FALSE)) | E214: =IF(A214="","",SUMIF('6. Pollutant Emissions - MB'!$I$9:$I$284,'7. MB Summary'!B214,'6. Pollutant Emissions - MB'!$H$9:$H$284)) | F214: =IF(A214="","",IF(VLOOKUP(B214,'DEQ TAC List'!$A$3:$F$609,4,FALSE)="HAP","Yes",""))
A215: =IF(A214="","",IF(A214+1>'6. Pollutant Emissions - MB'!$J$1,"",A214+1)) | B215: =IF(A215="","",INDEX('6. Pollutant Emissions - MB'!$I$9:$I$284,MATCH(A215,'6. Pollutant Emissions - MB'!$J$9:$J$284,0),1)) | C215: =IF(A215="","",VLOOKUP(B215,'DEQ TAC List'!$A$3:$C$609,2,FALSE)) | D215: =IF(A215="","",VLOOKUP(B215,'DEQ TAC List'!$A$3:$C$609,3,FALSE)) | E215: =IF(A215="","",SUMIF('6. Pollutant Emissions - MB'!$I$9:$I$284,'7. MB Summary'!B215,'6. Pollutant Emissions - MB'!$H$9:$H$284)) | F215: =IF(A215="","",IF(VLOOKUP(B215,'DEQ TAC List'!$A$3:$F$609,4,FALSE)="HAP","Yes",""))
A216: =IF(A215="","",IF(A215+1>'6. Pollutant Emissions - MB'!$J$1,"",A215+1)) | B216: =IF(A216="","",INDEX('6. Pollutant Emissions - MB'!$I$9:$I$284,MATCH(A216,'6. Pollutant Emissions - MB'!$J$9:$J$284,0),1)) | C216: =IF(A216="","",VLOOKUP(B216,'DEQ TAC List'!$A$3:$C$609,2,FALSE)) | D216: =IF(A216="","",VLOOKUP(B216,'DEQ TAC List'!$A$3:$C$609,3,FALSE)) | E216: =IF(A216="","",SUMIF('6. Pollutant Emissions - MB'!$I$9:$I$284,'7. MB Summary'!B216,'6. Pollutant Emissions - MB'!$H$9:$H$284)) | F216: =IF(A216="","",IF(VLOOKUP(B216,'DEQ TAC List'!$A$3:$F$609,4,FALSE)="HAP","Yes",""))
A217: =IF(A216="","",IF(A216+1>'6. Pollutant Emissions - MB'!$J$1,"",A216+1)) | B217: =IF(A217="","",INDEX('6. Pollutant Emissions - MB'!$I$9:$I$284,MATCH(A217,'6. Pollutant Emissions - MB'!$J$9:$J$284,0),1)) | C217: =IF(A217="","",VLOOKUP(B217,'DEQ TAC List'!$A$3:$C$609,2,FALSE)) | D217: =IF(A217="","",VLOOKUP(B217,'DEQ TAC List'!$A$3:$C$609,3,FALSE)) | E217: =IF(A217="","",SUMIF('6. Pollutant Emissions - MB'!$I$9:$I$284,'7. MB Summary'!B217,'6. Pollutant Emissions - MB'!$H$9:$H$284)) | F217: =IF(A217="","",IF(VLOOKUP(B217,'DEQ TAC List'!$A$3:$F$609,4,FALSE)="HAP","Yes",""))
A218: =IF(A217="","",IF(A217+1>'6. Pollutant Emissions - MB'!$J$1,"",A217+1)) | B218: =IF(A218="","",INDEX('6. Pollutant Emissions - MB'!$I$9:$I$284,MATCH(A218,'6. Pollutant Emissions - MB'!$J$9:$J$284,0),1)) | C218: =IF(A218="","",VLOOKUP(B218,'DEQ TAC List'!$A$3:$C$609,2,FALSE)) | D218: =IF(A218="","",VLOOKUP(B218,'DEQ TAC List'!$A$3:$C$609,3,FALSE)) | E218: =IF(A218="","",SUMIF('6. Pollutant Emissions - MB'!$I$9:$I$284,'7. MB Summary'!B218,'6. Pollutant Emissions - MB'!$H$9:$H$284)) | F218: =IF(A218="","",IF(VLOOKUP(B218,'DEQ TAC List'!$A$3:$F$609,4,FALSE)="HAP","Yes",""))
A219: =IF(A218="","",IF(A218+1>'6. Pollutant Emissions - MB'!$J$1,"",A218+1)) | B219: =IF(A219="","",INDEX('6. Pollutant Emissions - MB'!$I$9:$I$284,MATCH(A219,'6. Pollutant Emissions - MB'!$J$9:$J$284,0),1)) | C219: =IF(A219="","",VLOOKUP(B219,'DEQ TAC List'!$A$3:$C$609,2,FALSE)) | D219: =IF(A219="","",VLOOKUP(B219,'DEQ TAC List'!$A$3:$C$609,3,FALSE)) | E219: =IF(A219="","",SUMIF('6. Pollutant Emissions - MB'!$I$9:$I$284,'7. MB Summary'!B219,'6. Pollutant Emissions - MB'!$H$9:$H$284)) | F219: =IF(A219="","",IF(VLOOKUP(B219,'DEQ TAC List'!$A$3:$F$609,4,FALSE)="HAP","Yes",""))
A220: =IF(A219="","",IF(A219+1>'6. Pollutant Emissions - MB'!$J$1,"",A219+1)) | B220: =IF(A220="","",INDEX('6. Pollutant Emissions - MB'!$I$9:$I$284,MATCH(A220,'6. Pollutant Emissions - MB'!$J$9:$J$284,0),1)) | C220: =IF(A220="","",VLOOKUP(B220,'DEQ TAC List'!$A$3:$C$609,2,FALSE)) | D220: =IF(A220="","",VLOOKUP(B220,'DEQ TAC List'!$A$3:$C$609,3,FALSE)) | E220: =IF(A220="","",SUMIF('6. Pollutant Emissions - MB'!$I$9:$I$284,'7. MB Summary'!B220,'6. Pollutant Emissions - MB'!$H$9:$H$284)) | F220: =IF(A220="","",IF(VLOOKUP(B220,'DEQ TAC List'!$A$3:$F$609,4,FALSE)="HAP","Yes",""))
A221: =IF(A220="","",IF(A220+1>'6. Pollutant Emissions - MB'!$J$1,"",A220+1)) | B221: =IF(A221="","",INDEX('6. Pollutant Emissions - MB'!$I$9:$I$284,MATCH(A221,'6. Pollutant Emissions - MB'!$J$9:$J$284,0),1)) | C221: =IF(A221="","",VLOOKUP(B221,'DEQ TAC List'!$A$3:$C$609,2,FALSE)) | D221: =IF(A221="","",VLOOKUP(B221,'DEQ TAC List'!$A$3:$C$609,3,FALSE)) | E221: =IF(A221="","",SUMIF('6. Pollutant Emissions - MB'!$I$9:$I$284,'7. MB Summary'!B221,'6. Pollutant Emissions - MB'!$H$9:$H$284)) | F221: =IF(A221="","",IF(VLOOKUP(B221,'DEQ TAC List'!$A$3:$F$609,4,FALSE)="HAP","Yes",""))
... A302: =IF(A301="","",IF(A301+1>'6. Pollutant Emissions - MB'!$J$1,"",A301+1)) | B302: =IF(A302="","",INDEX('6. Pollutant Emissions - MB'!$I$9:$I$284,MATCH(A302,'6. Pollutant Emissions - MB'!$J$9:$J$284,0),1)) | C302: =IF(A302="","",VLOOKUP(B302,'DEQ TAC List'!$A$3:$C$609,2,FALSE)) | D302: =IF(A302="","",VLOOKUP(B302,'DEQ TAC List'!$A$3:$C$609,3,FALSE)) | E302: =IF(A302="","",SUMIF('6. Pollutant Emissions - MB'!$I$9:$I$284,'7. MB Summary'!B302,'6. Pollutant Emissions - MB'!$H$9:$H$284)) | F302: =IF(A302="","",IF(VLOOKUP(B302,'DEQ TAC List'!$A$3:$F$609,4,FALSE)="HAP","Yes",""))

Sheet DEQ TAC List
A1: ="2023 ATEI Form - Version "&version_number&" "&version_date -> 2023 ATEI Form - Version 1.2 5/11/2026 | L1: TAC = Oregon recognized Toxic Air Contaminant | M1: From OAR 340-247-0020 | N1: “Toxic air contaminant” means an air pollutant that has been determined by the EQC to cause, or reasonably be anticipated to cause, adverse effects to human health and is listed in OAR 340-247-8010 Table 1
A2: DEQ ID | B2: CASRN | C2: Chemical Name | D2: Alternate Name(s) | E2: Grouping | F2: HAP | G2: VOC | H2: PBT | I2: RBC | J2: ref num | L2: HAP = EPA recognized Hazardous Air Pollutant | M2: See EPA website - HAPs | N2: "Hazardous air pollutants, also known as toxic air pollutants or air toxics, are those pollutants that are known or suspected to cause cancer or other serious health effects, such as reproductive effects or birth defects, or adverse environmental effects."
A3: 115 | B3: 630-20-6 | C3: 1,1,1,2-Tetrachloroethane | G3: VOC | I3: Yes | J3: 1
A4: 245 | B4: 811-97-2 | C4: 1,1,1,2-Tetrafluoroethane | D4: HFC-134a, R-134a | I4: Yes | J4: 2
A5: 326 | B5: 71-55-6 | C5: 1,1,1-Trichloroethane (methyl chloroform) | F5: HAP | G5: VOC | I5: Yes | J5: 3
A6: 594 | B6: 79-34-5 | C6: 1,1,2,2-Tetrachloroethane | F6: HAP | G6: VOC | I6: Yes | J6: 4
A7: 607 | B7: 79-00-5 | C7: 1,1,2-Trichloroethane (vinyl trichloride) | F7: HAP | G7: VOC | I7: Yes | J7: 5
A8: 193 | B8: 75-34-3 | C8: 1,1-Dichloroethane (ethylidene dichloride) | F8: HAP | G8: VOC | I8: Yes | J8: 6
A9: 244 | B9: 75-37-6 | C9: 1,1-Difluoroethane | D9: HFC-152a, R-152a | I9: Yes | J9: 7
A10: 212 | B10: 57-14-7 | C10: 1,1-Dimethylhydrazine | F10: HAP | G10: VOC | I10: Yes | J10: 8
A11: 546 | B11: 67562-39-4 | C11: 1,2,3,4,6,7,8-Heptachlorodibenzofuran (HpCDF) | E11: PCDF | F11: HAP | G11: VOC | H11: PBT | I11: Yes | J11: 9
A12: 532 | B12: 35822-46-9 | C12: 1,2,3,4,6,7,8-Heptachlorodibenzo-p-dioxin (HpCDD) | E12: PCDD | F12: HAP | G12: VOC | H12: PBT | I12: Yes | J12: 10
A13: 547 | B13: 55673-89-7 | C13: 1,2,3,4,7,8,9-Heptachlorodibenzofuran (HpCDF) | E13: PCDF | F13: HAP | G13: VOC | H13: PBT | I13: Yes | J13: 11
A14: 542 | B14: 70648-26-9 | C14: 1,2,3,4,7,8-Hexachlorodibenzofuran (HxCDF) | E14: PCDF | F14: HAP | G14: VOC | H14: PBT | I14: Yes | J14: 12
A15: 529 | B15: 39227-28-6 | C15: 1,2,3,4,7,8-Hexachlorodibenzo-p-dioxin (HxCDD) | E15: PCDD | F15: HAP | G15: VOC | H15: PBT | I15: Yes | J15: 13
A16: 543 | B16: 57117-44-9 | C16: 1,2,3,6,7,8-Hexachlorodibenzofuran (HxCDF) | E16: PCDF | F16: HAP | G16: VOC | H16: PBT | I16: Yes | J16: 14
A17: 530 | B17: 57653-85-7 | C17: 1,2,3,6,7,8-Hexachlorodibenzo-p-dioxin (HxCDD) | E17: PCDD | F17: HAP | G17: VOC | H17: PBT | I17: Yes | J17: 15
A18: 544 | B18: 72918-21-9 | C18: 1,2,3,7,8,9-Hexachlorodibenzofuran (HxCDF) | E18: PCDF | F18: HAP | G18: VOC | H18: PBT | I18: Yes | J18: 16
A19: 531 | B19: 19408-74-3 | C19: 1,2,3,7,8,9-Hexachlorodibenzo-p-dioxin (HxCDD) | E19: PCDD | F19: HAP | G19: VOC | H19: PBT | I19: Yes | J19: 17
A20: 540 | B20: 57117-41-6 | C20: 1,2,3,7,8-Pentachlorodibenzofuran (PeCDF) | E20: PCDF | F20: HAP | G20: VOC | H20: PBT | I20: Yes | J20: 18
A21: 528 | B21: 40321-76-4 | C21: 1,2,3,7,8-Pentachlorodibenzo-p-dioxin (PeCDD) | E21: PCDD | F21: HAP | G21: VOC | H21: PBT | I21: Yes | J21: 19
A22: 609 | B22: 96-18-4 | C22: 1,2,3-Trichloropropane | G22: VOC | I22: Yes | J22: 20
A23: 613 | B23: 526-73-8 | C23: 1,2,3-Trimethylbenzene | I23: Yes | J23: 21
A24: 113 | B24: 120-82-1 | C24: 1,2,4-Trichlorobenzene | F24: HAP | G24: VOC | J24: 22
A25: 614 | B25: 95-63-6 | C25: 1,2,4-Trimethylbenzene | I25: Yes | J25: 23
A26: 190 | B26: 96-12-8 | C26: 1,2-Dibromo-3-chloropropane (DBCP) | F26: HAP | G26: VOC | I26: Yes | J26: 24
A27: 110 | B27: 95-50-1 | C27: 1,2-Dichlorobenzene | D27: o-Dichlorobenzene | G27: VOC | J27: 25
A28: 195 | B28: 78-87-5 | C28: 1,2-Dichloropropane (propylene dichloride) | F28: HAP | G28: VOC | I28: Yes | J28: 26
A29: 335 | B29: 540-73-8 | C29: 1,2-Dimethylhydrazine | J29: 27
A30: 222 | B30: 122-66-7 | C30: 1,2-Diphenylhydrazine (hydrazobenzene) | D30: Hydrazobenzene | F30: HAP | G30: VOC | I30: Yes | J30: 28
A31: 226 | B31: 106-88-7 | C31: 1,2-Epoxybutane | F31: HAP | G31: VOC | I31: Yes | J31: 29
A32: 564 | B32: 75-55-8 | C32: 1,2-Propyleneimine (2-methylaziridine) | F32: HAP | G32: VOC | J32: 30
A33: 615 | B33: 108-67-8 | C33: 1,3,5-Trimethylbenzene | G33: VOC | I33: Yes | J33: 31
A34: 75 | B34: 106-99-0 | C34: 1,3-Butadiene | F34: HAP | G34: VOC | I34: Yes | J34: 32
A35: 111 | B35: 541-73-1 | C35: 1,3-Dichlorobenzene | D35: m-Dichlorobenzene | G35: VOC | J35: 33
A36: 196 | B36: 542-75-6 | C36: 1,3-Dichloropropene | D36: 1,3-Dichloropropylene | F36: HAP | G36: VOC | I36: Yes | J36: 34
A37: 557 | B37: 1120-71-4 | C37: 1,3-Propane sultone | F37: HAP | G37: VOC | I37: Yes | J37: 35
A38: 220 | B38: 123-91-1 | C38: 1,4-Dioxane | D38: 1,4-Diethylene dioxide | F38: HAP | G38: VOC | I38: Yes | J38: 36
A39: 437 | B39: 42397-64-8 | C39: 1,6-Dinitropyrene | E39: PAH-Derivative | F39: HAP | G39: VOC | H39: PBT | J39: 37
A40: 438 | B40: 42397-65-9 | C40: 1,8-Dinitropyrene | E40: PAH-Derivative | F40: HAP | G40: VOC | H40: PBT | J40: 38
A41: 385 | B41: 555-84-0 | C41: 1-[(5-Nitrofurfurylidene)-amino]-2-imidazolidinone | J41: 39
A42: 20 | B42: 82-28-0 | C42: 1-Amino-2-methylanthraquinone | E42: Polycyclic Organic Matter | G42: VOC | J42: 40
A43: 73 | B43: 106-94-5 | C43: 1-Bromopropane (n-propyl bromide) | D43: nPB | G43: VOC | I43: Yes | J43: 41
A44: 117 | B44: 75-68-3 | C44: 1-Chloro-1,1-difluoroethane | D44: R-142b | I44: Yes | J44: 42
A45: 343 | B45: 832-69-9 | C45: 1-Methylphenanthrene | F45: HAP | G45: VOC | J45: 43
A46: 344 | B46: 2381-21-7 | C46: 1-Methylpyrene | F46: HAP | G46: VOC | J46: 44
A47: 444 | B47: 5522-43-0 | C47: 1-Nitropyrene | E47: PAH-Derivative | F47: HAP | G47: VOC | H47: PBT | J47: 45
A48: 616 | B48: 540-84-1 | C48: 2,2,4-Trimethylpentane | F48: HAP | G48: VOC | J48: 46
A49: 545 | B49: 60851-34-5 | C49: 2,3,4,6,7,8-Hexachlorodibenzofuran (HxCDF) | E49: PCDF | F49: HAP | G49: VOC | H49: PBT | I49: Yes | J49: 47
A50: 128 | B50: 58-90-2 | C50: 2,3,4,6-Tetrachlorophenol | J50: 48
A51: 541 | B51: 57117-31-4 | C51: 2,3,4,7,8-Pentachlorodibenzofuran (PeCDF) | E51: PCDF | F51: HAP | G51: VOC | H51: PBT | I51: Yes | J51: 49
A52: 539 | B52: 51207-31-9 | C52: 2,3,7,8-Tetrachlorodibenzofuran (TcDF) | E52: PCDF | F52: HAP | G52: VOC | H52: PBT | I52: Yes | J52: 50
A53: 527 | B53: 1746-01-6 | C53: 2,3,7,8-Tetrachlorodibenzo-p-dioxin (TCDD) | E53: PCDD | F53: HAP | G53: VOC | H53: PBT | I53: Yes | J53: 51
A54: 191 | B54: 96-13-9 | C54: 2,3-Dibromo-1-propanol | D54: 2,3-Dibromopropanol | J54: 52
A55: 125 | B55: 95-95-4 | C55: 2,4,5-Trichlorophenol | F55: HAP | G55: VOC | J55: 53
A56: 126 | B56: 88-06-2 | C56: 2,4,6-Trichlorophenol | F56: HAP | G56: VOC | I56: Yes | J56: 54
A57: 171 | B57: 53-19-0 | C57: 2,4'-DDD (2,4'-dichlorodiphenyldichloroethane) | D57: o,p'-DDD, Mitotane | J57: 55
A58: 637 | B58: 3424-82-6 | C58: 2,4'-DDE (2,4'-dichlorodiphenyldichloroethene) | J58: 56
A59: 174 | B59: 789-02-6 | C59: 2,4'-DDT (2,4'-dichlorodiphenyltrichloroethane) | D59: o,p'-DDT | J59: 57
A60: 183 | B60: 615-05-4 | C60: 2,4-Diaminoanisole | I60: Yes | J60: 58
A61: 15 | B61: 39156-41-7 | C61: 2,4-Diaminoanisole sulfate | J61: 59
A62: 184 | B62: 95-80-7 | C62: 2,4-Diaminotoluene (2,4-toluene diamine) | F62: HAP | G62: VOC | I62: Yes | J62: 60
A63: 123 | B63: 120-83-2 | C63: 2,4-Dichlorophenol | J63: 61
A64: 216 | B64: 51-28-5 | C64: 2,4-Dinitrophenol | F64: HAP | G64: VOC | J64: 62
A65: 218 | B65: 121-14-2 | C65: 2,4-Dinitrotoluene | F65: HAP | G65: VOC | I65: Yes | J65: 63
A66: 219 | B66: 606-20-2 | C66: 2,6-Dinitrotoluene | J66: 64
A67: 433 | B67: 53-96-3 | C67: 2-Acetylaminofluorene | E67: PAH-Derivative | F67: HAP | G67: VOC | H67: PBT | J67: 65
A68: 19 | B68: 68006-83-7 | C68: 2-Amino-3-methyl-9H pyrido[2,3-b]indole | J68: 66
A69: 21 | B69: 76180-96-6 | C69: 2-Amino-3-methylimidazo-[4,5-f]quinoline | J69: 67
A70: 22 | B70: 712-68-5 | C70: 2-Amino-5-(5-nitro-2-furyl)-1,3,4-thiadiazole | D70: Triafur | J70: 68
A71: 434 | B71: 117-79-3 | C71: 2-Aminoanthraquinone | E71: PAH-Derivative | G71: VOC | H71: PBT | J71: 69
A72: 333 | B72: 78-93-3 | C72: 2-Butanone (methyl ethyl ketone) | D72: MEK | I72: Yes | J72: 70
A73: 104 | B73: 532-27-4 | C73: 2-Chloroacetophenone | F73: HAP | G73: VOC | I73: Yes | J73: 71
A74: 122 | B74: 95-57-8 | C74: 2-Chlorophenol | D74: o-Chlorophenol | J74: 72
A75: 427 | B75: 91-57-6 | C75: 2-Methyl naphthalene | E75: PAH | F75: HAP | G75: VOC | H75: PBT | J75: 73
A76: 341 | B76: 129-15-7 | C76: 2-Methyl-1-nitroanthraquinone | J76: 74
A77: 338 | B77: 75-86-5 | C77: 2-Methyllactonitrile (acetone cyanohydrin) | J77: 75
A78: 345 | B78: 109-06-8 | C78: 2-Methylpyridine | J78: 76
A79: 363 | B79: 91-59-8 | C79: 2-Naphthylamine | E79: Polycyclic Organic Matter | G79: VOC | J79: 77
A80: 443 | B80: 607-57-8 | C80: 2-Nitrofluorene | E80: PAH-Derivative | F80: HAP | G80: VOC | H80: PBT | J80: 78
A81: 389 | B81: 79-46-9 | C81: 2-Nitropropane | F81: HAP | G81: VOC | I81: Yes | J81: 79
A82: 502 | B82: 90-43-7 | C82: 2-Phenylphenol | E82: Polycyclic Organic Matter | G82: VOC | J82: 80
A83: 192 | B83: 91-94-1 | C83: 3,3'-Dichlorobenzidine | F83: HAP | G83: VOC | I83: Yes | J83: 81
A84: 206 | B84: 119-90-4 | C84: 3,3'-Dimethoxybenzidine | F84: HAP | G84: VOC | J84: 82
A85: 209 | B85: 119-93-7 | C85: 3,3'-Dimethylbenzidine (o-tolidine) | F85: HAP | G85: VOC | J85: 83
A86: 18 | B86: 6109-97-3 | C86: 3-Amino-9-ethylcarbazole hydrochloride | J86: 84
A87: 120 | B87: 563-47-3 | C87: 3-Chloro-2-methyl-1-propene | G87: VOC | J87: 85
A88: 439 | B88: 56-49-5 | C88: 3-Methylcholanthrene | E88: PAH-Derivative | F88: HAP | G88: VOC | H88: PBT | J88: 86
A89: 170 | B89: 72-54-8 | C89: 4,4'-DDD (4,4'-dichlorodiphenyldichloroethane) | D89: p,p'-DDD, Rothane | J89: 87
A90: 173 | B90: 72-55-9 | C90: 4,4'-DDE (4,4'-dichlorodiphenyldichloroethene) | D90: p,p'-DDE | F90: HAP | G90: VOC | J90: 88
A91: 17 | B91: 101-80-4 | C91: 4,4'-Diaminodiphenyl ether | D91: 4,4'-Oxydianiline | E91: Polycyclic Organic Matter | G91: VOC | J91: 89
A92: 303 | B92: 80-05-7 | C92: 4,4'-Isopropylidenediphenol (bisphenol A) | E92: Polycyclic Organic Matter | G92: VOC | J92: 90
A93: 327 | B93: 101-14-4 | C93: 4,4'-Methylene bis(2-chloroaniline) (MOCA) | F93: HAP | G93: VOC | I93: Yes | J93: 91
A94: 331 | B94: 838-88-0 | C94: 4,4'-Methylene bis(2-methylaniline) | J94: 92
A95: 332 | B95: 101-61-1 | C95: 4,4'-Methylene bis(N,N'-dimethyl)aniline | D95: Michler's base | E95: Polycyclic Organic Matter | G95: VOC | J95: 93
A96: 329 | B96: 101-77-9 | C96: 4,4'-Methylenedianiline (and its dichloride) | F96: HAP | G96: VOC | I96: Yes | J96: 94
A97: 330 | B97: 13552-44-8 | C97: 4,4'-Methylenedianiline dihydrochloride | J97: 95
A98: 597 | B98: 139-65-1 | C98: 4,4'-Thiodianiline | E98: Polycyclic Organic Matter | G98: VOC | J98: 96
A99: 215 | B99: 534-52-1 | C99: 4,6-Dinitro-o-cresol (and salts) | F99: HAP | G99: VOC | J99: 97
A100: 24 | B100: 92-67-1 | C100: 4-Aminobiphenyl | F100: HAP | G100: VOC | J100: 98
...

Sheet versions
B3: Version 1.0 and 1.1
B4: Added new Tab 4, EF Summary
B5: Updated numbers on subsequent tabs after new Tab 4, and updated numbering on "Instructions"
B6: Changed "DEQ" for "LRAPA"
B7: Changed formatting so numbers will show comas and decimals where appropriate, and not show decimal places when an integer is entered.
B8: Added notes and extra columns to the DEQ TAC list tab (also renamed tab to DEQ TAC list)
B9: Added column to tabs to indicate which pollutants have RBCs
B10: Changed source ID from XX-XXXX to 20-XXXX, since all LRAPA sources start with "20"
B14: version 1.2
B15: Instruction Tab:
B16: Ran spell check
B17: Added some abbreviations
... B24: Added link to LRAPA ATEI webpage

Sheet constants
A1: Constants used elsewhere in the workbook
A3: | | B3: delimiter
A4: EU ID not recognized | B4: Worksheet 3 matching error message
A5: EU ID cannot be blank | B5: Worksheet 3 EU ID left blank but other data filled in
A6: EU ID or Material Name not recognized | B6: Worksheet 5 matching error message
A7: EU ID and Material Name cannot be blank | B7: Worksheet 3 EU ID or Material Name left blank but other data filled in
A9: 5/11/2026 | B9: version date
A10: 1.2 | B10: version number
A14: FORM REVISION HISTORY
A15: 2026 ATEI Version Number | B15: Description of Update
A16: 1 | B16: Initial version posted online
